BEGIN:VCALENDAR
VERSION:2.0
PRODID:goabase.net iCalendar 2026
X-WR-CALNAME:goabase.net - parties and people 
X-WR-TIMEZONE;VALUE=TEXT:Europe/Berlin
CALSCALE:GREGORIAN
BEGIN:VTIMEZONE
TZID:Europe/Berlin
X-LIC-LOCATION:Europe/Berlin
BEGIN:DAYLIGHT
TZOFFSETFROM:+0100
TZOFFSETTO:+0200
TZNAME:CEST
DTSTART:19700329T020000
RRULE:FREQ=YEARLY;INTERVAL=1;BYDAY=-1SU;BYMONTH=3
END:DAYLIGHT
BEGIN:STANDARD
TZOFFSETFROM:+0200
TZOFFSETTO:+0100
TZNAME:CET
DTSTART:19701025T030000
RRULE:FREQ=YEARLY;INTERVAL=1;BYDAY=-1SU;BYMONTH=10
END:STANDARD
END:VTIMEZONE

BEGIN:VEVENT
UID:5d65159230f5fded8d80127c95b8f7c7
DTSTART:20241002T220000
DTEND:20241003T120000
LOCATION:Easter Island [Chile]
GEO:-27.116670000;-109.366670000
DTSTAMP:20241002T220000Z
SUMMARY:Eclipse Gathering Rapanui
DESCRIPTION:Line Up: PRONTO LINE UP ARTISTAS Y EXPERIENCIA🔥 Location:
  #EclipseGathering #RapaNui, Rapa Nui, 2770000 Easter Island
URL:https://www.goabase.net/es/party/eclipse-gathering-rapanui/113394
CATEGORIES:Psytrance Event
CLASS:PUBLIC
END:VEVENT

BEGIN:VEVENT
UID:11f6d6a3afdb951a8184cc13714a6fe6
DTSTART:20190630T220000
DTEND:20190702T190000
LOCATION:Ovalle [Chile]
GEO:0.000000000;0.000000000
DTSTAMP:20190630T220000Z
SUMMARY:Solar Eclipse total 2019 Rio Hurtado Chile
DESCRIPTION:Line Up: Psuchedelic Trance - Goa Trance- Techno - Raggae - Dub -
  Chill Out
URL:https://www.goabase.net/es/party/solar-eclipse-total-2019-rio-hurtado-chile/103941
CATEGORIES:Psytrance Event
CLASS:PUBLIC
END:VEVENT

END:VCALENDAR