BEGIN:VCALENDAR
VERSION:2.0
PRODID:goabase.net iCalendar 2026
X-WR-CALNAME:goabase.net - parties and people 
X-WR-TIMEZONE;VALUE=TEXT:Europe/Berlin
CALSCALE:GREGORIAN
BEGIN:VTIMEZONE
TZID:Europe/Berlin
X-LIC-LOCATION:Europe/Berlin
BEGIN:DAYLIGHT
TZOFFSETFROM:+0100
TZOFFSETTO:+0200
TZNAME:CEST
DTSTART:19700329T020000
RRULE:FREQ=YEARLY;INTERVAL=1;BYDAY=-1SU;BYMONTH=3
END:DAYLIGHT
BEGIN:STANDARD
TZOFFSETFROM:+0200
TZOFFSETTO:+0100
TZNAME:CET
DTSTART:19701025T030000
RRULE:FREQ=YEARLY;INTERVAL=1;BYDAY=-1SU;BYMONTH=10
END:STANDARD
END:VTIMEZONE

BEGIN:VEVENT
UID:c42156fb496993e218cfa128c44e1147
DTSTART:20190816T200000
DTEND:20190818T150000
LOCATION:A veiga das meas (vilardevo… [Spain]
GEO:41.916130000;-7.390460000
DTSTAMP:20190816T200000Z
SUMMARY:H.O.M.E 5.0 ( Open Air Psychedelic Experience)
DESCRIPTION:Line Up: Viernes 16 – Sabado 17 20:00h-22:00h - Chesire ́s Cat (GOA
  Trance) 22:00h-00:00h - Agarrones Crew (Full On-Progressive P…
URL:https://www.goabase.net/es/party/home-50-open-air-psychedelic-experience/104329
CATEGORIES:Psytrance Event
CLASS:PUBLIC
END:VEVENT

BEGIN:VEVENT
UID:7488e6eb44c61b16394423de7ab00b9d
DTSTART:20180817T190000
DTEND:20180819T150000
LOCATION:A veiga das meas (vilardevo… [Spain]
GEO:41.916130000;-7.390460000
DTSTAMP:20180817T190000Z
SUMMARY:H.O.M.E 4.0 ( Open Air Psychedelic Experience)
DESCRIPTION:Line Up: Line Up VIERNES: - Igor. B (Breaks) ----- 19:00 - 20:00 -
  Southear (Techno) -----…
URL:https://www.goabase.net/es/party/home-40-open-air-psychedelic-experience/100760
CATEGORIES:Psytrance Event
CLASS:PUBLIC
END:VEVENT

BEGIN:VEVENT
UID:8e78cbdb002d8c8c3c8a9e448add2f0f
DTSTART:20170714T230000
DTEND:20170715T060000
LOCATION:Verín [Spain]
GEO:41.814384500;-7.422627900
DTSTAMP:20170714T230000Z
SUMMARY:TranscenDance Project pres. Eioua, Flextool, Stropharia Cubensis
DESCRIPTION:Line Up: FLEXTOOL (PT) EIOUA (GZ) STROPHARIA CUBENSIS (GZ) THE
  METAMORPHOSIS (GZ)
URL:https://www.goabase.net/es/party/transcendance-project-pres-eioua-flextool-stropharia-cubensis/96011
CATEGORIES:Psytrance Event
CLASS:PUBLIC
END:VEVENT

BEGIN:VEVENT
UID:5c68dcb023523ecc6499014196deb0f5
DTSTART:20160722T200000
DTEND:20160724T160000
LOCATION:Veiga das Meas. (Vilardevos… [Spain]
GEO:41.916130000;-7.390460000
DTSTAMP:20160722T200000Z
SUMMARY:Transcendance Project presenta- H.O.M.E 3.0 Psytrance Experience
DESCRIPTION:Line Up: IMOX MAYA (Guatemala) Prototype (Galiza) Blue Bubble (ISRAEL)
  London (Galiza) Southear (Galiza) Cheshire´s Cat (Galiza)…
URL:https://www.goabase.net/es/party/transcendance-project-presenta-home-30-psytrance-experience/89910
CATEGORIES:Psytrance Event
CLASS:PUBLIC
END:VEVENT

BEGIN:VEVENT
UID:33d6f39a023982f65a5645208f0250d4
DTSTART:20150404T230000
DTEND:20150405T090000
LOCATION:Verín, (Ourense) [Spain]
GEO:41.942652650;-7.432456740
DTSTAMP:20150404T230000Z
SUMMARY:TRANSCENDANCE PROJECT PSYTRANCE EXPERIENCE  (free party!!!!)
DESCRIPTION:Line Up: - Eioua - Cheshire´s cat - Stropharia Cubensis
URL:https://www.goabase.net/es/party/transcendance-project-psytrance-experience-free-party/84053
CATEGORIES:Psytrance Event
CLASS:PUBLIC
END:VEVENT

END:VCALENDAR