BEGIN:VCALENDAR
VERSION:2.0
PRODID:goabase.net iCalendar 2026
X-WR-CALNAME:goabase.net - parties and people 
X-WR-TIMEZONE;VALUE=TEXT:Europe/Berlin
CALSCALE:GREGORIAN
BEGIN:VTIMEZONE
TZID:Europe/Berlin
X-LIC-LOCATION:Europe/Berlin
BEGIN:DAYLIGHT
TZOFFSETFROM:+0100
TZOFFSETTO:+0200
TZNAME:CEST
DTSTART:19700329T020000
RRULE:FREQ=YEARLY;INTERVAL=1;BYDAY=-1SU;BYMONTH=3
END:DAYLIGHT
BEGIN:STANDARD
TZOFFSETFROM:+0200
TZOFFSETTO:+0100
TZNAME:CET
DTSTART:19701025T030000
RRULE:FREQ=YEARLY;INTERVAL=1;BYDAY=-1SU;BYMONTH=10
END:STANDARD
END:VTIMEZONE

BEGIN:VEVENT
UID:1c2a28bdc6f131939663409a4395f668
DTSTART:20161125T230000
DTEND:20161126T100000
LOCATION:Hamburg [Germany]
GEO:53.514101000;9.984073000
DTSTAMP:20161125T230000Z
SUMMARY:OTHERWORLDLY HOLLOW
DESCRIPTION:Line Up: » Alpha - interzone.pa [Hamburg] » Iznogood *LIVE* -
  AudioNerds Records / Cosmic Crew Records / HypridRecords [Bremen]…
URL:https://www.goabase.net/es/party/otherworldly-hollow/91080
CATEGORIES:Psytrance Event
CLASS:PUBLIC
END:VEVENT

BEGIN:VEVENT
UID:8830db491569df445012617e0e602a89
DTSTART:20140131T230000
DTEND:20140201T100000
LOCATION:Bremen [Germany]
GEO:53.080453700;8.813346400
DTSTAMP:20140131T230000Z
SUMMARY:Connecting THE TRIBES: The 3rd Gathering
DESCRIPTION:
URL:https://www.goabase.net/es/party/connecting-the-tribes-the-3rd-gathering/77318
CATEGORIES:Psytrance Event
CLASS:PUBLIC
END:VEVENT

BEGIN:VEVENT
UID:d1932a2d6c903eecf2ea711e18b3bbeb
DTSTART:20140111T230000
DTEND:20140112T120000
LOCATION:Hannover [Germany]
GEO:0.000000000;0.000000000
DTSTAMP:20140111T230000Z
SUMMARY:TAGU Round II
DESCRIPTION:
URL:https://www.goabase.net/es/party/tagu-round-ii/76926
CATEGORIES:Psytrance Event
CLASS:PUBLIC
END:VEVENT

BEGIN:VEVENT
UID:dd2d3a86251e7060c988f93582b98446
DTSTART:20131116T230000
DTEND:20131117T120000
LOCATION:Hannover [Germany]
GEO:0.000000000;0.000000000
DTSTAMP:20131116T230000Z
SUMMARY:TAGU meetz Engel 07
DESCRIPTION:Line Up: Chorea Lux [Landmark Recordings]
URL:https://www.goabase.net/es/party/tagu-meetz-engel-07/76331
CATEGORIES:Psytrance Event
CLASS:PUBLIC
END:VEVENT

BEGIN:VEVENT
UID:0518fac82b7cd54f50b3a446b3eb30b6
DTSTART:20131108T230000
DTEND:20131109T103000
LOCATION:Bremen [Germany]
GEO:0.000000000;0.000000000
DTSTAMP:20131108T230000Z
SUMMARY:Connecting THE TRIBES: Part II
DESCRIPTION:
URL:https://www.goabase.net/es/party/connecting-the-tribes-part-ii/76247
CATEGORIES:Psytrance Event
CLASS:PUBLIC
END:VEVENT

BEGIN:VEVENT
UID:dc91b7f45f8847574bf9ff499c10e669
DTSTART:20131004T230000
DTEND:20131005T100000
LOCATION:Bremen [Germany]
GEO:0.000000000;0.000000000
DTSTAMP:20131004T230000Z
SUMMARY:Connecting The Tribes: The Gathering
DESCRIPTION:Line Up: ★ Zeamoon (Sonic Tickle) [Zenon Records]
URL:https://www.goabase.net/es/party/connecting-the-tribes-the-gathering/75574
CATEGORIES:Psytrance Event
CLASS:PUBLIC
END:VEVENT

BEGIN:VEVENT
UID:7a72c199a965ea62b48460bdd5c77489
DTSTART:20120706T220000
DTEND:20120708T120000
LOCATION:Allersheim - Holzminden [Germany]
GEO:0.000000000;0.000000000
DTSTAMP:20120706T220000Z
SUMMARY:Tannengrund Festival
DESCRIPTION:Line Up: UNDERGROUNDFLOOR: Psychedelic // Progressive // Goa Apsylem &
  Psy`n-tology (Live Gitarre) Chiwu (Monstersound & Rambaza…
URL:https://www.goabase.net/es/festival/tannengrund-festival/66323
CATEGORIES:Psytrance Event
CLASS:PUBLIC
END:VEVENT

BEGIN:VEVENT
UID:f30d18973963e6175389cc50a9848fb3
DTSTART:20110916T220000
DTEND:20110917T180000
LOCATION:Bad Pyrmont - Eichenborn [Germany]
GEO:0.000000000;0.000000000
DTSTAMP:20110916T220000Z
SUMMARY:Waldbash - Summer Never Ends
DESCRIPTION:
URL:https://www.goabase.net/es/party/waldbash-summer-never-ends/62077
CATEGORIES:Psytrance Event
CLASS:PUBLIC
END:VEVENT

END:VCALENDAR