BEGIN:VCALENDAR
VERSION:2.0
PRODID:goabase.net iCalendar 2026
X-WR-CALNAME:goabase.net - parties and people 
X-WR-TIMEZONE;VALUE=TEXT:Europe/Berlin
CALSCALE:GREGORIAN
BEGIN:VTIMEZONE
TZID:Europe/Berlin
X-LIC-LOCATION:Europe/Berlin
BEGIN:DAYLIGHT
TZOFFSETFROM:+0100
TZOFFSETTO:+0200
TZNAME:CEST
DTSTART:19700329T020000
RRULE:FREQ=YEARLY;INTERVAL=1;BYDAY=-1SU;BYMONTH=3
END:DAYLIGHT
BEGIN:STANDARD
TZOFFSETFROM:+0200
TZOFFSETTO:+0100
TZNAME:CET
DTSTART:19701025T030000
RRULE:FREQ=YEARLY;INTERVAL=1;BYDAY=-1SU;BYMONTH=10
END:STANDARD
END:VTIMEZONE

BEGIN:VEVENT
UID:ee72339b306b251b3acdcf580f7a59ac
DTSTART:20100626T190000
DTEND:20100627T070000
LOCATION:BERN - Rathausgasse [Switzerland]
GEO:0.000000000;0.000000000
DTSTAMP:20100626T190000Z
SUMMARY:CYBER@CID - 30 Years fuego astral live 1980-2010
DESCRIPTION:Line Up: ARTISTs : Live Acts SCHÄDELLEUCHTEN ESTEPHONO percussions -
  SCHÄDELLEUCHTEN @ ESTEPHONO PAULA STYLES LIVE - 30 YEARS F…
URL:https://www.goabase.net/es/party/cybercid-30-years-fuego-astral-live-1980-2010/53332
CATEGORIES:Psytrance Event
CLASS:PUBLIC
END:VEVENT

BEGIN:VEVENT
UID:d4f51c47e19783706693775745817b83
DTSTART:20090213T173000
DTEND:20090214T050000
LOCATION:3048 WORBLAUFEN - Bern - CH [Switzerland]
GEO:0.000000000;0.000000000
DTSTAMP:20090213T173000Z
SUMMARY:CYBER CYPHER GOTHIK GOA
DESCRIPTION:
URL:https://www.goabase.net/es/party/cyber-cypher-gothik-goa/43068
CATEGORIES:Psytrance Event
CLASS:PUBLIC
END:VEVENT

BEGIN:VEVENT
UID:27b37e40019b6fefcc3455b30b3111c8
DTSTART:20051031T200000
DTEND:20051031T233000
LOCATION:Bern [Switzerland]
GEO:0.000000000;0.000000000
DTSTAMP:20051031T200000Z
SUMMARY:LEBENSERFAHRUNG HELLSEHEN
DESCRIPTION:Line Up: Estefono Percussion
URL:https://www.goabase.net/es/party/lebenserfahrung-hellsehen/20959
CATEGORIES:Psytrance Event
CLASS:PUBLIC
END:VEVENT

BEGIN:VEVENT
UID:08e3cd9cfbd03f954a0814991567296f
DTSTART:20030322T210000
DTEND:20030323T060000
LOCATION:THUN-selveareal [Switzerland]
GEO:0.000000000;0.000000000
DTSTAMP:20030322T210000Z
SUMMARY:GALAXY SPACE NIGHT
DESCRIPTION:Line Up: LIVE GALAXY SPACE NIGHT -
URL:https://www.goabase.net/es/party/galaxy-space-night/10060
CATEGORIES:Psytrance Event
CLASS:PUBLIC
END:VEVENT

END:VCALENDAR