BEGIN:VCALENDAR
VERSION:2.0
PRODID:goabase.net iCalendar 2026
X-WR-CALNAME:goabase.net - parties and people 
X-WR-TIMEZONE;VALUE=TEXT:Europe/Berlin
CALSCALE:GREGORIAN
BEGIN:VTIMEZONE
TZID:Europe/Berlin
X-LIC-LOCATION:Europe/Berlin
BEGIN:DAYLIGHT
TZOFFSETFROM:+0100
TZOFFSETTO:+0200
TZNAME:CEST
DTSTART:19700329T020000
RRULE:FREQ=YEARLY;INTERVAL=1;BYDAY=-1SU;BYMONTH=3
END:DAYLIGHT
BEGIN:STANDARD
TZOFFSETFROM:+0200
TZOFFSETTO:+0100
TZNAME:CET
DTSTART:19701025T030000
RRULE:FREQ=YEARLY;INTERVAL=1;BYDAY=-1SU;BYMONTH=10
END:STANDARD
END:VTIMEZONE

BEGIN:VEVENT
UID:8b73877ecb041abc19d6128eea8ec17c
DTSTART:20260423T200000
DTEND:20260423T230000
LOCATION:Hamburg [Germany]
GEO:53.600000000;10.000000000
DTSTAMP:20260423T200000Z
SUMMARY:alpha.s crazy sounds
DESCRIPTION:Line Up: GIVE THE PEOPLE, WHAT THEY NEED - GOOD MUSIC ! ***** program
  📡 alpha.… Location: alpha.s flat studios, , Hamburg
URL:https://www.goabase.net/es/party/alphas-crazy-sounds/117320
CATEGORIES:Psytrance Event
CLASS:PUBLIC
END:VEVENT

BEGIN:VEVENT
UID:57fa42ee299028b080bf46e249097d45
DTSTART:20260424T230000
DTEND:20260425T080000
LOCATION:Hamburg [Germany]
GEO:53.600000000;10.000000000
DTSTAMP:20260424T230000Z
SUMMARY:Eins Psy Drei
DESCRIPTION:Line Up: Raven, Marshall Optix, Darbouka, Acid Monky, ChillmaHilmar
  und Blue Libellule Location: Juice Club, Stresemannstraße 204, 22769
  Hamburg
URL:https://www.goabase.net/es/party/eins-psy-drei/117194
CATEGORIES:Psytrance Event
CLASS:PUBLIC
END:VEVENT

BEGIN:VEVENT
UID:7b29b92bc07eb0bfbe72f680479723ff
DTSTART:20260426T200000
DTEND:20260426T230000
LOCATION:Hamburg [Germany]
GEO:53.600000000;10.000000000
DTSTAMP:20260426T200000Z
SUMMARY:alpha.s crazy sounds: darkpsy - psycore - hitech
DESCRIPTION:Line Up: GIVE THE PEOPLE, WHAT THEY NEED - GOOD MUSIC ! ***** program
  📡 alpha.… Location: alpha.s flat studios, , 22419 Hamburg
URL:https://www.goabase.net/es/party/alphas-crazy-sounds-darkpsy-psycore-hitech/117325
CATEGORIES:Psytrance Event
CLASS:PUBLIC
END:VEVENT

BEGIN:VEVENT
UID:f3ec39fe8a814ee0c9316b5529863a64
DTSTART:20260430T200000
DTEND:20260430T230000
LOCATION:Hamburg [Germany]
GEO:53.600000000;10.000000000
DTSTAMP:20260430T200000Z
SUMMARY:alpha.s crazy sounds
DESCRIPTION:Line Up: GIVE THE PEOPLE, WHAT THEY NEED - GOOD MUSIC ! *****
  Location: alpha.s flat studios, , Hamburg
URL:https://www.goabase.net/es/party/alphas-crazy-sounds/117321
CATEGORIES:Psytrance Event
CLASS:PUBLIC
END:VEVENT

BEGIN:VEVENT
UID:ec09a9df19b80f306731595c9a281a5c
DTSTART:20260430T230000
DTEND:20260501T080000
LOCATION:Hamburg [Germany]
GEO:53.600000000;10.000000000
DTSTAMP:20260430T230000Z
SUMMARY:Psy-Spirits & Friends
DESCRIPTION:Line Up: ✨ Liebe Psy-Spirits & Friends ✨ Die Wartezeit bis zur
  nächsten großen Psy-Spirits Party ist dir zu lang, komm vorbei und…
  Location: Juice Club, Stresemannstraße 204, 22769 Hamburg
URL:https://www.goabase.net/es/party/psy-spirits-friends/117375
CATEGORIES:Psytrance Event
CLASS:PUBLIC
END:VEVENT

BEGIN:VEVENT
UID:64f3c7dda04dccd663a1d22ede20fdec
DTSTART:20260502T220000
DTEND:20260503T070000
LOCATION:Hamburg [Germany]
GEO:53.600000000;10.000000000
DTSTAMP:20260502T220000Z
SUMMARY:Goa Galaxy - Temple of the Phoenix w/ BENZOO
DESCRIPTION:Line Up: ★ BENZOO (LIVE) Hamburg – Upward Records, Indian Spirit ★
  DROPNIK (LIVE) Hamburg – Indian Spirit, Loveparade ★ WAYOFDK… Location:
  Catonium, Försterweg 163, 22525 Hamburg
URL:https://www.goabase.net/es/party/goa-galaxy-temple-of-the-phoenix-w-benzoo/116647
CATEGORIES:Psytrance Event
CLASS:PUBLIC
END:VEVENT

BEGIN:VEVENT
UID:1f45ec07f368f1164e8b4686416b48b9
DTSTART:20260509T220000
DTEND:20260510T070000
LOCATION:hamburg [Germany]
GEO:53.600000000;10.000000000
DTSTAMP:20260509T220000Z
SUMMARY:Confusion of Darkness II
DESCRIPTION:Line Up: Darkpsy/Darkcore by Void Sanctuary NAKBA Live Kaius Bactus
  Vaas Alpha Location: Rote Flora, Achidi-John-Platz 1, 20357 hamburg
URL:https://www.goabase.net/es/party/confusion-of-darkness-ii/117337
CATEGORIES:Psytrance Event
CLASS:PUBLIC
END:VEVENT

BEGIN:VEVENT
UID:25a191a2f2f6ace484054a0680a61c46
DTSTART:20260509T220000
DTEND:20260510T080000
LOCATION:Hamburg [Germany]
GEO:53.600000000;10.000000000
DTSTAMP:20260509T220000Z
SUMMARY:CONNY’S B.DAY BASH
DESCRIPTION:Line Up: CONNEXX GINO CELESTIC MOONSHINE SONNY BOY LEN PALOOZ
  Location: Juice Club, Stresemannstr 204, Hamburg
URL:https://www.goabase.net/es/party/connys-bday-bash/117380
CATEGORIES:Psytrance Event
CLASS:PUBLIC
END:VEVENT

BEGIN:VEVENT
UID:183befff03c537aa710771b824c97058
DTSTART:20260514T220000
DTEND:20260515T080000
LOCATION:Kiel [Germany]
GEO:54.300000000;10.100000000
DTSTAMP:20260514T220000Z
SUMMARY:Circus Minimus 2026
DESCRIPTION:Line Up: On Stage: Maxitron Petterson & Finndus Jannethik Johan Djp
  Visuals: Space Tekk Location: Die Pumpe Haßstr. 22 24103 Kiel…
URL:https://www.goabase.net/es/party/circus-minimus-2026/117331
CATEGORIES:Psytrance Event
CLASS:PUBLIC
END:VEVENT

BEGIN:VEVENT
UID:25464036783366c01bd7a485a8fb6dd3
DTSTART:20260516T220000
DTEND:20260517T040000
LOCATION:Itzehoe [Germany]
GEO:53.900000000;9.500000000
DTSTAMP:20260516T220000Z
SUMMARY:PsyGOAdelicious Melodies 7
DESCRIPTION:Line Up: Nico23&John Marco M-Ron Deep Trace Location: Lauschbar,
  Kleine Paaschburg 2, 25524 Itzehoe
URL:https://www.goabase.net/es/party/psygoadelicious-melodies-7/116842
CATEGORIES:Psytrance Event
CLASS:PUBLIC
END:VEVENT

BEGIN:VEVENT
UID:72cee8bde5d815fe1d7ed4ebd26ca95e
DTSTART:20260516T220000
DTEND:20260517T060000
LOCATION:Buxtehude [Germany]
GEO:53.500000000;9.700000000
DTSTAMP:20260516T220000Z
SUMMARY:INSANITY
DESCRIPTION:Line Up: INSANITY (The Finest of Psy & Progressivetrance) Der Wahnsinn
  hat ein Name Insanity ... Euch erwartet die Wahnsinnigs… Location:
  Studio 21, Rudolf-Diesel-Straße 12, 21614 Buxtehude
URL:https://www.goabase.net/es/party/insanity/117051
CATEGORIES:Psytrance Event
CLASS:PUBLIC
END:VEVENT

BEGIN:VEVENT
UID:76a8114bc0fd6f58ec65eb9b254accd2
DTSTART:20260523T230000
DTEND:20260524T080000
LOCATION:Hamburg [Germany]
GEO:53.600000000;10.000000000
DTSTAMP:20260523T230000Z
SUMMARY:Psychedelic Injection Part 3
DESCRIPTION:Line Up: ​Nachdem uns Part II im Februar komplett aus den Socken
  gehauen hat, gibt es kein Halten mehr. Eure Energie, das kollekt…
  Location: Juice Club, Stressemannstraße 204 - 206, 22769 Hamburg
URL:https://www.goabase.net/es/party/psychedelic-injection-part-3/117217
CATEGORIES:Psytrance Event
CLASS:PUBLIC
END:VEVENT

BEGIN:VEVENT
UID:901312478f5111e4ae4b03aefbfc497f
DTSTART:20260528T200000
DTEND:20260531T180000
LOCATION:Hamburg [Germany]
GEO:53.600000000;10.000000000
DTSTAMP:20260528T200000Z
SUMMARY:Psychdelic Experience Open Air Festival 2026
DESCRIPTION:
URL:https://www.goabase.net/es/festival/psychdelic-experience-open-air-festival-2026/113806
CATEGORIES:Psytrance Event
CLASS:PUBLIC
END:VEVENT

BEGIN:VEVENT
UID:30d0c92663e50d8aa701f889857f607e
DTSTART:20260529T140000
DTEND:20260601T020000
LOCATION:Gallin [Germany]
GEO:53.600000000;10.000000000
DTSTAMP:20260529T140000Z
SUMMARY:Psychedelic Experience Open Air Festival 2026
DESCRIPTION:Location: Festival Location, Weisiner Weg Ausbau 1, 19386 Gallin
URL:https://www.goabase.net/es/festival/psychedelic-experience-open-air-festival-2026/116805
CATEGORIES:Psytrance Event
CLASS:PUBLIC
END:VEVENT

BEGIN:VEVENT
UID:6e58a3f2f63439dde9dbce39b4c07e90
DTSTART:20260725T120000
DTEND:20260726T100000
LOCATION:Strohkirchen [Germany]
GEO:53.400000000;11.300000000
DTSTAMP:20260725T120000Z
SUMMARY:ANJUNA OPEN AIR 2026
DESCRIPTION:Line Up: ★SAJANKA - Danza Bookings ★BLAZY - Alteza Bookings ★BECKER -
  Pixel Bookings ★CLOUD7 - Woodmore ★ATYPE - 7SD Records ★TOT… Location:
  Anjuna Open Air Strohkirchen, Ausbau, 19230 Strohkirchen
URL:https://www.goabase.net/es/party/anjuna-open-air-2026/116618
CATEGORIES:Psytrance Event
CLASS:PUBLIC
END:VEVENT

BEGIN:VEVENT
UID:5755a934e5fefa5c80e2cd8b828e2d1c
DTSTART:20260808T150000
DTEND:20260808T230000
LOCATION:Hamburg [Germany]
GEO:53.600000000;10.000000000
DTSTAMP:20260808T150000Z
SUMMARY:Tekkno am Teich Open Air 2026 – 15 Jahre Tekkno Ist Grün
DESCRIPTION:Line Up: Peter Pahn Jan Oberlaender Pascale Voltaire Sophie van Hayden
  Merok Location: Freilichtbühne am Außenmühlenteich, Marmstorfer Weg,
  21077 Hamburg
URL:https://www.goabase.net/es/party/tekkno-am-teich-open-air-2026-15-jahre-tekkno-ist-gruen/117193
CATEGORIES:Psytrance Event
CLASS:PUBLIC
END:VEVENT

BEGIN:VEVENT
UID:68dbb12dc70909a61e3a81d45426b321
DTSTART:20260813T220000
DTEND:20260816T120000
LOCATION:Uslar [Germany]
GEO:53.600000000;10.000000000
DTSTAMP:20260813T220000Z
SUMMARY:Lost SignaL Festival
DESCRIPTION:Line Up: 🌍 FLOORS 🌍 ErroR 404 - Psycore Family - Dark Times Kolektive
  - Voodoo crew bitte keine Dj anfragen diese werden von den… Location:
  Gut Steimke, Steimke 1, 37170 Uslar
URL:https://www.goabase.net/es/festival/lost-signal-festival/116831
CATEGORIES:Psytrance Event
CLASS:PUBLIC
END:VEVENT

BEGIN:VEVENT
UID:27fdf3cb78f240164310eddc206cb404
DTSTART:20261003T210000
DTEND:20261004T090000
LOCATION:Hamburg [Germany]
GEO:53.600000000;10.000000000
DTSTAMP:20261003T210000Z
SUMMARY:Intact Expanda 2026
DESCRIPTION:Line Up: Save the Date. Am Samstag, 03. Oktober 2026 kehrt Intact
  Expanda zurück 💃🕉️🕺 📍 Catonium Eine Nacht. Ein Ort. Volle Ener…
  Location: Catonium, Försterweg 163, 22525 Hamburg
URL:https://www.goabase.net/es/party/intact-expanda-2026/113805
CATEGORIES:Psytrance Event
CLASS:PUBLIC
END:VEVENT

BEGIN:VEVENT
UID:40692472fd23cb2b083016279f720fcd
DTSTART:20261003T220000
DTEND:20261004T120000
LOCATION:Hamburg [Germany]
GEO:53.600000000;10.000000000
DTSTAMP:20261003T220000Z
SUMMARY:Empire of Goa 2026
DESCRIPTION:Line Up: Psychedelic & Progressive & Trance Event Hamburg Empire of
  Goa 2026 – Die Reise geht weiter! 🗓 03. Oktober 2026 | 🕙 Star…
  Location: Docks - Hamburg, Spielbudenplatz 19, 20359 Hamburg
URL:https://www.goabase.net/es/party/empire-of-goa-2026/116037
CATEGORIES:Psytrance Event
CLASS:PUBLIC
END:VEVENT

BEGIN:VEVENT
UID:001c3e49c5e2180d56d7e9c5ebfb831a
DTSTART:20261107T220000
DTEND:20261108T060000
LOCATION:Buxtehude [Germany]
GEO:53.500000000;9.700000000
DTSTAMP:20261107T220000Z
SUMMARY:Question of Time (The Finest of Psy & Progressivetrance)
DESCRIPTION:Line Up: Question of Time (The Finest of Psy & Progressivetrance) Euch
  erwartet die Verrückteste Bunteste und Coolste Goa Party i… Location:
  Studio 21, Rudolf-Diesel-Straße 12, 21614 Buxtehude
URL:https://www.goabase.net/es/party/question-of-time-the-finest-of-psy-progressivetrance/116974
CATEGORIES:Psytrance Event
CLASS:PUBLIC
END:VEVENT

END:VCALENDAR