BEGIN:VCALENDAR
VERSION:2.0
PRODID:goabase.net iCalendar 2026
X-WR-CALNAME:goabase.net - parties and people 
X-WR-TIMEZONE;VALUE=TEXT:Europe/Berlin
CALSCALE:GREGORIAN
BEGIN:VTIMEZONE
TZID:Europe/Berlin
X-LIC-LOCATION:Europe/Berlin
BEGIN:DAYLIGHT
TZOFFSETFROM:+0100
TZOFFSETTO:+0200
TZNAME:CEST
DTSTART:19700329T020000
RRULE:FREQ=YEARLY;INTERVAL=1;BYDAY=-1SU;BYMONTH=3
END:DAYLIGHT
BEGIN:STANDARD
TZOFFSETFROM:+0200
TZOFFSETTO:+0100
TZNAME:CET
DTSTART:19701025T030000
RRULE:FREQ=YEARLY;INTERVAL=1;BYDAY=-1SU;BYMONTH=10
END:STANDARD
END:VTIMEZONE

BEGIN:VEVENT
UID:9657168e751f41bb59d00e5937c57d17
DTSTART:20260430T000000
DTEND:20260503T120000
LOCATION:The Holy Mountain [Nepal]
GEO:0.000000000;0.000000000
DTSTAMP:20260430T000000Z
SUMMARY:Sati Festival
DESCRIPTION:Line Up: FOBI - GREEN WIZARDS RECORDS 6TH DIMENSION ACID ECHOES - ACID
  FLOWER MUSIC AIRY DISC GERRY - DANCE FOR PEACE ENSEMBLE VO… Location:
  THE HOLY MOUNTAIN, Machhapuchre, THE HOLY MOUNTAIN
URL:https://www.goabase.net/es/festival/sati-festival/115927
CATEGORIES:Psytrance Event
CLASS:PUBLIC
END:VEVENT

BEGIN:VEVENT
UID:b68d07e5bede0114c9e73faab904f680
DTSTART:20260501T150000
DTEND:20260503T200000
LOCATION:Sacred Valley [Peru]
GEO:0.000000000;0.000000000
DTSTAMP:20260501T150000Z
SUMMARY:Arkana Festival
DESCRIPTION:Line Up: ARKANA STAGE ATROPP ARU BENSAID BAD BUGS CODEX SPIRALIS CON
  FETTI CROOKED MIND DIENSTMANN DIZA ELIOM FABINHO FADA GADIT…
URL:https://www.goabase.net/es/festival/arkana-festival/117225
CATEGORIES:Psytrance Event
CLASS:PUBLIC
END:VEVENT

BEGIN:VEVENT
UID:2294339e24a48a1aa122d73aae3a4ead
DTSTART:20260502T140000
DTEND:20260503T020000
LOCATION:Berikon AG [Switzerland]
GEO:0.000000000;0.000000000
DTSTAMP:20260502T140000Z
SUMMARY:RK*Kult - Tanz, Trank & Trompeten Festival 2026
DESCRIPTION:Line Up: 🔊 MAIN FLOOR — 14:00–01:00 Dominik Eulberg Acid Trainer
  Matija Effim & Seerosenpflücker With & Without Hair Paege 🎪 TENT…
  Location: MySwissFarm, Rigiblick 450, 8965 Berikon AG
URL:https://www.goabase.net/es/party/rkkult-tanz-trank-trompeten-festival-2026/117188
CATEGORIES:Psytrance Event
CLASS:PUBLIC
END:VEVENT

BEGIN:VEVENT
UID:eabab8e61f86217ca7de21e7b899bade
DTSTART:20260502T140000
DTEND:20260503T080000
LOCATION:Basel-Land / Wittinsburg [Switzerland]
GEO:0.000000000;0.000000000
DTSTAMP:20260502T140000Z
SUMMARY:404 - SZENE NOT FOUND
DESCRIPTION:Line Up: Nachtwandler - Nachtwerk Rec - Prog - 14:00 - 15:30 Dr.Craft
  - Auffall Music - Psy - 15:30 - 17:00 Ivo Lution - Independ…
URL:https://www.goabase.net/es/party/404-szene-not-found/117449
CATEGORIES:Psytrance Event
CLASS:PUBLIC
END:VEVENT

BEGIN:VEVENT
UID:30b4990e8996b6f0d509a0e928c0fb76
DTSTART:20260508T130000
DTEND:20260510T153000
LOCATION:Yamanashi [Japan]
GEO:35.808900000;138.334430000
DTSTAMP:20260508T130000Z
SUMMARY:SAMADHI TRANSCENDENCE 2026
DESCRIPTION:Line Up: ★LINE UP &quot;GOA&quot;artists [LIVE] ●Filteria [Suntrip
  Records] ●Battle of the Future Buddhas[Schlabbaduerst Rekkords…
  Location: Village Hakushu, 2124 Hirakubo, Kami-Kyoiraishi, Shirasu,
  Hokuto-city, 408-0318 Yamanashi
URL:https://www.goabase.net/es/party/samadhi-transcendence-2026/116558
CATEGORIES:Psytrance Event
CLASS:PUBLIC
END:VEVENT

BEGIN:VEVENT
UID:10488247d98de98e6e87b5d9ef287e10
DTSTART:20260509T200000
DTEND:20260510T070000
LOCATION:Oost-Vlaanderen [Belgium]
GEO:0.000000000;0.000000000
DTSTAMP:20260509T200000Z
SUMMARY:⏣▼⏣▼⏣ SuOmIfReAkAnDeLlE ReBiRtH ⏣▼⏣▼⏣
DESCRIPTION:Line Up: With Passion and Love we bring you a Psychedelic SUOMI
  NIGHT!!! The First 25 ppl at the party will receive the Golden CD…
URL:https://www.goabase.net/es/party/suomifreakandelle-rebirth/116844
CATEGORIES:Psytrance Event
CLASS:PUBLIC
END:VEVENT

BEGIN:VEVENT
UID:43b8eda65f093ad2748d8c9921102b26
DTSTART:20260516T100000
DTEND:20260517T000000
LOCATION:Prignano sulla Secchia (MO) [Italy]
GEO:0.000000000;0.000000000
DTSTAMP:20260516T100000Z
SUMMARY:RITUAL
DESCRIPTION:Line Up: Line up dalle 10 a mezzanotte! Line up from 10 A.M. to
  midnight! Nostalgia Underground (Busker Live Guitar) MATTIA DELLA…
  Location: Rupe del Pescale, Modena, Via Sassuolo 3° Tronco, 6291, 41048
  Prignano sulla Secchia M…, 41048 Prignano sulla Secchia (MO)
URL:https://www.goabase.net/es/party/ritual/117362
CATEGORIES:Psytrance Event
CLASS:PUBLIC
END:VEVENT

BEGIN:VEVENT
UID:841565b164678fdc8d740c24837122ac
DTSTART:20260522T220000
DTEND:20260525T130000
LOCATION:Hammonton, New Jersey [United States]
GEO:0.000000000;0.000000000
DTSTAMP:20260522T220000Z
SUMMARY:Quantum Awakening Festival 3.0
DESCRIPTION:Line Up: ANTIDOTA * BURN IN NOISE * DIGITAL HIPPIE * DR STRANGEFUNK *
  EYEAWAKE * FRACTAL JOKE * GONZO * KHROMATA * KOZY * KRI SAM… Location:
  Paradise Lakes Campground, 500 Paradise Drive, 08037 Hammonton, New
  Jersey
URL:https://www.goabase.net/es/festival/quantum-awakening-festival-30/116841
CATEGORIES:Psytrance Event
CLASS:PUBLIC
END:VEVENT

BEGIN:VEVENT
UID:58ab6d9f2fcb6affd7b51adc9400405e
DTSTART:20260522T220000
DTEND:20260524T000000
LOCATION:Negenborn [Germany]
GEO:0.000000000;0.000000000
DTSTAMP:20260522T220000Z
SUMMARY:Hexensabbat VI
DESCRIPTION:Line Up: ~~~LIVE-ACT'S TECHNO~~~ •Höki• (DarkForestNoise) ~~~PSY- DJ
  SET'S ~~~ •SuNdokan• (LucidMindEvents/PersianPsyTec… Location:
  51.88482261239042, 9.580780863761902, Negenborn, 37643 Negenborn
URL:https://www.goabase.net/es/party/hexensabbat-vi/117326
CATEGORIES:Psytrance Event
CLASS:PUBLIC
END:VEVENT

BEGIN:VEVENT
UID:c4a8f2e32f83d86c9a5680dd8134b341
DTSTART:20260523T160000
DTEND:20260524T160000
LOCATION:Rauschenberg-Bracht [Germany]
GEO:0.000000000;0.000000000
DTSTAMP:20260523T160000Z
SUMMARY:Tanz am Teich
DESCRIPTION:Line Up: ✨ Daksinamurti [Sangoma Rec.]✨ ✨ Psycolletic
  [Psytribe౧Mittelhessen] ✨ ✨ Psydonym [Psytribe౧Mittelhessen]✨ ✨ Psy
  Schilly… Location: Grillplatz Bracht, , 35282 Rauschenberg-Bracht
URL:https://www.goabase.net/es/party/tanz-am-teich/117441
CATEGORIES:Psytrance Event
CLASS:PUBLIC
END:VEVENT

BEGIN:VEVENT
UID:3bbdce04dc9f2ec823853898443aac74
DTSTART:20260524T110000
DTEND:20260524T220000
LOCATION:St. Goarshausen [Germany]
GEO:0.000000000;0.000000000
DTSTAMP:20260524T110000Z
SUMMARY:Pfingstival - 1 Day Edition
DESCRIPTION:Location: Mühle Braun, , 56346 St. Goarshausen
URL:https://www.goabase.net/es/party/pfingstival-1-day-edition/117316
CATEGORIES:Psytrance Event
CLASS:PUBLIC
END:VEVENT

BEGIN:VEVENT
UID:e2db6e061004ba0b129a5095889c8be8
DTSTART:20260529T120000
DTEND:20260531T210000
LOCATION:Saint Juery [France]
GEO:0.000000000;0.000000000
DTSTAMP:20260529T120000Z
SUMMARY:La Casba Festival 2026
DESCRIPTION:Line Up: Zyce, Luis M, Solitary Shell, Vegan Cake, Hypatia, Futurum
  Sonat, Timo Lissy, Hu Bee, Mr. Frisson, Varanoid, Ollie, Neut…
  Location: La Rouvarié, Terradelici, La Rouvarié, 12550 Saint Juery
URL:https://www.goabase.net/es/party/la-casba-festival-2026/116598
CATEGORIES:Psytrance Event
CLASS:PUBLIC
END:VEVENT

BEGIN:VEVENT
UID:82c69b0537c0956d6add751b285f1ab9
DTSTART:20260529T180000
DTEND:20260531T120000
LOCATION:Místo [Czech Republic]
GEO:0.000000000;0.000000000
DTSTAMP:20260529T180000Z
SUMMARY:RISING CASTLE 2026 (CARBON BASED LIFEFORMS)
DESCRIPTION:Line Up: LIVE : CARBON BASED LIFEFORMS (SWEDEN) PAVEL HOLEČEK - AUDIO
  KINETIC LIVE SHOW AUDIO PILOTS: BEYOND (HUNGARY) PSYCHOSOMA… Location:
  Hasistejn Castle, , 43158 Místo
URL:https://www.goabase.net/es/party/rising-castle-2026-carbon-based-lifeforms/115634
CATEGORIES:Psytrance Event
CLASS:PUBLIC
END:VEVENT

BEGIN:VEVENT
UID:c45cd8724387f1a6badafd5948093a10
DTSTART:20260529T190000
DTEND:20260531T233000
LOCATION:Valdeverdeja [Spain]
GEO:0.000000000;0.000000000
DTSTAMP:20260529T190000Z
SUMMARY:Refractor 2026
DESCRIPTION:Line Up: Aaron J Alohn (live) Andrae Durden & Norim (live) A Strange
  Wedding (live) Atrice (live) Avsluta (live) Babe Roots (live… Location:
  Area Recreativa La Facciosa, , 45572 Valdeverdeja
URL:https://www.goabase.net/es/festival/refractor-2026/116177
CATEGORIES:Psytrance Event
CLASS:PUBLIC
END:VEVENT

BEGIN:VEVENT
UID:327d1306bf1326ce0bc15425b77e3fdb
DTSTART:20260530T100000
DTEND:20260531T000000
LOCATION:Prignano sulla Secchia (MO) [Italy]
GEO:0.000000000;0.000000000
DTSTAMP:20260530T100000Z
SUMMARY:RITUAL
DESCRIPTION:Line Up: Line up dalle 10 a mezzanotte! Line up from 10 A.M. to
  midnight! Uri HALFRED Roger Bodhi Zephirion HALFREAK 137 URIX Dan…
  Location: Rupe del Pescale, Modena, Via Sassuolo 3° Tronco, 6291, 41048
  Prignano sulla Secchia M…, 41048 Prignano sulla Secchia (MO)
URL:https://www.goabase.net/es/party/ritual/117435
CATEGORIES:Psytrance Event
CLASS:PUBLIC
END:VEVENT

BEGIN:VEVENT
UID:64596b5c307b92805ca6c6084d62e278
DTSTART:20260530T110000
DTEND:20260531T220000
LOCATION:Toro Warkhu, Vacas [Bolivia]
GEO:0.000000000;0.000000000
DTSTAMP:20260530T110000Z
SUMMARY:PAKARI Alternative Festival
DESCRIPTION:Line Up: OFFICIAL LINEUP 🧿 DJS: • Herio (Cbba - Bolivia) Chillout •
  Radha (Cbba - Bolivia) Full On Groove • 369 (Brasil) Full… Location:
  The Hidden Valley, , Toro Warkhu, Vacas
URL:https://www.goabase.net/es/party/pakari-alternative-festival/116959
CATEGORIES:Psytrance Event
CLASS:PUBLIC
END:VEVENT

BEGIN:VEVENT
UID:1c0b737ece88055f5492c14134264335
DTSTART:20260601T140000
DTEND:20260602T080000
LOCATION:Cimolais (PN) [Italy]
GEO:0.000000000;0.000000000
DTSTAMP:20260601T140000Z
SUMMARY:Goa Destination Mountain 18H
DESCRIPTION:Line Up: Line Up GOA OPEN AIR AREA (A-Z): Bug Experience (Goa
  Destination/ITA:Dj&Producer of:GoaMinimale&FullOnJumping) Casuelix…
  Location: Osteria di Mezzo (in foto), Pian Pinedo 2 (di fronte
  stabilimento Dolomia), Cimolais (PN)
URL:https://www.goabase.net/es/party/goa-destination-mountain-18h/115484
CATEGORIES:Psytrance Event
CLASS:PUBLIC
END:VEVENT

BEGIN:VEVENT
UID:89f396c1b36e6d4fe21a8d7406f57815
DTSTART:20260606T140000
DTEND:20260606T230000
LOCATION:Aesch ZH [Switzerland]
GEO:0.000000000;0.000000000
DTSTAMP:20260606T140000Z
SUMMARY:Sunshine Expirience
DESCRIPTION:Line Up: 🎶 LINE-UP Total Balance (DE) TripAdvisor CH | Braingames
  Prodelic CH | Luminara Labs INUIN CH | Blue Tunes Yodah CH… Location:
  Waldhütte Aesch ZH, , 8904 Aesch ZH
URL:https://www.goabase.net/es/party/sunshine-expirience/117015
CATEGORIES:Psytrance Event
CLASS:PUBLIC
END:VEVENT

BEGIN:VEVENT
UID:2e0d05bb2f5373922d83abfd32fb0b3f
DTSTART:20260611T180000
DTEND:20260615T080000
LOCATION:Dadow / Eldena [Germany]
GEO:0.000000000;0.000000000
DTSTAMP:20260611T180000Z
SUMMARY:Lalanda World Festival 2026
DESCRIPTION:Line Up: 🎵 Line-Up 2026 -Blazy -Sonic Species -DripDrop -Yury
  -Naturalize -LsDirty Location: Dadow bei Eldena, Landkreis
  Ludwigslust-Parchim, Mecklenburg…, , 19294 Dadow / Eldena
URL:https://www.goabase.net/es/party/lalanda-world-festival-2026/117357
CATEGORIES:Psytrance Event
CLASS:PUBLIC
END:VEVENT

BEGIN:VEVENT
UID:e3f38048f57a0c873cc610543ab08eb4
DTSTART:20260612T220000
DTEND:20260614T120000
LOCATION:Südhessen [Germany]
GEO:0.000000000;0.000000000
DTSTAMP:20260612T220000Z
SUMMARY:Sundance
DESCRIPTION:Line Up: Live: Chorea Lux (Northern Experience Rec.) Djs: Aeon
  (Galaktik Spirit) Andi Atriox (Funkstrom) Brösel (Zwischen den Wel…
  Location: 3 Days Before, , Südhessen
URL:https://www.goabase.net/es/party/sundance/117340
CATEGORIES:Psytrance Event
CLASS:PUBLIC
END:VEVENT

END:VCALENDAR