BEGIN:VCALENDAR
VERSION:2.0
PRODID:goabase.net iCalendar 2026
X-WR-CALNAME:goabase.net - parties and people 
X-WR-TIMEZONE;VALUE=TEXT:Europe/Berlin
CALSCALE:GREGORIAN
BEGIN:VTIMEZONE
TZID:Europe/Berlin
X-LIC-LOCATION:Europe/Berlin
BEGIN:DAYLIGHT
TZOFFSETFROM:+0100
TZOFFSETTO:+0200
TZNAME:CEST
DTSTART:19700329T020000
RRULE:FREQ=YEARLY;INTERVAL=1;BYDAY=-1SU;BYMONTH=3
END:DAYLIGHT
BEGIN:STANDARD
TZOFFSETFROM:+0200
TZOFFSETTO:+0100
TZNAME:CET
DTSTART:19701025T030000
RRULE:FREQ=YEARLY;INTERVAL=1;BYDAY=-1SU;BYMONTH=10
END:STANDARD
END:VTIMEZONE

BEGIN:VEVENT
UID:3da71db300e42a4112cfbd7f7a078a66
DTSTART:20260424T220000
DTEND:20260425T120000
LOCATION:Berlin [Germany]
GEO:52.500000000;13.400000000
DTSTAMP:20260424T220000Z
SUMMARY:Truck Rave the Planet/Goanautika, Ostfunk
DESCRIPTION:Line Up: Klopfgeister vs Eartha Harris SIMINA GRIGORIU DANIELA HENSEL
  ALLEGRA LEEROY BENNI MOON Diana May Daniel Boon Basstronaut… Location:
  Rave the Planet, Straße des 17 Juni, 10557 Berlin
URL:https://www.goabase.net/es/party/truck-rave-the-planetgoanautika-ostfunk/117439
CATEGORIES:Psytrance Event
CLASS:PUBLIC
END:VEVENT

BEGIN:VEVENT
UID:cfe89bbbfad705587883a8425fb12aec
DTSTART:20260425T230000
DTEND:20260426T080000
LOCATION:Berlin [Germany]
GEO:52.500000000;13.400000000
DTSTAMP:20260425T230000Z
SUMMARY:Nebula x Inception x Sonitus w/ Tophoo & TrippyS
DESCRIPTION:Line Up: Goa Floor + Tophoo + TrippyS + Momentune + Ionic + LexVoid +
  Astraluna DnB Floor hosted by Sonitus + Dark Zenith + The B… Location:
  M-Bia Club, Dircksenstraße 123, 10178 Berlin
URL:https://www.goabase.net/es/party/nebula-x-inception-x-sonitus-w-tophoo-trippys/117408
CATEGORIES:Psytrance Event
CLASS:PUBLIC
END:VEVENT

BEGIN:VEVENT
UID:a0f9838c24c9a00b3a1c01773c157060
DTSTART:20260501T230000
DTEND:20260502T080000
LOCATION:Berlin [Germany]
GEO:52.500000000;13.400000000
DTSTAMP:20260501T230000Z
SUMMARY:An der frischen Luft Indoor Night
DESCRIPTION:Location: Void Club, Wiesenweg 5-6, 10365 Berlin
URL:https://www.goabase.net/es/party/an-der-frischen-luft-indoor-night/117398
CATEGORIES:Psytrance Event
CLASS:PUBLIC
END:VEVENT

BEGIN:VEVENT
UID:6b5ad75f77b61de508112db60e69511f
DTSTART:20260509T230000
DTEND:20260510T080000
LOCATION:Berlin [Germany]
GEO:52.500000000;13.400000000
DTSTAMP:20260509T230000Z
SUMMARY:INCEPTION w/ BABALOS | 2 FLOORS | GOA & TECHNO
DESCRIPTION:Line Up: 🟣 Goa Floor 🟣 Babalos Momentune Bennix Golden Time Baraquz
  Æries 🟢 Second Floor hosted by Schwarzlichtbande 🟢 Force Next…
  Location: M-Bia Club, Dircksenstraße 123, 10178 Berlin
URL:https://www.goabase.net/es/party/inception-w-babalos-2-floors-goa-techno/117407
CATEGORIES:Psytrance Event
CLASS:PUBLIC
END:VEVENT

BEGIN:VEVENT
UID:03474679c51f8c9d12884681ae795493
DTSTART:20260516T220000
DTEND:20260517T090000
LOCATION:Berlin [Germany]
GEO:52.500000000;13.400000000
DTSTAMP:20260516T220000Z
SUMMARY:Into Another World ✦ THE MIST OF TRIXYA
DESCRIPTION:
URL:https://www.goabase.net/es/party/into-another-world-the-mist-of-trixya/116478
CATEGORIES:Psytrance Event
CLASS:PUBLIC
END:VEVENT

BEGIN:VEVENT
UID:f91e6801d003f2737bd5f8c1bacb3720
DTSTART:20260516T220000
DTEND:20260517T080000
LOCATION:Berlin [Germany]
GEO:52.500000000;13.400000000
DTSTAMP:20260516T220000Z
SUMMARY:MODEM Teaser Berlin powered by xXETEXx & TRYP FUNKHAUS
DESCRIPTION:Line Up: ▷ 𝗧𝗛𝗘 𝗛𝗜𝗩𝗘 ◁ JAHBO live Parvati Records UMBER VAMBER live
  PatGap Music CROM live Enygma Music DJOANNA Waldfrieden |… Location:
  Funkhaus Berlin, Nalepastraße 18, 12459 Berlin
URL:https://www.goabase.net/es/party/modem-teaser-berlin-powered-by-xxetexx-tryp-funkhaus/117265
CATEGORIES:Psytrance Event
CLASS:PUBLIC
END:VEVENT

BEGIN:VEVENT
UID:87eb845f9d7d7ccda216fd5eda92f8c1
DTSTART:20260522T230000
DTEND:20260523T100000
LOCATION:Berlin [Germany]
GEO:52.500000000;13.400000000
DTSTAMP:20260522T230000Z
SUMMARY:TADACID
DESCRIPTION:Line Up: Hellotrip Secret Portal Frau Specht Alek Sis
URL:https://www.goabase.net/es/party/tadacid/117414
CATEGORIES:Psytrance Event
CLASS:PUBLIC
END:VEVENT

BEGIN:VEVENT
UID:5e59c55a032d7186fbf671f9efe5291c
DTSTART:20260604T180000
DTEND:20260607T200000
LOCATION:Niedergörsdorf [Germany]
GEO:52.000000000;13.000000000
DTSTAMP:20260604T180000Z
SUMMARY:Zurück zu den Wurzeln Festival 2026
DESCRIPTION:Line Up: live: Sabretooth, Omikron, Second Side Djs: Anjoli,
  Astralica, finja, TekWan, Unity, Ana Phora, CD Wexler, SubCulture,…
  Location: Secret Forest, Flugplatzweg 6, Niedergörsdorf, 14913
  Niedergörsdorf
URL:https://www.goabase.net/es/festival/zurueck-zu-den-wurzeln-festival-2026/117010
CATEGORIES:Psytrance Event
CLASS:PUBLIC
END:VEVENT

BEGIN:VEVENT
UID:b3c8a12ca61d46630ca2fb5fb0ed9433
DTSTART:20260613T100000
DTEND:20260613T220000
LOCATION:Leipzig [Germany]
GEO:51.300000000;12.400000000
DTSTAMP:20260613T100000Z
SUMMARY:KULTUR ZIRKUS 2026
DESCRIPTION:Line Up: Der Friedenstanz und seine Freunde präsentieren: Location:
  Wilhelm-Külz-Park, , 04299 Leipzig
URL:https://www.goabase.net/es/party/kultur-zirkus-2026/116344
CATEGORIES:Psytrance Event
CLASS:PUBLIC
END:VEVENT

BEGIN:VEVENT
UID:9d5635cd4fe5fd8a7fb77a8617029d09
DTSTART:20260827T200000
DTEND:20260831T193000
LOCATION:Prettin [Germany]
GEO:51.660770000;12.923530000
DTSTAMP:20260827T200000Z
SUMMARY:Gaggalacka Festival "25 Jahre" Wir feiern die Silberhochzeit
DESCRIPTION:Line Up: Lasst euch überraschen....wie immer gilt, keiner hat die
  Absicht schlafen zu gehen -) Location: Campingplatz Prettin,
  Hinterfährstraße 42, 06925 Prettin
URL:https://www.goabase.net/es/festival/gaggalacka-festival-25-jahre-wir-feiern-die-silberhochzeit/117430
CATEGORIES:Psytrance Event
CLASS:PUBLIC
END:VEVENT

BEGIN:VEVENT
UID:6f9d978a8976ff4ada21f4182ac1e466
DTSTART:20260903T180000
DTEND:20260906T190000
LOCATION:Berlin [Germany]
GEO:52.500000000;13.400000000
DTSTAMP:20260903T180000Z
SUMMARY:Evolution
DESCRIPTION:
URL:https://www.goabase.net/es/festival/evolution/115811
CATEGORIES:Psytrance Event
CLASS:PUBLIC
END:VEVENT

END:VCALENDAR