BEGIN:VCALENDAR
VERSION:2.0
PRODID:goabase.net iCalendar 2026
X-WR-CALNAME:goabase.net - parties and people 
X-WR-TIMEZONE;VALUE=TEXT:Europe/Berlin
CALSCALE:GREGORIAN
BEGIN:VTIMEZONE
TZID:Europe/Berlin
X-LIC-LOCATION:Europe/Berlin
BEGIN:DAYLIGHT
TZOFFSETFROM:+0100
TZOFFSETTO:+0200
TZNAME:CEST
DTSTART:19700329T020000
RRULE:FREQ=YEARLY;INTERVAL=1;BYDAY=-1SU;BYMONTH=3
END:DAYLIGHT
BEGIN:STANDARD
TZOFFSETFROM:+0200
TZOFFSETTO:+0100
TZNAME:CET
DTSTART:19701025T030000
RRULE:FREQ=YEARLY;INTERVAL=1;BYDAY=-1SU;BYMONTH=10
END:STANDARD
END:VTIMEZONE

BEGIN:VEVENT
UID:51f068788f9fbc27a12b96339fb52269
DTSTART:20260606T160000
DTEND:20260607T200000
LOCATION:Bystřice nad Pernštejnem [Portugal]
GEO:49.522950000;16.261470000
DTSTAMP:20260606T160000Z
SUMMARY:Masters of Puppets - Portugal Teaser 2026
DESCRIPTION:Line Up: ALTURA : @necropsycho1111 🇧🇷 & @secti0aurea0fficial 🇨🇭
  (Portugal Debut) AVVVA by @kliment.once.upon.a.time 🇧🇬 (Portugal…
  Location: Quinta Vale D'Água, Sobral da Abelheira, Quinta Vale D'Água,
  CSL Vale da Água Regas, S/N, 2640-639 S…, Bystřice nad Pernštejnem
URL:https://www.goabase.net/es/party/masters-of-puppets-portugal-teaser-2026/116741
CATEGORIES:Psytrance Event
CLASS:PUBLIC
END:VEVENT

BEGIN:VEVENT
UID:e73560458f9b185f61478a48fa90a58e
DTSTART:20260611T120000
DTEND:20260614T210000
LOCATION:Výrovice [Czech Republic]
GEO:48.900000000;16.100000000
DTSTAMP:20260611T120000Z
SUMMARY:Spirit Base Festival 2026
DESCRIPTION:Line Up: Live Acts
  :-:-:-:-:-:-:-:-:-:-:-:-:-:-:-:-:-:-:-:-:-:-:-:-:-:-
  :-:-:-:-:-:-:-:-:-:-:-:-:-:-:-:-:-:-:-:-:-:-:-:-:-:- Brai… Location:
  Autocamping Vyrovice (48.9277599, 16.1069471), Výrovice 95 přehrada 671
  34, Horní Dunajovice, 671 34 Výrovice
URL:https://www.goabase.net/es/festival/spirit-base-festival-2026/117175
CATEGORIES:Psytrance Event
CLASS:PUBLIC
END:VEVENT

END:VCALENDAR