BEGIN:VCALENDAR
VERSION:2.0
PRODID:goabase.net iCalendar 2026
X-WR-CALNAME:goabase.net - parties and people 
X-WR-TIMEZONE;VALUE=TEXT:Europe/Berlin
CALSCALE:GREGORIAN
BEGIN:VTIMEZONE
TZID:Europe/Berlin
X-LIC-LOCATION:Europe/Berlin
BEGIN:DAYLIGHT
TZOFFSETFROM:+0100
TZOFFSETTO:+0200
TZNAME:CEST
DTSTART:19700329T020000
RRULE:FREQ=YEARLY;INTERVAL=1;BYDAY=-1SU;BYMONTH=3
END:DAYLIGHT
BEGIN:STANDARD
TZOFFSETFROM:+0200
TZOFFSETTO:+0100
TZNAME:CET
DTSTART:19701025T030000
RRULE:FREQ=YEARLY;INTERVAL=1;BYDAY=-1SU;BYMONTH=10
END:STANDARD
END:VTIMEZONE

BEGIN:VEVENT
UID:f414d8d30155b128e6a60a3ba7fae30c
DTSTART:20260724T170000
DTEND:20260727T100000
LOCATION:Șuncuiuș [Romania]
GEO:0.000000000;0.000000000
DTSTAMP:20260724T170000Z
SUMMARY:Transylvania Journey
DESCRIPTION:Line Up: DeliriumTremens || DreamProjectRecords || IT🇮🇹 TripCommander
  || CosmixedSociety || AT🇦🇹 Kali || YapaiiRecords || MYS🇲🇾… Location:
  Șuncuiuș, Camp Live Otherwise, Tabăra &quot;Trăiește Altfel&…, , 417565
  Șuncuiuș
URL:https://www.goabase.net/es/festival/transylvania-journey/116538
CATEGORIES:Psytrance Event
CLASS:PUBLIC
END:VEVENT

END:VCALENDAR