BEGIN:VCALENDAR
VERSION:2.0
PRODID:goabase.net iCalendar 2026
X-WR-CALNAME:goabase.net - parties and people 
X-WR-TIMEZONE;VALUE=TEXT:Europe/Berlin
CALSCALE:GREGORIAN
BEGIN:VTIMEZONE
TZID:Europe/Berlin
X-LIC-LOCATION:Europe/Berlin
BEGIN:DAYLIGHT
TZOFFSETFROM:+0100
TZOFFSETTO:+0200
TZNAME:CEST
DTSTART:19700329T020000
RRULE:FREQ=YEARLY;INTERVAL=1;BYDAY=-1SU;BYMONTH=3
END:DAYLIGHT
BEGIN:STANDARD
TZOFFSETFROM:+0200
TZOFFSETTO:+0100
TZNAME:CET
DTSTART:19701025T030000
RRULE:FREQ=YEARLY;INTERVAL=1;BYDAY=-1SU;BYMONTH=10
END:STANDARD
END:VTIMEZONE

BEGIN:VEVENT
UID:35d5d274fe0e70ca082fcb2db34834ea
DTSTART:20260620T200000
DTEND:20260621T120000
LOCATION:Jelengrad [Croatia]
GEO:0.000000000;0.000000000
DTSTAMP:20260620T200000Z
SUMMARY:Jelengrad - High Renissnce
DESCRIPTION:Line Up: Calixta// Lissza// Mnogook// Forestdelic Records Dalton
  Trance Teleport//Psypoll Pusmus// DJ File// Location: Jelengrad castle,
  , Jelengrad
URL:https://www.goabase.net/es/party/jelengrad-high-renissnce/117273
CATEGORIES:Psytrance Event
CLASS:PUBLIC
END:VEVENT

BEGIN:VEVENT
UID:b168db14d2d2f2cc9eee50b2a85b127b
DTSTART:20260716T200000
DTEND:20260719T180000
LOCATION:Seovica [Croatia]
GEO:0.000000000;0.000000000
DTSTAMP:20260716T200000Z
SUMMARY:Divine Forest, Resonance
DESCRIPTION:Line Up: 3TT ALLEGRA ALTIMETRIA AMA HAI ATOMIC HIVE BHANGRA DAMZAH
  DINO D DUBOKA Location: Stare zidine planinarskog doma Josipa Svodobe,
  Deep Forest, 34550 Seovica
URL:https://www.goabase.net/es/festival/divine-forest-resonance/117040
CATEGORIES:Psytrance Event
CLASS:PUBLIC
END:VEVENT

BEGIN:VEVENT
UID:b034419ba33da47da9dba01b5490862b
DTSTART:20260820T100000
DTEND:20260823T190000
LOCATION:Fužine [Croatia]
GEO:0.000000000;0.000000000
DTSTAMP:20260820T100000Z
SUMMARY:Foresterra Festival 2026
DESCRIPTION:Line Up: ▷ 𝗙𝗢𝗥𝗘𝗦𝗧𝗘𝗥𝗥𝗔 𝗦𝗧𝗔𝗚𝗘 ◁ (fullon, forest, darkpsy, twilight) ►
  3TT (Regeneration) [CRO] ► ALYSHKA (Blacklite Records) [… Location:
  Kaubojsko selo Roswell, Fužine, Cowboy village Roswell bb, 51322 Fužine
URL:https://www.goabase.net/es/festival/foresterra-festival-2026/117376
CATEGORIES:Psytrance Event
CLASS:PUBLIC
END:VEVENT

END:VCALENDAR