BEGIN:VCALENDAR
VERSION:2.0
PRODID:goabase.net iCalendar 2026
X-WR-CALNAME:goabase.net - parties and people 
X-WR-TIMEZONE;VALUE=TEXT:Europe/Berlin
CALSCALE:GREGORIAN
BEGIN:VTIMEZONE
TZID:Europe/Berlin
X-LIC-LOCATION:Europe/Berlin
BEGIN:DAYLIGHT
TZOFFSETFROM:+0100
TZOFFSETTO:+0200
TZNAME:CEST
DTSTART:19700329T020000
RRULE:FREQ=YEARLY;INTERVAL=1;BYDAY=-1SU;BYMONTH=3
END:DAYLIGHT
BEGIN:STANDARD
TZOFFSETFROM:+0200
TZOFFSETTO:+0100
TZNAME:CET
DTSTART:19701025T030000
RRULE:FREQ=YEARLY;INTERVAL=1;BYDAY=-1SU;BYMONTH=10
END:STANDARD
END:VTIMEZONE

BEGIN:VEVENT
UID:94f8ab92998de9f80884b1155ba00606
DTSTART:20260509T220000
DTEND:20260510T120000
LOCATION:Tirana [Albania]
GEO:41.300000000;19.800000000
DTSTAMP:20260509T220000Z
SUMMARY:NeN Gathering Pre Party Tirana
DESCRIPTION:Line Up: NEN GATHERING PRE PARTY TIRANA Line Up Anili Macedonia
  (Antagon Records) Portal Aetherius Macedonia (Antagon Records) Pe…
  Location: TIRANA, , TIRANA
URL:https://www.goabase.net/es/party/nen-gathering-pre-party-tirana/117113
CATEGORIES:Psytrance Event
CLASS:PUBLIC
END:VEVENT

BEGIN:VEVENT
UID:1493f1cdc54e023c6d2a3c465235f058
DTSTART:20260813T193000
DTEND:20260816T163000
LOCATION:saranda [Albania]
GEO:0.000000000;0.000000000
DTSTAMP:20260813T193000Z
SUMMARY:NeN Gathering 2026 (Open Air by the Beach)
DESCRIPTION:Line Up: 🔱 NeN Gathering 🔱 🖇️NEN GATHERING (Pre-Party Tirana)🖇️ 🖇️ NEN
  GATHERING LINK 🖇️ 🎟️ PRESALE TICKETS OF THE FESTIVAL 🎟️… Location:
  Lukova Beach Saranda Albania, , saranda
URL:https://www.goabase.net/es/party/nen-gathering-2026-open-air-by-the-beach/117114
CATEGORIES:Psytrance Event
CLASS:PUBLIC
END:VEVENT

END:VCALENDAR