BEGIN:VCALENDAR
VERSION:2.0
PRODID:goabase.net iCalendar 2026
X-WR-CALNAME:goabase.net - parties and people 
X-WR-TIMEZONE;VALUE=TEXT:Europe/Berlin
CALSCALE:GREGORIAN
BEGIN:VTIMEZONE
TZID:Europe/Berlin
X-LIC-LOCATION:Europe/Berlin
BEGIN:DAYLIGHT
TZOFFSETFROM:+0100
TZOFFSETTO:+0200
TZNAME:CEST
DTSTART:19700329T020000
RRULE:FREQ=YEARLY;INTERVAL=1;BYDAY=-1SU;BYMONTH=3
END:DAYLIGHT
BEGIN:STANDARD
TZOFFSETFROM:+0200
TZOFFSETTO:+0100
TZNAME:CET
DTSTART:19701025T030000
RRULE:FREQ=YEARLY;INTERVAL=1;BYDAY=-1SU;BYMONTH=10
END:STANDARD
END:VTIMEZONE

BEGIN:VEVENT
UID:327d1306bf1326ce0bc15425b77e3fdb
DTSTART:20260530T100000
DTEND:20260531T000000
LOCATION:Prignano sulla Secchia (MO) [Italy]
GEO:0.000000000;0.000000000
DTSTAMP:20260530T100000Z
SUMMARY:RITUAL
DESCRIPTION:Line-Up: Line up dalle 10 a mezzanotte! Line up from 10 A.M. to
  midnight! Uri HALFRED Roger Bodhi Zephirion HALFREAK 137 URIX Dan…
  Location: Rupe del Pescale, Modena, Via Sassuolo 3° Tronco, 6291, 41048
  Prignano sulla Secchia M…, 41048 Prignano sulla Secchia (MO)
URL:https://www.goabase.net/de/party/ritual/117435
CATEGORIES:Psytrance Event
CLASS:PUBLIC
END:VEVENT

BEGIN:VEVENT
UID:64596b5c307b92805ca6c6084d62e278
DTSTART:20260530T110000
DTEND:20260531T220000
LOCATION:Toro Warkhu, Vacas [Bolivia]
GEO:0.000000000;0.000000000
DTSTAMP:20260530T110000Z
SUMMARY:PAKARI Alternative Festival
DESCRIPTION:Line-Up: OFFICIAL LINEUP 🧿 DJS: • Herio (Cbba - Bolivia) Chillout •
  Radha (Cbba - Bolivia) Full On Groove • 369 (Brasil) Full… Location:
  The Hidden Valley, , Toro Warkhu, Vacas
URL:https://www.goabase.net/de/party/pakari-alternative-festival/116959
CATEGORIES:Psytrance Event
CLASS:PUBLIC
END:VEVENT

BEGIN:VEVENT
UID:1c0b737ece88055f5492c14134264335
DTSTART:20260601T140000
DTEND:20260602T080000
LOCATION:Cimolais (PN) [Italy]
GEO:0.000000000;0.000000000
DTSTAMP:20260601T140000Z
SUMMARY:Goa Destination Mountain 18H
DESCRIPTION:Line-Up: Line Up GOA OPEN AIR AREA (A-Z): Bug Experience (Goa
  Destination/ITA:Dj&Producer of:GoaMinimale&FullOnJumping) Casuelix…
  Location: Osteria di Mezzo (in foto), Pian Pinedo 2 (di fronte
  stabilimento Dolomia), Cimolais (PN)
URL:https://www.goabase.net/de/party/goa-destination-mountain-18h/115484
CATEGORIES:Psytrance Event
CLASS:PUBLIC
END:VEVENT

BEGIN:VEVENT
UID:80c179d90176cc714db774f2d5f25e6c
DTSTART:20260605T120000
DTEND:20260607T120000
LOCATION:Rurrenabaque [Bolivia]
GEO:-14.442820000;-67.529790000
DTSTAMP:20260605T120000Z
SUMMARY:Amazon Festival 2026
DESCRIPTION:Line-Up: ((VJs)) 🌈 Fractal VJ Project ((Art.Marc369))(BOL) 🌈 VJ Kid
  Infame (BOL) ((DJs Confirmados)) 🎧 AdrenAline ((Tribolite… Location:
  Altura: Piscina ¨El Mirador¨, Calle Avaroa esquina Vaca Diez,
  Rurrenabaque, 0000 Rurrenabaque
URL:https://www.goabase.net/de/festival/amazon-festival-2026/116750
CATEGORIES:Psytrance Event
CLASS:PUBLIC
END:VEVENT

BEGIN:VEVENT
UID:5fbba0d6dc0ae016114efae122386139
DTSTART:20260613T100000
DTEND:20260614T000000
LOCATION:Prignano sulla Secchia (MO) [Italy]
GEO:0.000000000;0.000000000
DTSTAMP:20260613T100000Z
SUMMARY:RITUAL
DESCRIPTION:Line-Up: Line up dalle 10 a mezzanotte! Line up from 10 A.M. to
  midnight! Sadualis LO.RENZO (Global Bass) Amanita Roger Bodhi LO.…
  Location: Rupe del Pescale, Modena, Via Sassuolo 3° Tronco, 6291, 41048
  Prignano sulla Secchia M…, 41048 Prignano sulla Secchia (MO)
URL:https://www.goabase.net/de/party/ritual/117436
CATEGORIES:Psytrance Event
CLASS:PUBLIC
END:VEVENT

BEGIN:VEVENT
UID:5fc35f29453c24ae0e8a2c8bb131b501
DTSTART:20260618T160000
DTEND:20260621T200000
LOCATION:Ludos - Sibiu [Romania]
GEO:0.000000000;0.000000000
DTSTAMP:20260618T160000Z
SUMMARY:Solomonari festival 2026
DESCRIPTION:Line-Up: Solomonari Stage ETNICA - TALAMASCA - TRANSWAVE - DIGICULT -
  SUN PROJECT - TROPICAL BLEYAGE - AGNETON - ATMA - PLEIADIAN… Location:
  Ludos, , Ludos - Sibiu
URL:https://www.goabase.net/de/festival/solomonari-festival-2026/116022
CATEGORIES:Psytrance Event
CLASS:PUBLIC
END:VEVENT

BEGIN:VEVENT
UID:ed26436e718e75415ae49b0e8a8368ca
DTSTART:20260620T180000
DTEND:20260621T180000
LOCATION:Santa Pola, Alicante [Spain]
GEO:0.000000000;0.000000000
DTSTAMP:20260620T180000Z
SUMMARY:The Garden Of The Wild Forms
DESCRIPTION:Line-Up: TBA Location: El Oasis, El Oasis, Marina del Pinet, Santa
  Pola, Alicante
URL:https://www.goabase.net/de/party/the-garden-of-the-wild-forms/117056
CATEGORIES:Psytrance Event
CLASS:PUBLIC
END:VEVENT

BEGIN:VEVENT
UID:05bc86b87d61de5773ce2e6465b5ea17
DTSTART:20260624T180000
DTEND:20260628T160000
LOCATION:Vítkov [Czech Republic]
GEO:49.744969400;17.689941700
DTSTAMP:20260624T180000Z
SUMMARY:UFO BUFO FESTIVAL 2026
DESCRIPTION:Line-Up: 140+ artists on 4 stages see for updates Location: RS
  Hadinka, Vítkov - Klokočov, Staré Oldřůvky 94, 747 87 Vítkov
URL:https://www.goabase.net/de/festival/ufo-bufo-festival-2026/117108
CATEGORIES:Psytrance Event
CLASS:PUBLIC
END:VEVENT

BEGIN:VEVENT
UID:f2a6d3c8e08fed7cdf0eb947975c2761
DTSTART:20260627T100000
DTEND:20260628T000000
LOCATION:Prignano sulla Secchia (MO) [Italy]
GEO:0.000000000;0.000000000
DTSTAMP:20260627T100000Z
SUMMARY:RITUAL
DESCRIPTION:Line-Up: Line up dalle 10 a mezzanotte! Line up from 10 A.M. to
  midnight! Ortcloud Bodhi Nioric Matrika Sunrize OVERGRIND Omgiaco…
  Location: Rupe del Pescale, Modena, Via Sassuolo 3° Tronco, 6291, 41048
  Prignano sulla Secchia M…, 41048 Prignano sulla Secchia (MO)
URL:https://www.goabase.net/de/party/ritual/117437
CATEGORIES:Psytrance Event
CLASS:PUBLIC
END:VEVENT

BEGIN:VEVENT
UID:f70e0f0d9ed932c4b58254838cab472b
DTSTART:20260704T140000
DTEND:20260705T000000
LOCATION:Tilburg [Netherlands]
GEO:51.600000000;5.100000000
DTSTAMP:20260704T140000Z
SUMMARY:Oyasin Festival
DESCRIPTION:Line-Up: Saint Angeliqa Raya P.Vredig Live Set Liken Medicine Ray
  Zensy Lamot Shimmer Knisper D=p+cer Shaiman B2 Crew Isaac Nomad…
  Location: Bosvreugd, Reeshofdijk 12, 5044VB Tilburg
URL:https://www.goabase.net/de/party/oyasin-festival/117393
CATEGORIES:Psytrance Event
CLASS:PUBLIC
END:VEVENT

BEGIN:VEVENT
UID:98b72af47f0d367b2b2b2ef2d3bb2980
DTSTART:20260711T100000
DTEND:20260712T000000
LOCATION:Prignano sulla Secchia (MO) [Italy]
GEO:0.000000000;0.000000000
DTSTAMP:20260711T100000Z
SUMMARY:RITUAL
DESCRIPTION:Line-Up: Line up dalle 10 a mezzanotte! Line up from 10 A.M. to
  midnight! Albi Manelli Circadian Phases Saduah Roger Bodhi JHORA…
  Location: Rupe del Pescale, Modena, Via Sassuolo 3° Tronco, 6291, 41048
  Prignano sulla Secchia M…, 41048 Prignano sulla Secchia (MO)
URL:https://www.goabase.net/de/party/ritual/117438
CATEGORIES:Psytrance Event
CLASS:PUBLIC
END:VEVENT

BEGIN:VEVENT
UID:9c9191126a1afc797de258b77d4fc917
DTSTART:20260716T120000
DTEND:20260720T120000
LOCATION:Spengla [Lithuania]
GEO:0.000000000;0.000000000
DTSTAMP:20260716T120000Z
SUMMARY:Yaga Gathering 2026
DESCRIPTION:Line-Up: See the website
URL:https://www.goabase.net/de/festival/yaga-gathering-2026/117269
CATEGORIES:Psytrance Event
CLASS:PUBLIC
END:VEVENT

BEGIN:VEVENT
UID:02e8b5efb2c6a745ee32b55c5a4abf13
DTSTART:20260716T220000
DTEND:20260720T120000
LOCATION:Bourgogne [France]
GEO:49.349620000;4.071110000
DTSTAMP:20260716T220000Z
SUMMARY:Nataraja Psychedelic Gathering 2026 | 10 YEARS
DESCRIPTION:Line-Up: TBA Location: Domats, , 89150 Bourgogne
URL:https://www.goabase.net/de/festival/nataraja-psychedelic-gathering-2026-10-years/116240
CATEGORIES:Psytrance Event
CLASS:PUBLIC
END:VEVENT

BEGIN:VEVENT
UID:b11e40ab226a54704a4bd38d97829d75
DTSTART:20260716T220000
DTEND:20260719T213000
LOCATION:Valeč-Chyše, Tschechien [Czech Republic]
GEO:0.000000000;0.000000000
DTSTAMP:20260716T220000Z
SUMMARY:Sonic Substance Festival
DESCRIPTION:Location: Jinotaj, , 364 55 Valeč-Chyše, Tschechien
URL:https://www.goabase.net/de/festival/sonic-substance-festival/117111
CATEGORIES:Psytrance Event
CLASS:PUBLIC
END:VEVENT

BEGIN:VEVENT
UID:5eea07be8bdde48f0f31eabc9bfbdf15
DTSTART:20260724T170000
DTEND:20260726T130000
LOCATION:Namborn / Saarland [Germany]
GEO:0.000000000;0.000000000
DTSTAMP:20260724T170000Z
SUMMARY:Luminara Gathering 2026
DESCRIPTION:Line-Up: TBA
URL:https://www.goabase.net/de/festival/luminara-gathering-2026/117185
CATEGORIES:Psytrance Event
CLASS:PUBLIC
END:VEVENT

BEGIN:VEVENT
UID:87aa599bb1fa0999ae9142e1986f886a
DTSTART:20260806T220000
DTEND:20260810T060000
LOCATION:Pastewnik [Poland]
GEO:50.884760000;16.029900000
DTSTAMP:20260806T220000Z
SUMMARY:Uroczysko Festival 2026 -10!
DESCRIPTION:Line-Up: TBA
URL:https://www.goabase.net/de/festival/uroczysko-festival-2026-10/117427
CATEGORIES:Psytrance Event
CLASS:PUBLIC
END:VEVENT

BEGIN:VEVENT
UID:c6d2d045dce3a282706b6388e58ff1ee
DTSTART:20260810T220000
DTEND:20260814T120000
LOCATION:Aragón [Spain]
GEO:38.890370000;-77.031960000
DTSTAMP:20260810T220000Z
SUMMARY:Sizigia Eclipse Gathering 2026
DESCRIPTION:Line-Up: - ORIGEN STAGE - (Psychedelic Trance) 1200 MIC by Riktam 3LMT
  ACE VENTURA AMETRINA AMPLIFY B2B HYPNOISE ANNY ANOEBIS ARJ… Location:
  Embalse de la Sotonera, Ctra. Camping, 4, 22283 Alcalá de Gurrea,
  Huesca, Spain, 22283 Aragón
URL:https://www.goabase.net/de/festival/sizigia-eclipse-gathering-2026/115726
CATEGORIES:Psytrance Event
CLASS:PUBLIC
END:VEVENT

BEGIN:VEVENT
UID:c571a2788f40162636ec065b167cef18
DTSTART:20261030T200000
DTEND:20261101T220000
LOCATION:San Vicente de Tagua Tagua [Chile]
GEO:0.000000000;0.000000000
DTSTAMP:20261030T200000Z
SUMMARY:🌒 Lux Noctis ✦ I OPEN AIR I 31 OCT
DESCRIPTION:Line-Up: LUX NOCTIS - OPEN AIR A veces, un lugar no aparece en los
  mapas 🜂 Aparece en la memoria 🌒 Entre árboles, neblina y sonid…
  Location: Centro de Eventos Bosques de Gulutren, , San Vicente de Tagua
  Tagua
URL:https://www.goabase.net/de/party/lux-noctis-i-open-air-i-31-oct/117387
CATEGORIES:Psytrance Event
CLASS:PUBLIC
END:VEVENT

END:VCALENDAR