BEGIN:VCALENDAR
VERSION:2.0
PRODID:goabase.net iCalendar 2026
X-WR-CALNAME:goabase.net - parties and people 
X-WR-TIMEZONE;VALUE=TEXT:Europe/Berlin
CALSCALE:GREGORIAN
BEGIN:VTIMEZONE
TZID:Europe/Berlin
X-LIC-LOCATION:Europe/Berlin
BEGIN:DAYLIGHT
TZOFFSETFROM:+0100
TZOFFSETTO:+0200
TZNAME:CEST
DTSTART:19700329T020000
RRULE:FREQ=YEARLY;INTERVAL=1;BYDAY=-1SU;BYMONTH=3
END:DAYLIGHT
BEGIN:STANDARD
TZOFFSETFROM:+0200
TZOFFSETTO:+0100
TZNAME:CET
DTSTART:19701025T030000
RRULE:FREQ=YEARLY;INTERVAL=1;BYDAY=-1SU;BYMONTH=10
END:STANDARD
END:VTIMEZONE

BEGIN:VEVENT
UID:4a30968a602829cbdcc0f20d46096fcb
DTSTART:20270213T210000
DTEND:20270214T080000
LOCATION:Kloten [Switzerland]
GEO:47.500000000;8.600000000
DTSTAMP:20270213T210000Z
SUMMARY:LOVE EXPERIENCE - the last chapter
DESCRIPTION:Line-Up: . ✨ Psychedelic & Progressive Trance ✨ join us here for
  Infos, Pics & Videos: ✨ ✨ ☆ Decoration… Location: Club & Lounge Floor,
  Oberfeldstrasse 12a, 8302 Kloten
URL:https://www.goabase.net/de/party/love-experience-the-last-chapter/117156
CATEGORIES:Psytrance Event
CLASS:PUBLIC
END:VEVENT

END:VCALENDAR