BEGIN:VCALENDAR
VERSION:2.0
PRODID:goabase.net iCalendar 2026
X-WR-CALNAME:goabase.net - parties and people 
X-WR-TIMEZONE;VALUE=TEXT:Europe/Berlin
CALSCALE:GREGORIAN
BEGIN:VTIMEZONE
TZID:Europe/Berlin
X-LIC-LOCATION:Europe/Berlin
BEGIN:DAYLIGHT
TZOFFSETFROM:+0100
TZOFFSETTO:+0200
TZNAME:CEST
DTSTART:19700329T020000
RRULE:FREQ=YEARLY;INTERVAL=1;BYDAY=-1SU;BYMONTH=3
END:DAYLIGHT
BEGIN:STANDARD
TZOFFSETFROM:+0200
TZOFFSETTO:+0100
TZNAME:CET
DTSTART:19701025T030000
RRULE:FREQ=YEARLY;INTERVAL=1;BYDAY=-1SU;BYMONTH=10
END:STANDARD
END:VTIMEZONE

BEGIN:VEVENT
UID:05bc86b87d61de5773ce2e6465b5ea17
DTSTART:20260624T180000
DTEND:20260628T160000
LOCATION:Vítkov [Czech Republic]
GEO:49.744969400;17.689941700
DTSTAMP:20260624T180000Z
SUMMARY:UFO BUFO FESTIVAL 2026
DESCRIPTION:Line-Up: 140+ artists on 4 stages see for updates Location: RS
  Hadinka, Vítkov - Klokočov, Staré Oldřůvky 94, 747 87 Vítkov
URL:https://www.goabase.net/de/festival/ufo-bufo-festival-2026/117108
CATEGORIES:Psytrance Event
CLASS:PUBLIC
END:VEVENT

BEGIN:VEVENT
UID:3f998bd764c4ac9ee74e641118bf7abc
DTSTART:20260625T120000
DTEND:20260629T120000
LOCATION:izmir [Turkey]
GEO:38.400000000;27.100000000
DTSTAMP:20260625T120000Z
SUMMARY:Dragonfly Festival Turkiye
DESCRIPTION:Line-Up: From the creators of Karma Festival. 12 nations. One stage.
  Karagöl becomes home to the global psy tribe. The first wave… Location:
  Karagol Nature Park, , izmir
URL:https://www.goabase.net/de/festival/dragonfly-festival-turkiye/116919
CATEGORIES:Psytrance Event
CLASS:PUBLIC
END:VEVENT

BEGIN:VEVENT
UID:4ffe256c0880938d90c6d2cb6a4e23ac
DTSTART:20260625T130000
DTEND:20260628T170000
LOCATION:Zernez [Switzerland]
GEO:46.700000000;10.100000000
DTSTAMP:20260625T130000Z
SUMMARY:Burning Mountain Festival 2026
DESCRIPTION:Line-Up: TBA Location: Wiese Praschitsch, Festivalgelände Praschitsch,
  7530 Zernez
URL:https://www.goabase.net/de/festival/burning-mountain-festival-2026/116157
CATEGORIES:Psytrance Event
CLASS:PUBLIC
END:VEVENT

BEGIN:VEVENT
UID:00019f1c260e1c703e59cd09bd9dae51
DTSTART:20260625T220000
DTEND:20260629T120000
LOCATION:Datça - Muğla [Turkey]
GEO:0.000000000;0.000000000
DTSTAMP:20260625T220000Z
SUMMARY:Back to Nature Festival 2026 🌕 20th Year of Mind Manifest
DESCRIPTION:Line-Up: T.B.A. Location: Göknar Knidos Nature Hotel, Yazı Mahallesi
  Küme Evler Sokak No 347 Knidos, Datça, Turkey, Datça - Muğla
URL:https://www.goabase.net/de/festival/back-to-nature-festival-2026-20th-year-of-mind-manifest/116521
CATEGORIES:Psytrance Event
CLASS:PUBLIC
END:VEVENT

BEGIN:VEVENT
UID:f2a6d3c8e08fed7cdf0eb947975c2761
DTSTART:20260627T100000
DTEND:20260628T000000
LOCATION:Prignano sulla Secchia (MO) [Italy]
GEO:0.000000000;0.000000000
DTSTAMP:20260627T100000Z
SUMMARY:RITUAL
DESCRIPTION:Line-Up: Line up dalle 10 a mezzanotte! Line up from 10 A.M. to
  midnight! Ortcloud Bodhi Nioric Matrika Sunrize OVERGRIND Omgiaco…
  Location: Rupe del Pescale, Modena, Via Sassuolo 3° Tronco, 6291, 41048
  Prignano sulla Secchia M…, 41048 Prignano sulla Secchia (MO)
URL:https://www.goabase.net/de/party/ritual/117437
CATEGORIES:Psytrance Event
CLASS:PUBLIC
END:VEVENT

END:VCALENDAR