BEGIN:VCALENDAR
VERSION:2.0
PRODID:goabase.net iCalendar 2026
X-WR-CALNAME:goabase.net - parties and people 
X-WR-TIMEZONE;VALUE=TEXT:Europe/Berlin
CALSCALE:GREGORIAN
BEGIN:VTIMEZONE
TZID:Europe/Berlin
X-LIC-LOCATION:Europe/Berlin
BEGIN:DAYLIGHT
TZOFFSETFROM:+0100
TZOFFSETTO:+0200
TZNAME:CEST
DTSTART:19700329T020000
RRULE:FREQ=YEARLY;INTERVAL=1;BYDAY=-1SU;BYMONTH=3
END:DAYLIGHT
BEGIN:STANDARD
TZOFFSETFROM:+0200
TZOFFSETTO:+0100
TZNAME:CET
DTSTART:19701025T030000
RRULE:FREQ=YEARLY;INTERVAL=1;BYDAY=-1SU;BYMONTH=10
END:STANDARD
END:VTIMEZONE

BEGIN:VEVENT
UID:293ad6ce0765314912efe3b94a2e12b3
DTSTART:20231104T160000
DTEND:20231105T140000
LOCATION:Tokyo [Japan]
GEO:35.700000000;139.800000000
DTSTAMP:20231104T160000Z
SUMMARY:Cave of God Eye Vol.4x ~ The Winter Rave ~
DESCRIPTION:Line-Up: ■□ Head Liner / Internationa Guest □■ Tristan (Nano Records)
  - 3 Hours Set - Alien Project (H2O Records) - Long Set - ■□… Location:
  Ooba Camp Village, 東京都西多摩郡日の出町大久野3741, 191-0081 Tokyo
URL:https://www.goabase.net/de/party/cave-of-god-eye-vol4x-the-winter-rave/111146
CATEGORIES:Psytrance Event
CLASS:PUBLIC
END:VEVENT

BEGIN:VEVENT
UID:200c986543aba622336a9bb50f431572
DTSTART:20230603T120000
DTEND:20230604T143000
LOCATION:Tokyo [Japan]
GEO:35.700000000;139.800000000
DTSTAMP:20230603T120000Z
SUMMARY:Cave of God Eye Vol.4 - The 604 Full Moon Night -
DESCRIPTION:Line-Up: ●⚫︎ - Line Up --⚫︎● [ International Act ] ETNICA from Italy
  (Etnicanet Records) Roy aka Shidapu from Israel (Zion 604 Re… Location:
  Ooba Camp Village, 東京都西多摩郡日の出町大久野3741, 191-0081 Tokyo
URL:https://www.goabase.net/de/party/cave-of-god-eye-vol4-the-604-full-moon-night/110517
CATEGORIES:Psytrance Event
CLASS:PUBLIC
END:VEVENT

BEGIN:VEVENT
UID:38ca3ad0889515473266c097dd6304c6
DTSTART:20200829T230000
DTEND:20200830T050000
LOCATION:Tokyo [Japan]
GEO:35.700000000;139.800000000
DTSTAMP:20200829T230000Z
SUMMARY:COT presents “summer 2020 OPEN AIR RAVE”
DESCRIPTION:Line-Up: 【WATER】 □ TITLE COT □ GENRE PSYCHEDELIC TRANCE ■ GUEST
  TSUYOSHI SUZUKI (Matsuri Digital) HATTA (Grasshopper Records) ■ L…
URL:https://www.goabase.net/de/party/cot-presents-summer-2020-open-air-rave/106860
CATEGORIES:Psytrance Event
CLASS:PUBLIC
END:VEVENT

BEGIN:VEVENT
UID:52dc686fcb933d5dbeefe383f67fe3ab
DTSTART:20200508T180000
DTEND:20200509T060000
LOCATION:Tokyo [Japan]
GEO:35.700000000;139.800000000
DTSTAMP:20200508T180000Z
SUMMARY:Save Koenji Cave! Dj & Live streaming & Talk ~Final Session~ (配信/Streaming Only)
DESCRIPTION:Line-Up: ▶︎プログラム / Program & Line up 18:00▶︎ -Greetings & Opening
  Talk- by Tsuyoshi Suzuki　 18:20▶︎ (live) Solo Guitar Show by Fu…
URL:https://www.goabase.net/de/party/save-koenji-cave-dj-live-streaming-talk-final-session-streaming-only/106659
CATEGORIES:Psytrance Event
CLASS:PUBLIC
END:VEVENT

BEGIN:VEVENT
UID:a13d301fe48f61d9a7e3891e0357a028
DTSTART:20200504T150000
DTEND:20200504T220000
LOCATION:Tokyo [Japan]
GEO:35.689500000;139.691710000
DTSTAMP:20200504T150000Z
SUMMARY:Save Koenji Cave! Dj & Live streaming & Talk ~GW Session~ (Online Streaming/配信)
DESCRIPTION:Line-Up: Tsuyoshi Suzuki Cylon Uni and More ! 　 ▶︎プログラム / Program &
  Line up 15:00 ▶︎ -Opening Set - Cave Sisters 15:30 ▶︎ -Talk-…
URL:https://www.goabase.net/de/party/save-koenji-cave-dj-live-streaming-talk-gw-session-online-streaming/106658
CATEGORIES:Psytrance Event
CLASS:PUBLIC
END:VEVENT

BEGIN:VEVENT
UID:fa3b823f36746fd87ed41e9d1013ebd9
DTSTART:20200427T190000
DTEND:20200427T230000
LOCATION:Tokyo [Japan]
GEO:35.705333000;139.649731400
DTSTAMP:20200427T190000Z
SUMMARY:Save Koenji Cave! Dj's Live & Talk Special! (配信/Live Streaming)
DESCRIPTION:Line-Up: Tsuyoshi Suzuki (Matsuri Digital) DJ HATTA ( Grasshopper
  Records / 原点回帰) YUTA (Liquid Drop Groove) Crowdfunding project…
URL:https://www.goabase.net/de/party/save-koenji-cave-djs-live-talk-special-live-streaming/106646
CATEGORIES:Psytrance Event
CLASS:PUBLIC
END:VEVENT

BEGIN:VEVENT
UID:8af4a00e913e01a9512939fe304acbf2
DTSTART:20200404T230000
DTEND:20200405T070000
LOCATION:Tokyo [Japan]
GEO:35.705333000;139.649731400
DTSTAMP:20200404T230000Z
SUMMARY:Co:Fusion Chapter 3 - The Psychedelic Session - Feat. reflex  (Goa/PsyTrance)
DESCRIPTION:Line-Up: Main Floor△The Psychedelic Session DJs： CYLON (Grasshopper
  Rec / Black Flys) Tsuyoshi Suzuki (MATSURI DIGITAL / Prana /…
URL:https://www.goabase.net/de/party/cofusion-chapter-3-the-psychedelic-session-feat-reflex-goapsytrance/106541
CATEGORIES:Psytrance Event
CLASS:PUBLIC
END:VEVENT

BEGIN:VEVENT
UID:2d44ae49c9aa3b14e6f765d3b1a456f7
DTSTART:20200111T230000
DTEND:20200112T083000
LOCATION:Tokyo [Japan]
GEO:35.705333000;139.649731400
DTSTAMP:20200111T230000Z
SUMMARY:Nu Year Goa Trance Party 2020 ~Return 2 the Source~
DESCRIPTION:Line-Up: ▲Main Floor ॐ Return to The Source - Goa Trance 1000% New
  year Special Guest ॐ Shidapu from Israel (Zion 604) 　 ▲Live ॐ…
URL:https://www.goabase.net/de/party/nu-year-goa-trance-party-2020-return-2-the-source/105609
CATEGORIES:Psytrance Event
CLASS:PUBLIC
END:VEVENT

BEGIN:VEVENT
UID:7f33a3d84bbf0a665750603ed84320ad
DTSTART:20191222T160000
DTEND:20191222T230000
LOCATION:Tokyo [Japan]
GEO:35.700000000;139.800000000
DTSTAMP:20191222T160000Z
SUMMARY:Matsuri Digital Chill presents 忘年祭 (End of year party) in Dub
DESCRIPTION:Line-Up: 1F - Psy Dub International Guest from Spain Kukan dUb Lagan
  (Feel Life Music) 　 Tsuyoshi Suzuki (MATSURI DIGITAL) Funky…
URL:https://www.goabase.net/de/party/matsuri-digital-chill-presents-end-of-year-party-in-dub/105610
CATEGORIES:Psytrance Event
CLASS:PUBLIC
END:VEVENT

BEGIN:VEVENT
UID:e81aa547c3e74e078202133464cfeeb8
DTSTART:20191130T230000
DTEND:20191201T073000
LOCATION:Tokyo [Japan]
GEO:35.705333000;139.649731400
DTSTAMP:20191130T230000Z
SUMMARY:Koenji Cave 10 Years Anniversary feat. Tsuyoshi Suzuki
DESCRIPTION:Line-Up: ▸★Forever Psychedelic Floor★◂ ▸6 hours non-stop
  &quot;Birthday&quot; Psychedelic Journey by TSUYOSHI SUZUKI (MATSURI D…
URL:https://www.goabase.net/de/party/koenji-cave-10-years-anniversary-feat-tsuyoshi-suzuki/105425
CATEGORIES:Psytrance Event
CLASS:PUBLIC
END:VEVENT

BEGIN:VEVENT
UID:af718c2be51e4f1ca06c080c7174f51d
DTSTART:20190720T230000
DTEND:20190721T083000
LOCATION:Tokyo [Japan]
GEO:35.705333000;139.649731400
DTSTAMP:20190720T230000Z
SUMMARY:Little Maharashtra ~ Back 2 the Future Vol.8 ~ Goa Tribe 7th Anniversary Edition
DESCRIPTION:Line-Up: Line up► ►Sun-dawn Floor (Main Room) 　 ॐ Special Guest:
  K.U.R.O. (Psyristor Trax) MASA (SpaceGathering/Hypnodisk/Ante…
URL:https://www.goabase.net/de/party/little-maharashtra-back-2-the-future-vol8-goa-tribe-7th-anniversary-edition/104323
CATEGORIES:Psytrance Event
CLASS:PUBLIC
END:VEVENT

BEGIN:VEVENT
UID:d9ebe4f34235054c570aa74368fbb664
DTSTART:20190629T230000
DTEND:20190630T063000
LOCATION:Tokyo [Japan]
GEO:35.705333000;139.649731400
DTSTAMP:20190629T230000Z
SUMMARY:Jikooha Night!
DESCRIPTION:Line-Up: 【Main Floor】 ★Live★ JIKOOHA (Matsuri Digital / Panorama Rec.
  / Shamanarchy) Shimodi (Jikooha / Shamanarchy) ★DJ★ Jun (Ji…
URL:https://www.goabase.net/de/party/jikooha-night/104119
CATEGORIES:Psytrance Event
CLASS:PUBLIC
END:VEVENT

BEGIN:VEVENT
UID:c4ff8ee50d7c952ce1e2772db3acf061
DTSTART:20190613T233000
DTEND:20190614T070000
LOCATION:Tel Aviv [Israel]
GEO:32.088793900;34.783126200
DTSTAMP:20190613T233000Z
SUMMARY:Communa & Bali Dhali prs: Zion 604 7th BDAY party
DESCRIPTION:Line-Up: שבע שנים של עשייה שבע שנים של יצירה שבע שנים של אתגרים,
  הצלחות, השראה וצמיחה. שום דבר בעולם הזה לא קבוע. הכל נמצא בתנועה…
URL:https://www.goabase.net/de/party/communa-bali-dhali-prs-zion-604-7th-bday-party/104011
CATEGORIES:Psytrance Event
CLASS:PUBLIC
END:VEVENT

BEGIN:VEVENT
UID:88f3832bf19ce1648b9dca47ebbaa57c
DTSTART:20190601T223000
DTEND:20190602T073000
LOCATION:Tokyo [Japan]
GEO:35.705333000;139.649731400
DTSTAMP:20190601T223000Z
SUMMARY:Forever Psychedelic Ⅲ ~ Tsuyoshi Suzuki 6 hours ~ Deck Wizards
DESCRIPTION:Line-Up: Line Up▷ Forever Psychedelic Floor 6 hours set ▷Tsuyoshi
  Suzuki (MATSURI DIGITAL/Prana/Goken) 　 Open Journey.. Acid ch…
URL:https://www.goabase.net/de/party/forever-psychedelic-tsuyoshi-suzuki-6-hours-deck-wizards/103825
CATEGORIES:Psytrance Event
CLASS:PUBLIC
END:VEVENT

BEGIN:VEVENT
UID:a0af9674e3ba1abcf5033cb0f73d33d3
DTSTART:20190525T230000
DTEND:20190526T070000
LOCATION:Tokyo [Japan]
GEO:35.705333000;139.649731400
DTSTAMP:20190525T230000Z
SUMMARY:Retrospective Exhibition of UBAR TMAR ~大回顧展2019~
DESCRIPTION:Line-Up: Retrospective Exhibition Floor◆ ◆UBAR TMAR ( Panorama Records
  / Matsuribeats-Bookings) Facebook：uvAntam aka Ubar Tmar Tw…
URL:https://www.goabase.net/de/party/retrospective-exhibition-of-ubar-tmar-2019/103824
CATEGORIES:Psytrance Event
CLASS:PUBLIC
END:VEVENT

BEGIN:VEVENT
UID:b210544e92dbe2e3d9df1e97ab68e3f0
DTSTART:20180630T230000
DTEND:20180701T070000
LOCATION:Tokyo [Japan]
GEO:35.705333000;139.649731400
DTSTAMP:20180630T230000Z
SUMMARY:Puzzle Session
DESCRIPTION:Line-Up: Main Floor : Live act - Shimodi Djs - Mothership
  (Shangri-La/Phar Psyde Records) - けものみち (FLASH/未来工場) - Minoru(Daze
  Maze…
URL:https://www.goabase.net/de/party/puzzle-session/100194
CATEGORIES:Psytrance Event
CLASS:PUBLIC
END:VEVENT

BEGIN:VEVENT
UID:96b56c13514cd0a38d4ccb4b351f46c5
DTSTART:20180617T180000
DTEND:20180618T020000
LOCATION:Okinawa [Japan]
GEO:26.335984700;127.799292100
DTSTAMP:20180617T180000Z
SUMMARY:Liquid Drop Groove presents "ACID JAM" in b.p.m. --Psychedelic Acid Techno Party
DESCRIPTION:Line-Up: Special Acid Jam Artists: Alien Rain aka Milton Bradley from
  Berlin Alex Tolstey (Boshke Beats) from Panama 　 Acid Jam…
URL:https://www.goabase.net/de/party/liquid-drop-groove-presents-acid-jam-in-bpm-psychedelic-acid-techno-party/100192
CATEGORIES:Psytrance Event
CLASS:PUBLIC
END:VEVENT

BEGIN:VEVENT
UID:f20033dcef8dc14977494ada0fe2fa04
DTSTART:20180616T233000
DTEND:20180617T063000
LOCATION:Tokyo [Japan]
GEO:35.680072800;139.768524200
DTSTAMP:20180616T233000Z
SUMMARY:Liquid Drop Groove "2nd Anniversary Special feat Boshke Beats"
DESCRIPTION:Line-Up: CAST： Alien Rain a.k.a Milton Bradley from Germany Eitan
  Reiter from Israel Alex Tolstey (Boshke Beats) from Panama Tez…
URL:https://www.goabase.net/de/party/liquid-drop-groove-2nd-anniversary-special-feat-boshke-beats/100190
CATEGORIES:Psytrance Event
CLASS:PUBLIC
END:VEVENT

BEGIN:VEVENT
UID:722f373e1eb9859644ea3b7a91b1774e
DTSTART:20180609T220000
DTEND:20180610T070000
LOCATION:Tokyo [Japan]
GEO:35.705333000;139.649731400
DTSTAMP:20180609T220000Z
SUMMARY:Koenji CAVE Presents ≪≪ Epoch Making Vol.2 ≫≫
DESCRIPTION:Line-Up: ▱ Main Floor ▱ ▶︎▶︎▶︎International Guest DJ ♣︎Daksinamurti
  (Sangoma Records) From Germany ▶︎▶︎▶︎DJs ♣︎Jugen Takada (L…
URL:https://www.goabase.net/de/party/koenji-cave-presents-epoch-making-vol2/100191
CATEGORIES:Psytrance Event
CLASS:PUBLIC
END:VEVENT

BEGIN:VEVENT
UID:a488e4f175af68d0bdbb6134193160e6
DTSTART:20180609T190000
DTEND:20180610T120000
LOCATION:Shikoku [Japan]
GEO:0.000000000;0.000000000
DTSTAMP:20180609T190000Z
SUMMARY:ODRB presents Cosmic dual forces~陰陽~
DESCRIPTION:Line-Up: ✴︎Alien Rain aka Milton Bradley ✴︎Alex Tolstey (Boshke Beats)
  ✴︎YUTA (Liquid Drop Groove) ✴︎HRK (Matsuri Digital Chill)…
URL:https://www.goabase.net/de/party/odrb-presents-cosmic-dual-forces/100193
CATEGORIES:Psytrance Event
CLASS:PUBLIC
END:VEVENT

END:VCALENDAR