BEGIN:VCALENDAR
VERSION:2.0
PRODID:goabase.net iCalendar 2026
X-WR-CALNAME:goabase.net - parties and people 
X-WR-TIMEZONE;VALUE=TEXT:Europe/Berlin
CALSCALE:GREGORIAN
BEGIN:VTIMEZONE
TZID:Europe/Berlin
X-LIC-LOCATION:Europe/Berlin
BEGIN:DAYLIGHT
TZOFFSETFROM:+0100
TZOFFSETTO:+0200
TZNAME:CEST
DTSTART:19700329T020000
RRULE:FREQ=YEARLY;INTERVAL=1;BYDAY=-1SU;BYMONTH=3
END:DAYLIGHT
BEGIN:STANDARD
TZOFFSETFROM:+0200
TZOFFSETTO:+0100
TZNAME:CET
DTSTART:19701025T030000
RRULE:FREQ=YEARLY;INTERVAL=1;BYDAY=-1SU;BYMONTH=10
END:STANDARD
END:VTIMEZONE

BEGIN:VEVENT
UID:19c9e7d4563887ac73b6ed0a8c696677
DTSTART:20090918T220000
DTEND:20090920T180000
LOCATION:Lucena Del Cid(Castellon) [Spain]
GEO:40.154000000;-0.280000000
DTSTAMP:20090918T220000Z
SUMMARY:ONCE UPON A TIME...
DESCRIPTION:Line-Up: QUANTICA (Syncromusic/Holophonic recs/aiam project) ibiza
  INSOMNIS (Midwaystation rec)portugal MR. IX (Neutronix recs/Li…
URL:https://www.goabase.net/de/festival/once-upon-a-time/47299
CATEGORIES:Psytrance Event
CLASS:PUBLIC
END:VEVENT

BEGIN:VEVENT
UID:15cf35792d3d2bbef794872ab368b745
DTSTART:20060929T220000
DTEND:20061001T200000
LOCATION:Near Alicante [Spain]
GEO:0.000000000;0.000000000
DTSTAMP:20060929T220000Z
SUMMARY:EQUINOCCIO TRANCE FESTIVAL
DESCRIPTION:Line-Up: QUANTICA ibz D.N.I (PSYDOM REC)bra AND INTERNATIONAL LIVE
  ACTS TO BE CONFIRMED.....
URL:https://www.goabase.net/de/festival/equinoccio-trance-festival/26622
CATEGORIES:Psytrance Event
CLASS:PUBLIC
END:VEVENT

BEGIN:VEVENT
UID:b04d94967cf301ed3ed9cbf7464acb00
DTSTART:20060729T230000
DTEND:20060730T220000
LOCATION:alicante [Spain]
GEO:0.000000000;0.000000000
DTSTAMP:20060729T230000Z
SUMMARY:SINCHRONICITY
DESCRIPTION:
URL:https://www.goabase.net/de/party/sinchronicity/25968
CATEGORIES:Psytrance Event
CLASS:PUBLIC
END:VEVENT

BEGIN:VEVENT
UID:3ffcbd3126dff62fe87e02a4b5f26ac1
DTSTART:20051029T233000
DTEND:20051031T070000
LOCATION:between Tibi e Ibi (alicant… [Spain]
GEO:0.000000000;0.000000000
DTSTAMP:20051029T233000Z
SUMMARY:halloween free party
DESCRIPTION:
URL:https://www.goabase.net/de/party/halloween-free-party/20902
CATEGORIES:Psytrance Event
CLASS:PUBLIC
END:VEVENT

END:VCALENDAR