BEGIN:VCALENDAR
VERSION:2.0
PRODID:goabase.net iCalendar 2026
X-WR-CALNAME:goabase.net - parties and people 
X-WR-TIMEZONE;VALUE=TEXT:Europe/Berlin
CALSCALE:GREGORIAN
BEGIN:VTIMEZONE
TZID:Europe/Berlin
X-LIC-LOCATION:Europe/Berlin
BEGIN:DAYLIGHT
TZOFFSETFROM:+0100
TZOFFSETTO:+0200
TZNAME:CEST
DTSTART:19700329T020000
RRULE:FREQ=YEARLY;INTERVAL=1;BYDAY=-1SU;BYMONTH=3
END:DAYLIGHT
BEGIN:STANDARD
TZOFFSETFROM:+0200
TZOFFSETTO:+0100
TZNAME:CET
DTSTART:19701025T030000
RRULE:FREQ=YEARLY;INTERVAL=1;BYDAY=-1SU;BYMONTH=10
END:STANDARD
END:VTIMEZONE

BEGIN:VEVENT
UID:0e6de6ecbc43be8afea338dbb32a1c7d
DTSTART:20150919T210000
DTEND:20150920T210000
LOCATION:Fafe [Portugal]
GEO:41.800937700;43.442691800
DTSTAMP:20150919T210000Z
SUMMARY:..::& C O S M I C -  A G E  II &::.. B-Day Party Psytatton
DESCRIPTION:Line-Up: ....Caros amigos(as)... Ca voltamos para mais um aniversario
  Cósmico, desta vez passados 2 anos do aniversario abençoado…
URL:https://www.goabase.net/de/party/c-o-s-m-i-c-a-g-e-ii-b-day-party-psytatton/84747
CATEGORIES:Psytrance Event
CLASS:PUBLIC
END:VEVENT

BEGIN:VEVENT
UID:14641df85d01910c962736f9ab1e5514
DTSTART:20120922T230000
DTEND:20120923T170000
LOCATION:S. Jorge de Vizela - Vizela… [Portugal]
GEO:0.000000000;0.000000000
DTSTAMP:20120922T230000Z
SUMMARY:Cosmic Age  - Bday Psytatton Party
DESCRIPTION:Line-Up: S I N F U L R E A C T I O N S (3D Vision/MMD - Portugal) .. T
  R Y O N (Hypergate.Records) W I R E D (Terror Lab Indu…
URL:https://www.goabase.net/de/party/cosmic-age-bday-psytatton-party/68068
CATEGORIES:Psytrance Event
CLASS:PUBLIC
END:VEVENT

BEGIN:VEVENT
UID:4e451969da802d61146d9eaf8dfc44a8
DTSTART:20111105T230000
DTEND:20111106T070000
LOCATION:Guimaraes [Portugal]
GEO:0.000000000;0.000000000
DTSTAMP:20111105T230000Z
SUMMARY:Blizzhard B-Day Celebration
DESCRIPTION:Line-Up: -ABOMINATION (ISR) (Mind Control/ 2I4U) Abomination are: Saar
  Davidov (28) a talented Dj and Producer and Eyal Gershon…
URL:https://www.goabase.net/de/party/blizzhard-b-day-celebration/62016
CATEGORIES:Psytrance Event
CLASS:PUBLIC
END:VEVENT

BEGIN:VEVENT
UID:4f85451c6b5536acfad512633708b9e2
DTSTART:20110507T233000
DTEND:20110508T160000
LOCATION:Guimares - ( S. Mamede ) [Portugal]
GEO:0.000000000;0.000000000
DTSTAMP:20110507T233000Z
SUMMARY:ONE YEAR OF KARMA
DESCRIPTION:Line-Up: SICK ADDICTION (Time Code Rec.) D MANIAC (Namaha Records /
  One Foot Groove Records)
URL:https://www.goabase.net/de/party/one-year-of-karma/57632
CATEGORIES:Psytrance Event
CLASS:PUBLIC
END:VEVENT

BEGIN:VEVENT
UID:24a3a6501339d276d82b8ebcdba410ef
DTSTART:20110305T233000
DTEND:20110306T060000
LOCATION:BRAGA - NOGUEIRA (Zona Indu… [Portugal]
GEO:41.523000000;-8.399000000
DTSTAMP:20110305T233000Z
SUMMARY:Secrets of Darkness II
DESCRIPTION:Line-Up: -ANTAGON (GER.) (2to6records) APRESENTAÇAO DO ALBUM
  CYBERNETIC 2010 Antagon is a Psychedelic-Trance Live-Act from Hambu…
URL:https://www.goabase.net/de/party/secrets-of-darkness-ii/56584
CATEGORIES:Psytrance Event
CLASS:PUBLIC
END:VEVENT

BEGIN:VEVENT
UID:948cb1284c059e7d6fafc13864530f5a
DTSTART:20110212T233000
DTEND:20110213T080000
LOCATION:Nogueira - Braga [Portugal]
GEO:0.000000000;0.000000000
DTSTAMP:20110212T233000Z
SUMMARY:Bangers Calling
DESCRIPTION:Line-Up: -A-MUSH (3Dvision) -ABSENSE (Terror Lab Industries / Crystal
  Matrix) -FUSION WARRIORS (Aural Phonix Recs)
URL:https://www.goabase.net/de/party/bangers-calling/57335
CATEGORIES:Psytrance Event
CLASS:PUBLIC
END:VEVENT

BEGIN:VEVENT
UID:d65a5ab50aea2acbc2b57c7e1ae48903
DTSTART:20101204T230000
DTEND:20101205T170000
LOCATION:Guimaraes - casulo Bar [Portugal]
GEO:41.439000000;-8.297000000
DTSTAMP:20101204T230000Z
SUMMARY:Bang Season
DESCRIPTION:Line-Up: -DIRTY MOTION (S.A) (disasterpeace rec.) - A-MUSH (3Dvision)
  -KONNEKTOR (Blissful / Kosmic Fusion) -FUSION WARRIORS (…
URL:https://www.goabase.net/de/party/bang-season/56586
CATEGORIES:Psytrance Event
CLASS:PUBLIC
END:VEVENT

BEGIN:VEVENT
UID:b7e564c2e853dafb21f58854dd7346fb
DTSTART:20101101T080000
DTEND:20101101T170000
LOCATION:Zona de Guimaraes [Portugal]
GEO:0.000000000;0.000000000
DTSTAMP:20101101T080000Z
SUMMARY:Under FREE-way - After / Free party
DESCRIPTION:
URL:https://www.goabase.net/de/party/under-free-way-after-free-party/56334
CATEGORIES:Psytrance Event
CLASS:PUBLIC
END:VEVENT

BEGIN:VEVENT
UID:4284976e8a044eaad4cd033dc3e662ff
DTSTART:20100305T230000
DTEND:20100306T153000
LOCATION:S.Silvestre (Viana do Caste… [Portugal]
GEO:0.000000000;0.000000000
DTSTAMP:20100305T230000Z
SUMMARY:South Warriors
DESCRIPTION:Line-Up: -SINFUL REACTIONS (MMD rec./Carp_diem.rec.) -KONNEKTOR
  (kosmic fusion rec.) -DEMOSYS (ultravision rec. & digital comp…
URL:https://www.goabase.net/de/party/south-warriors/51519
CATEGORIES:Psytrance Event
CLASS:PUBLIC
END:VEVENT

BEGIN:VEVENT
UID:28ef1b7e5028d569f5e7d7a5c5e720e6
DTSTART:20090314T220000
DTEND:20090315T120000
LOCATION:Landim-Vila Nova de Famalic… [Portugal]
GEO:0.000000000;0.000000000
DTSTAMP:20090314T220000Z
SUMMARY:Psychedelic Vibrations
DESCRIPTION:Line-Up: A-MUSH (ultravision rec. | Blissful | buddha mantra rec.)
  IGNITION ( Materia Records | Hypergate Records) INTRUDER (Sa…
URL:https://www.goabase.net/de/party/psychedelic-vibrations/43820
CATEGORIES:Psytrance Event
CLASS:PUBLIC
END:VEVENT

END:VCALENDAR