BEGIN:VCALENDAR
VERSION:2.0
PRODID:goabase.net iCalendar 2026
X-WR-CALNAME:goabase.net - parties and people 
X-WR-TIMEZONE;VALUE=TEXT:Europe/Berlin
CALSCALE:GREGORIAN
BEGIN:VTIMEZONE
TZID:Europe/Berlin
X-LIC-LOCATION:Europe/Berlin
BEGIN:DAYLIGHT
TZOFFSETFROM:+0100
TZOFFSETTO:+0200
TZNAME:CEST
DTSTART:19700329T020000
RRULE:FREQ=YEARLY;INTERVAL=1;BYDAY=-1SU;BYMONTH=3
END:DAYLIGHT
BEGIN:STANDARD
TZOFFSETFROM:+0200
TZOFFSETTO:+0100
TZNAME:CET
DTSTART:19701025T030000
RRULE:FREQ=YEARLY;INTERVAL=1;BYDAY=-1SU;BYMONTH=10
END:STANDARD
END:VTIMEZONE

BEGIN:VEVENT
UID:f578d3a75464d9770167f1ed991d9225
DTSTART:20231006T220000
DTEND:20231007T100000
LOCATION:Near Vienna [Austria]
GEO:0.000000000;0.000000000
DTSTAMP:20231006T220000Z
SUMMARY:Shipibo Sounds presents: ANI SHINAN III
DESCRIPTION:Line-Up: ► FUTSCHERA // Independent (Tekno) ► HOLONIC // Inependent
  (Forest) ► PANWUWU // Kodama (Forest) ► SABSUNSHINE // Sound… Location:
  Kellergewölbe Gasthaus Lazarus in Horitschon, , Near Vienna
URL:https://www.goabase.net/de/party/shipibo-sounds-presents-ani-shinan-iii/111259
CATEGORIES:Psytrance Event
CLASS:PUBLIC
END:VEVENT

BEGIN:VEVENT
UID:006c3db80bc61c24fc8c527cf2256885
DTSTART:20190921T230000
DTEND:20190922T060000
LOCATION:Wien [Austria]
GEO:48.208465600;16.373090700
DTSTAMP:20190921T230000Z
SUMMARY:Kodama meets Shipibo Sounds
DESCRIPTION:Line-Up: MAINFLOOR (Psychedelic & Forest) ► KAMALA (Sonic Tantra /
  Galactic Crew) LIVE ►KLANGMASSAGE / KLANGMASSAKER (Soundlab P…
URL:https://www.goabase.net/de/party/kodama-meets-shipibo-sounds/104637
CATEGORIES:Psytrance Event
CLASS:PUBLIC
END:VEVENT

BEGIN:VEVENT
UID:be2b51cef3360a84174c766451ba2bd8
DTSTART:20190223T230000
DTEND:20190224T060000
LOCATION:Vienna [Austria]
GEO:48.200928400;16.264267400
DTSTAMP:20190223T230000Z
SUMMARY:Shipibo Sounds presents: NOA JONIBO (WHRIKK&WHRK live!!!)
DESCRIPTION:Line-Up: LIVE: !!! FIRST TIME IN AUSTRIA !!! ► WHRIKK // Sanaton
  Records/Real Vision Music (NL) !!! FIRST TIME IN AUSTRIA !!! ►…
URL:https://www.goabase.net/de/party/shipibo-sounds-presents-noa-jonibo-whrikkwhrk-live/101409
CATEGORIES:Psytrance Event
CLASS:PUBLIC
END:VEVENT

BEGIN:VEVENT
UID:bdcbb9e9abaec871a4d6e6d1a1fca139
DTSTART:20180913T170000
DTEND:20180917T120000
LOCATION:Antalya [Turkey]
GEO:36.900878900;30.693712200
DTSTAMP:20180913T170000Z
SUMMARY:Lupuna Festival
DESCRIPTION:Line-Up: LIVE ACTS: ► DRURY NEVIL (Sonic Loom) Greece ► PAUL KARMA
  (Deviant Force Rec./Goanmantra Rec.) Greece ► NOCTILUS (Parv…
URL:https://www.goabase.net/de/festival/lupuna-festival/99972
CATEGORIES:Psytrance Event
CLASS:PUBLIC
END:VEVENT

BEGIN:VEVENT
UID:92d50159250d7ea08bd6962d00672d97
DTSTART:20171103T230000
DTEND:20171104T060000
LOCATION:Vienna [Austria]
GEO:48.200928400;16.264267400
DTSTAMP:20171103T230000Z
SUMMARY:Shipibo Sounds presents: LUPUNA
DESCRIPTION:Line-Up: LIVE: !!! FIRST TIME IN VIENNA !!! ►KASADELICA // Hadra
  Records (ISR) !!! FIRST TIME IN AUSTRIA !!! ► RADICE // Biomech…
URL:https://www.goabase.net/de/party/shipibo-sounds-presents-lupuna/95548
CATEGORIES:Psytrance Event
CLASS:PUBLIC
END:VEVENT

BEGIN:VEVENT
UID:fc77b88a8a88413c284d1a8698216d87
DTSTART:20170519T220000
DTEND:20170521T120000
LOCATION:Secret [Austria]
GEO:-16.860277200;145.570282000
DTSTAMP:20170519T220000Z
SUMMARY:ANI SHREATI
DESCRIPTION:Line-Up: EWOKS CONSPIRACY & Shipibo Sounds
URL:https://www.goabase.net/de/party/ani-shreati/94738
CATEGORIES:Psytrance Event
CLASS:PUBLIC
END:VEVENT

BEGIN:VEVENT
UID:eee631abee500fed4028b33fcd1cac64
DTSTART:20170421T210000
DTEND:20170422T100000
LOCATION:Haag [Austria]
GEO:48.111910300;14.565046200
DTSTAMP:20170421T210000Z
SUMMARY:Shipibo Sounds & Deep in Trance presents: Elementra Festival Teaser
DESCRIPTION:Line-Up: LIVE: ► TIRIAL (Moonrise Rec. / Floating Family/Switzerland)
  ► XA'POFF (Moonrise Rec. / Switzerland) ► ISOMETRIC (Gloo…
URL:https://www.goabase.net/de/party/shipibo-sounds-deep-in-trance-presents-elementra-festival-teaser/94036
CATEGORIES:Psytrance Event
CLASS:PUBLIC
END:VEVENT

BEGIN:VEVENT
UID:977ce6b3733a6426196b0c907d1436f2
DTSTART:20170218T233000
DTEND:20170219T080000
LOCATION:Leipzig [Germany]
GEO:51.330457000;12.330956000
DTSTAMP:20170218T233000Z
SUMMARY:Shipibo Sounds presents: Ucayali
DESCRIPTION:Line-Up: LIVE: !!! FIRST TIME IN LEIPZIG !!! ► AEGOLIUS (MK) // Banyan
  Reords / Digital Shiva Power ► BEWEGGRUND (AT) // Alpentr…
URL:https://www.goabase.net/de/party/shipibo-sounds-presents-ucayali/92572
CATEGORIES:Psytrance Event
CLASS:PUBLIC
END:VEVENT

BEGIN:VEVENT
UID:51b662e9144eed29945322dce2445b2d
DTSTART:20161022T220000
DTEND:20161023T100000
LOCATION:near Vienna [Austria]
GEO:48.200928400;16.264267400
DTSTAMP:20161022T220000Z
SUMMARY:Shipibo Sounds presents: Ani Shinan II
DESCRIPTION:Line-Up: LIVE: !!! FIRST TIME IN AUSTRIA !!! ► METAPHYZ (FR) // Funky
  Freaks Records / Mushroom Hunters ► ISOMETRIC (ES) // Gloo…
URL:https://www.goabase.net/de/party/shipibo-sounds-presents-ani-shinan-ii/89853
CATEGORIES:Psytrance Event
CLASS:PUBLIC
END:VEVENT

BEGIN:VEVENT
UID:7e27b404c649b65b540ece49395357eb
DTSTART:20160611T230000
DTEND:20160612T100000
LOCATION:Leipzig [Germany]
GEO:51.340461700;12.374705300
DTSTAMP:20160611T230000Z
SUMMARY:Shipibo Sounds presents: UCAYALI
DESCRIPTION:Line-Up: LIVE: !!! FIRST TIME IN LEIPZIG !!! ► MAGIC SEEDS (MK) //
  Sonic Chakras Rec. / Real Vision ► STRIX ALUCO (DE) // Amaya…
URL:https://www.goabase.net/de/party/shipibo-sounds-presents-ucayali/89479
CATEGORIES:Psytrance Event
CLASS:PUBLIC
END:VEVENT

BEGIN:VEVENT
UID:7176f5fb6f6b8d57f5665e26bb1f69ac
DTSTART:20160123T220000
DTEND:20160124T100000
LOCATION:secret [Austria]
GEO:48.208465600;16.373090700
DTSTAMP:20160123T220000Z
SUMMARY:Shipibo Sounds presents: LUPUNA (TERRATECH live!!!!)
DESCRIPTION:Line-Up: LIVE: ► TERRATECH (Portugal/Urban Antidote Records) ►
  MYSTICAL WOOFER (Italy / Domino Crew/MMH Records) DJs: ► CHARU (…
URL:https://www.goabase.net/de/party/shipibo-sounds-presents-lupuna-terratech-live/86351
CATEGORIES:Psytrance Event
CLASS:PUBLIC
END:VEVENT

BEGIN:VEVENT
UID:4786d0f62d8ef2ba37191acc14ee0b99
DTSTART:20150410T220000
DTEND:20150411T060000
LOCATION:near Vienna (new Location) [Austria]
GEO:48.164825000;16.318163000
DTSTAMP:20150410T220000Z
SUMMARY:Shipibo Sounds presents: UCAYALI
DESCRIPTION:Line-Up: LIVE: !!! FIRST TIME IN AUSTRIA !!! ► MAGIC SEEDS (MK) //
  Sonic Chakras Records / Real Vision Music DJs: ► TOMMES (AT)…
URL:https://www.goabase.net/de/party/shipibo-sounds-presents-ucayali/83679
CATEGORIES:Psytrance Event
CLASS:PUBLIC
END:VEVENT

BEGIN:VEVENT
UID:ac03032febbfec4a42c9ce4adc4a4e45
DTSTART:20141115T220000
DTEND:20141116T090000
LOCATION:Horitschon [Austria]
GEO:47.587175400;16.550426600
DTSTAMP:20141115T220000Z
SUMMARY:Shipibo Sounds presents: ANI SHINAN
DESCRIPTION:Line-Up: LIVE: ► CONFO (GR) // Parvati Records (first time in
  Austria!!!!!) DJs: ► CONFO (GR) // Parvati Records ► SHAMANIAK (A…
URL:https://www.goabase.net/de/party/shipibo-sounds-presents-ani-shinan/81315
CATEGORIES:Psytrance Event
CLASS:PUBLIC
END:VEVENT

END:VCALENDAR