BEGIN:VCALENDAR
VERSION:2.0
PRODID:goabase.net iCalendar 2026
X-WR-CALNAME:goabase.net - parties and people 
X-WR-TIMEZONE;VALUE=TEXT:Europe/Berlin
CALSCALE:GREGORIAN
BEGIN:VTIMEZONE
TZID:Europe/Berlin
X-LIC-LOCATION:Europe/Berlin
BEGIN:DAYLIGHT
TZOFFSETFROM:+0100
TZOFFSETTO:+0200
TZNAME:CEST
DTSTART:19700329T020000
RRULE:FREQ=YEARLY;INTERVAL=1;BYDAY=-1SU;BYMONTH=3
END:DAYLIGHT
BEGIN:STANDARD
TZOFFSETFROM:+0200
TZOFFSETTO:+0100
TZNAME:CET
DTSTART:19701025T030000
RRULE:FREQ=YEARLY;INTERVAL=1;BYDAY=-1SU;BYMONTH=10
END:STANDARD
END:VTIMEZONE

BEGIN:VEVENT
UID:2c2a371657f5fa2a414cda48e701e868
DTSTART:20170114T230000
DTEND:20170115T080000
LOCATION:Hamburg [Germany]
GEO:53.456317620;9.991553309
DTSTAMP:20170114T230000Z
SUMMARY:Upward Records at Stellwerk
DESCRIPTION:Line-Up: Live Acts: ➤ W.A.D (Upward Records / DE) ⓕ ➤ Sabl (Upward
  Records / IT) ⓕ ➤ Gabun (Upward Records / CH) ⓕ DJ's: ➤…
URL:https://www.goabase.net/de/party/upward-records-at-stellwerk/92748
CATEGORIES:Psytrance Event
CLASS:PUBLIC
END:VEVENT

END:VCALENDAR