BEGIN:VCALENDAR
VERSION:2.0
PRODID:goabase.net iCalendar 2026
X-WR-CALNAME:goabase.net - parties and people 
X-WR-TIMEZONE;VALUE=TEXT:Europe/Berlin
CALSCALE:GREGORIAN
BEGIN:VTIMEZONE
TZID:Europe/Berlin
X-LIC-LOCATION:Europe/Berlin
BEGIN:DAYLIGHT
TZOFFSETFROM:+0100
TZOFFSETTO:+0200
TZNAME:CEST
DTSTART:19700329T020000
RRULE:FREQ=YEARLY;INTERVAL=1;BYDAY=-1SU;BYMONTH=3
END:DAYLIGHT
BEGIN:STANDARD
TZOFFSETFROM:+0200
TZOFFSETTO:+0100
TZNAME:CET
DTSTART:19701025T030000
RRULE:FREQ=YEARLY;INTERVAL=1;BYDAY=-1SU;BYMONTH=10
END:STANDARD
END:VTIMEZONE

BEGIN:VEVENT
UID:eefc2f1fcc5d7a7202188f7cac3c95e8
DTSTART:20260207T210000
DTEND:20260208T120000
LOCATION:Wetzikon (ZH) [Switzerland]
GEO:47.300000000;8.800000000
DTSTAMP:20260207T210000Z
SUMMARY:Psychedelic Moods IIII
DESCRIPTION:Line-Up: Main Floor Live : ֎♫ Piazer ♫֎ Brasil Resina Rec. First Time
  in Europe ֎♫ BadBugs ♫֎ Brasil Resina Rec. First Time in Eu… Location:
  Kulturfabrik (Kulti) Wetzikon, Zürcherstrasse 40/42, 8620 Wetzikon (ZH)
URL:https://www.goabase.net/de/party/psychedelic-moods-iiii/115887
CATEGORIES:Psytrance Event
CLASS:PUBLIC
END:VEVENT

BEGIN:VEVENT
UID:4a57d5caae8581bce0e298e0bb5387f2
DTSTART:20250801T180000
DTEND:20250803T120000
LOCATION:Siebnen [Switzerland]
GEO:0.000000000;0.000000000
DTSTAMP:20250801T180000Z
SUMMARY:Forest Shelter Blast
DESCRIPTION:Line-Up: Live: 💥💥Peyoceps Labyrinthine Crew💥💥 💥💥 Forma Mentis
  Labyrinthine Crew💥💥 DJ: 💥Tsunamix Darkweb & Freak rec. / N.T.F.…
URL:https://www.goabase.net/de/party/forest-shelter-blast/115419
CATEGORIES:Psytrance Event
CLASS:PUBLIC
END:VEVENT

BEGIN:VEVENT
UID:4781f88fbb96627850d4cfec18aff022
DTSTART:20250201T210000
DTEND:20250202T130000
LOCATION:Wetzikon (ZH) [Switzerland]
GEO:47.300000000;8.800000000
DTSTAMP:20250201T210000Z
SUMMARY:Psychedelic Moods III
DESCRIPTION:Line-Up: Live: ֎ ZIK ֎ (ZIK World) Greece ֎ Dr. Fractal ֎ (Transubtil
  Records) France First Time in Europe ֎Crooked Mind֎ (Ba… Location:
  Kulturfabrik Wetzikon (Kulti), Zürcherstrasse 40 / 42, 8620 Wetzikon
  (ZH)
URL:https://www.goabase.net/de/party/psychedelic-moods-iii/113668
CATEGORIES:Psytrance Event
CLASS:PUBLIC
END:VEVENT

BEGIN:VEVENT
UID:b7dca8b2502f1fd1cbee33fe191fff84
DTSTART:20240203T210000
DTEND:20240204T160000
LOCATION:Wetzikon (ZH) [Switzerland]
GEO:47.300000000;8.800000000
DTSTAMP:20240203T210000Z
SUMMARY:Psychedelic Mood II
DESCRIPTION:Line-Up: Live: First Time in Switzerland ֎Third Eye of Monkey֎
  (Parvati Records) Mexico First Time in Switzerland ֎Forest Bamp֎…
  Location: Kulturfabrik Wetzikon, Zürcherstrasse 40, 8620 Wetzikon (ZH)
URL:https://www.goabase.net/de/party/psychedelic-mood-ii/111192
CATEGORIES:Psytrance Event
CLASS:PUBLIC
END:VEVENT

BEGIN:VEVENT
UID:c47785f0d659ffa5b7335f7c070d4deb
DTSTART:20230729T200000
DTEND:20230730T140000
LOCATION:Lachen Galgenen [Switzerland]
GEO:0.000000000;0.000000000
DTSTAMP:20230729T200000Z
SUMMARY:Collective Network
DESCRIPTION:Line-Up: Live: ֍Einsiedler – Interaural rec / Mythosproduction Dj:
  ֍Tsunamix – Freakrecords / Darkwebrecords֍ ֍Hookah – 33 Hours֍…
  Location: Waldhütte, Lachen Bahnhof Shuttle, Lachen Galgenen
URL:https://www.goabase.net/de/party/collective-network/110869
CATEGORIES:Psytrance Event
CLASS:PUBLIC
END:VEVENT

BEGIN:VEVENT
UID:593599a12ce5caa6eec84400dffa07a0
DTSTART:20230204T210000
DTEND:20230205T140000
LOCATION:Wetzikon (ZH) [Switzerland]
GEO:47.322495600;8.806720910
DTSTAMP:20230204T210000Z
SUMMARY:PSYCHEDELIC MOOD`S part one
DESCRIPTION:Line-Up: PSYCHEDELIC MOOD`S part 1 Presentet by Mythos prod & 33 Hours
  The oldest form of expression is movement and dance. We th… Location:
  Kulturfabrik Wetzikon, Zürcherstrasse 40, 8620 Wetzikon (ZH)
URL:https://www.goabase.net/de/party/psychedelic-moods-part-one/109213
CATEGORIES:Psytrance Event
CLASS:PUBLIC
END:VEVENT

BEGIN:VEVENT
UID:41f476d10b7af83c77792308100e9c6d
DTSTART:20120218T200000
DTEND:20120219T120000
LOCATION:Zug [Switzerland]
GEO:0.000000000;0.000000000
DTSTAMP:20120218T200000Z
SUMMARY:Mythos celebrates the 10th anniversary
DESCRIPTION:Line-Up: Wizack Twizack (ovnimoonrec) Sweden Digitalist (Deviant Force
  rec) Swiss Andoga (Mythosprod/Iguanaloco) Swiss
URL:https://www.goabase.net/de/party/mythos-celebrates-the-10th-anniversary/65019
CATEGORIES:Psytrance Event
CLASS:PUBLIC
END:VEVENT

BEGIN:VEVENT
UID:71d1f000e72cfb87853bd60b46b938c5
DTSTART:20111104T200000
DTEND:20111105T100000
LOCATION:Zug [Switzerland]
GEO:0.000000000;0.000000000
DTSTAMP:20111104T200000Z
SUMMARY:Not really chillout part1
DESCRIPTION:Line-Up: Happy Three Freaks pres. Prisma (Dark Prisma) - first Time in
  Switzerland Antagon (Damaru Rec.) Germany - first Time in…
URL:https://www.goabase.net/de/party/not-really-chillout-part1/62675
CATEGORIES:Psytrance Event
CLASS:PUBLIC
END:VEVENT

BEGIN:VEVENT
UID:b37fadc3a5e040cf6c61630cc3eb9a00
DTSTART:20110910T200000
DTEND:20110911T120000
LOCATION:Oberiberg [Switzerland]
GEO:0.000000000;0.000000000
DTSTAMP:20110910T200000Z
SUMMARY:HAPPY THREE FREAKS pres CENTRAL SWISS MOUNTAIN ODYSSEE
DESCRIPTION:Line-Up: Andoga (iguanaloco)
URL:https://www.goabase.net/de/party/happy-three-freaks-pres-central-swiss-mountain-odyssee/62037
CATEGORIES:Psytrance Event
CLASS:PUBLIC
END:VEVENT

BEGIN:VEVENT
UID:0dc33062642c76d0a5e87cee5ed8b010
DTSTART:20091212T203000
DTEND:20091213T120000
LOCATION:Zürich City 3min from Train… [Switzerland]
GEO:0.000000000;0.000000000
DTSTAMP:20091212T203000Z
SUMMARY:Royal Back Flash 2
DESCRIPTION:Line-Up: DIGITALIST- Dropout Production, Mighy Quinn Rec, Zaikadelic
  Rec. () Suisse Andoga, Iguanaloco Suisse Yaminahua ( )
URL:https://www.goabase.net/de/party/royal-back-flash-2/50093
CATEGORIES:Psytrance Event
CLASS:PUBLIC
END:VEVENT

BEGIN:VEVENT
UID:383b7bc2f0f9e09d1c7df7f51c63e049
DTSTART:20091106T200000
DTEND:20091107T160000
LOCATION:Hinwil bei Zürich [Switzerland]
GEO:0.000000000;0.000000000
DTSTAMP:20091106T200000Z
SUMMARY:Tsunamix 30 Birthday
DESCRIPTION:Line-Up: Live: First Time in Switzerland E.V.P (Wildthings Records)UK
  First Time in Switzerland REALITYGRID (Wildthings Records)U…
URL:https://www.goabase.net/de/party/tsunamix-30-birthday/48898
CATEGORIES:Psytrance Event
CLASS:PUBLIC
END:VEVENT

BEGIN:VEVENT
UID:8e02154329e7343854563678573b106e
DTSTART:20090828T200000
DTEND:20090830T120000
LOCATION:New Location near Bodensee [Switzerland]
GEO:0.000000000;0.000000000
DTSTAMP:20090828T200000Z
SUMMARY:OUT OF SPACE
DESCRIPTION:Line-Up: Freitag Live Electrypnose (2to6 Records) Swiss Yab – Yum
  (peakrec) Swiss AJJA (peakrec) UK Psytastic Noiz (Mythosprod…
URL:https://www.goabase.net/de/festival/out-of-space/47899
CATEGORIES:Psytrance Event
CLASS:PUBLIC
END:VEVENT

BEGIN:VEVENT
UID:d5e0840d6094913341bd0aa6d036665d
DTSTART:20090808T200000
DTEND:20090809T120000
LOCATION:Dynamo [Switzerland]
GEO:0.000000000;0.000000000
DTSTAMP:20090808T200000Z
SUMMARY:Streetparade Electrypnose 
DESCRIPTION:Line-Up: ELECTRYPNOSE ( 2 to 6 records)
URL:https://www.goabase.net/de/party/streetparade-electrypnose/47755
CATEGORIES:Psytrance Event
CLASS:PUBLIC
END:VEVENT

BEGIN:VEVENT
UID:fa29f3d49da6d9d6bea5377d0e5f388d
DTSTART:20090718T200000
DTEND:20090719T120000
LOCATION:Schönenberg Zürich [Switzerland]
GEO:0.000000000;0.000000000
DTSTAMP:20090718T200000Z
SUMMARY:Mythos pres. Circus River Dance
DESCRIPTION:Line-Up: Andoga (Mythoprod.ch) T.H.D (Mythosprod.ch) Psytastic Noiz
  (Mythosprod.ch)
URL:https://www.goabase.net/de/party/mythos-pres-circus-river-dance/47403
CATEGORIES:Psytrance Event
CLASS:PUBLIC
END:VEVENT

BEGIN:VEVENT
UID:88b5aa5449074ce8d0fab7f7e9102177
DTSTART:20090704T200000
DTEND:20090705T120000
LOCATION:Unterägeri bei Zug [Switzerland]
GEO:0.000000000;0.000000000
DTSTAMP:20090704T200000Z
SUMMARY:MYTHOS prod pres TIME JUMP Live: Principles of Flight
DESCRIPTION:Line-Up: Principles of Flight ( Timecoderec. ) France Vibracoustic (
  Shaman Electro )Swiss Crazy Goblin ( Antipoprod. )Swiss Mad…
URL:https://www.goabase.net/de/party/mythos-prod-pres-time-jump-live-principles-of-flight/47160
CATEGORIES:Psytrance Event
CLASS:PUBLIC
END:VEVENT

BEGIN:VEVENT
UID:619489a3a23d621b80e405437e6eb057
DTSTART:20090523T220000
DTEND:20090524T120000
LOCATION:Birmensdorf Zürich [Switzerland]
GEO:0.000000000;0.000000000
DTSTAMP:20090523T220000Z
SUMMARY:Darkness Falls - PENTA - "Give me Five" Tour
DESCRIPTION:Line-Up: PENTA Auraquake Records - Pt. VIBRACOUSTIC Shaman Electro
  Rec. THD T.P.S/Mythos Prod. (First Time on this Planet) MAD…
URL:https://www.goabase.net/de/party/darkness-falls-penta-give-me-five-tour/46358
CATEGORIES:Psytrance Event
CLASS:PUBLIC
END:VEVENT

BEGIN:VEVENT
UID:7f44d2e13ec0567cae980284d371da20
DTSTART:20090314T150000
DTEND:20090315T180000
LOCATION:Rigi Scheidegg switzerland [Switzerland]
GEO:0.000000000;0.000000000
DTSTAMP:20090314T150000Z
SUMMARY:Snowflake Dance
DESCRIPTION:Line-Up: Rastaliens ( Glowing Flame Ch/De)Digicult ( Dacru rec.
  Belgien)Nitro ( Dooflex rec. Israel)Gil Dagan ( Israel) Sensual S…
URL:https://www.goabase.net/de/party/snowflake-dance/43637
CATEGORIES:Psytrance Event
CLASS:PUBLIC
END:VEVENT

BEGIN:VEVENT
UID:4ff1e56af5e9b3da550dfb87cbfac2b5
DTSTART:20090221T190000
DTEND:20090222T100000
LOCATION:Zürich [Switzerland]
GEO:0.000000000;0.000000000
DTSTAMP:20090221T190000Z
SUMMARY:MYTHOS pres. ROYAL BACK FLUSH part 1
DESCRIPTION:Line-Up: KINDZA (osom-music)(Russland) WHICKED HAYO (night oracle
  rec.)(Belgium) first time in swiss Electrypnose (2to6records…
URL:https://www.goabase.net/de/party/mythos-pres-royal-back-flush-part-1/43359
CATEGORIES:Psytrance Event
CLASS:PUBLIC
END:VEVENT

BEGIN:VEVENT
UID:912882b94333e8a47183a8265c8a1cad
DTSTART:20080412T200000
DTEND:20080413T120000
LOCATION:wee have (zentral of swiss)… [Switzerland]
GEO:0.000000000;0.000000000
DTSTAMP:20080412T200000Z
SUMMARY:FullPsyProMiDa part I.
DESCRIPTION:Line-Up: Ianuaria (Glowing Flame Records A/ Klangbewusstsein) (AT)
  Manju (Klangbewusstsein) (AT) Crazy Goblin (Traintown Psy Synd…
URL:https://www.goabase.net/de/party/fullpsypromida-part-i/37823
CATEGORIES:Psytrance Event
CLASS:PUBLIC
END:VEVENT

BEGIN:VEVENT
UID:ab91132d090763afc815c28b61ccb8e6
DTSTART:20070428T190000
DTEND:20070429T160000
LOCATION:Einsiedeln (SZ) [Switzerland]
GEO:0.000000000;0.000000000
DTSTAMP:20070428T190000Z
SUMMARY:L ast S pace D ance
DESCRIPTION:Line-Up: Silicon Sound (Neurobiotic rec. / Mind Control / Turbo Trance
  rec.) France
URL:https://www.goabase.net/de/party/l-ast-s-pace-d-ance/30948
CATEGORIES:Psytrance Event
CLASS:PUBLIC
END:VEVENT

END:VCALENDAR