BEGIN:VCALENDAR
VERSION:2.0
PRODID:goabase.net iCalendar 2026
X-WR-CALNAME:goabase.net - parties and people 
X-WR-TIMEZONE;VALUE=TEXT:Europe/Berlin
CALSCALE:GREGORIAN
BEGIN:VTIMEZONE
TZID:Europe/Berlin
X-LIC-LOCATION:Europe/Berlin
BEGIN:DAYLIGHT
TZOFFSETFROM:+0100
TZOFFSETTO:+0200
TZNAME:CEST
DTSTART:19700329T020000
RRULE:FREQ=YEARLY;INTERVAL=1;BYDAY=-1SU;BYMONTH=3
END:DAYLIGHT
BEGIN:STANDARD
TZOFFSETFROM:+0200
TZOFFSETTO:+0100
TZNAME:CET
DTSTART:19701025T030000
RRULE:FREQ=YEARLY;INTERVAL=1;BYDAY=-1SU;BYMONTH=10
END:STANDARD
END:VTIMEZONE

BEGIN:VEVENT
UID:79ee13b923635b99d0eb704e119ac3fd
DTSTART:20081108T220000
DTEND:20081109T100000
LOCATION:Braunschweig [Germany]
GEO:52.317000000;10.511000000
DTSTAMP:20081108T220000Z
SUMMARY:Indra of Mandara
DESCRIPTION:
URL:https://www.goabase.net/de/party/indra-of-mandara/37514
CATEGORIES:Psytrance Event
CLASS:PUBLIC
END:VEVENT

BEGIN:VEVENT
UID:97fb727c489a2c2641cedd88cbb1da80
DTSTART:20061013T220000
DTEND:20061014T100000
LOCATION:Braunschweig [Germany]
GEO:0.000000000;0.000000000
DTSTAMP:20061013T220000Z
SUMMARY:Drachentrance
DESCRIPTION:
URL:https://www.goabase.net/de/party/drachentrance/25495
CATEGORIES:Psytrance Event
CLASS:PUBLIC
END:VEVENT

BEGIN:VEVENT
UID:dffea3a6cf83c5bb7323534bf1a03d72
DTSTART:20040312T220000
DTEND:20040313T120000
LOCATION:Braunschweig [Germany]
GEO:0.000000000;0.000000000
DTSTAMP:20040312T220000Z
SUMMARY:Drachentrance
DESCRIPTION:
URL:https://www.goabase.net/de/party/drachentrance/13158
CATEGORIES:Psytrance Event
CLASS:PUBLIC
END:VEVENT

BEGIN:VEVENT
UID:2e2ce3da195b6cb9f572535e36e93354
DTSTART:20040221T220000
DTEND:20040222T120000
LOCATION:Braunschweig [Germany]
GEO:0.000000000;0.000000000
DTSTAMP:20040221T220000Z
SUMMARY:Fire-Abend   -    Psy Trance
DESCRIPTION:Line-Up: LiveAct: S.A.O.M. vs. DJ el Rey ( Mental Arts- Novatekk)
URL:https://www.goabase.net/de/party/fire-abend-psy-trance/13081
CATEGORIES:Psytrance Event
CLASS:PUBLIC
END:VEVENT

BEGIN:VEVENT
UID:262750f2608d431b142f72c78cbbab0a
DTSTART:20031018T223000
DTEND:20031019T223000
LOCATION:Braunschweig [Germany]
GEO:0.000000000;0.000000000
DTSTAMP:20031018T223000Z
SUMMARY:Fireabend Goa
DESCRIPTION:Line-Up: MAGNETRIXX & MORGANIXX (Tatsu/Medium), Akasha Project
  (A.Z.A.P. Studio, Berlin), Psy Kai (BS)
URL:https://www.goabase.net/de/party/fireabend-goa/11093
CATEGORIES:Psytrance Event
CLASS:PUBLIC
END:VEVENT

BEGIN:VEVENT
UID:db6981b094c35dceb5a9292b2f7953ea
DTSTART:20030104T220000
DTEND:20030105T123000
LOCATION:Braunschweig [Germany]
GEO:0.000000000;0.000000000
DTSTAMP:20030104T220000Z
SUMMARY:Naturgeister Party
DESCRIPTION:
URL:https://www.goabase.net/de/party/naturgeister-party/9411
CATEGORIES:Psytrance Event
CLASS:PUBLIC
END:VEVENT

BEGIN:VEVENT
UID:84a51536d5b430d7df2a05f6138365c0
DTSTART:20021207T223000
DTEND:20021208T113000
LOCATION:Braunschweig [Germany]
GEO:0.000000000;0.000000000
DTSTAMP:20021207T223000Z
SUMMARY:Drachentrance
DESCRIPTION:
URL:https://www.goabase.net/de/party/drachentrance/9100
CATEGORIES:Psytrance Event
CLASS:PUBLIC
END:VEVENT

BEGIN:VEVENT
UID:b4b7003ae790580e01b2e8f818a879b1
DTSTART:20010519T230000
DTEND:20010520T100000
LOCATION:Braunschweig [Germany]
GEO:0.000000000;0.000000000
DTSTAMP:20010519T230000Z
SUMMARY:Indra of Mandara
DESCRIPTION:
URL:https://www.goabase.net/de/party/indra-of-mandara/5609
CATEGORIES:Psytrance Event
CLASS:PUBLIC
END:VEVENT

BEGIN:VEVENT
UID:d6bcfdd1780ec14fd556a2cd2ac15dff
DTSTART:20010421T230000
DTEND:20010422T100000
LOCATION:Braunschweig [Germany]
GEO:0.000000000;0.000000000
DTSTAMP:20010421T230000Z
SUMMARY:Indra of Mandara
DESCRIPTION:
URL:https://www.goabase.net/de/party/indra-of-mandara/5254
CATEGORIES:Psytrance Event
CLASS:PUBLIC
END:VEVENT

BEGIN:VEVENT
UID:75728c1ce4d0974de1a53b94f5756481
DTSTART:20010317T220000
DTEND:20010318T100000
LOCATION:Braunschweig [Germany]
GEO:0.000000000;0.000000000
DTSTAMP:20010317T220000Z
SUMMARY:Indra of Mandara
DESCRIPTION:
URL:https://www.goabase.net/de/party/indra-of-mandara/5098
CATEGORIES:Psytrance Event
CLASS:PUBLIC
END:VEVENT

END:VCALENDAR