BEGIN:VCALENDAR
VERSION:2.0
PRODID:goabase.net iCalendar 2026
X-WR-CALNAME:goabase.net - parties and people 
X-WR-TIMEZONE;VALUE=TEXT:Europe/Berlin
CALSCALE:GREGORIAN
BEGIN:VTIMEZONE
TZID:Europe/Berlin
X-LIC-LOCATION:Europe/Berlin
BEGIN:DAYLIGHT
TZOFFSETFROM:+0100
TZOFFSETTO:+0200
TZNAME:CEST
DTSTART:19700329T020000
RRULE:FREQ=YEARLY;INTERVAL=1;BYDAY=-1SU;BYMONTH=3
END:DAYLIGHT
BEGIN:STANDARD
TZOFFSETFROM:+0200
TZOFFSETTO:+0100
TZNAME:CET
DTSTART:19701025T030000
RRULE:FREQ=YEARLY;INTERVAL=1;BYDAY=-1SU;BYMONTH=10
END:STANDARD
END:VTIMEZONE

BEGIN:VEVENT
UID:fbe1a19fe38459253e1b69d42682cd2d
DTSTART:20260516T220000
DTEND:20260517T080000
LOCATION:Luzern [Switzerland]
GEO:47.100000000;8.300000000
DTSTAMP:20260516T220000Z
SUMMARY:⚓️ TIEFENRAUSCH ~ 2026 ⚓️ w/ Cloud7, Total Balance, Tezla uvm.
DESCRIPTION:Line-Up: 🌷🪷 SEEROSENFLOOR 🪷🌷 -Mainfloor- 🫧 CLOUD7 (Woodmore DE) 🫧
  TOTAL BALANCE (Woodmore DE) 🫧 TEZLA (ProgOnSyndicate) RETRO S…
  Location: Sedel Luzern, Sedelhof 2, 6020 Luzern
URL:https://www.goabase.net/de/party/tiefenrausch-2026-w-cloud7-total-balance-tezla-uvm/116139
CATEGORIES:Psytrance Event
CLASS:PUBLIC
END:VEVENT

BEGIN:VEVENT
UID:fa5dfa0ede8b4522eac30d2c52e9cb9e
DTSTART:20260214T213000
DTEND:20260215T100000
LOCATION:Luzern [Switzerland]
GEO:47.100000000;8.300000000
DTSTAMP:20260214T213000Z
SUMMARY:🎭 BEYOND REALITY 2026 🎭 w/ DayDin, Nikelodeon, Rugrats, Cr3wfx, Story Of Light
DESCRIPTION:Line-Up: 🎭 🎵 🎭 MAINFLOOR 🎭 🎵 🎭 🌀-PROGRESSIVE HARD-🌀 🎪 DAY.DIN (Drive
  Bookings / Spintwist) DE Live ⓕ: ♫: 🎪 NIKELODEON (Tear Dro… Location:
  Konzerthaus Schüür, Tribschenstrasse 1, 6005 Luzern
URL:https://www.goabase.net/de/party/beyond-reality-2026-w-daydin-nikelodeon-rugrats-cr3wfx-story-of-light/115999
CATEGORIES:Psytrance Event
CLASS:PUBLIC
END:VEVENT

BEGIN:VEVENT
UID:0956483901afc98fe4395af84fd66701
DTSTART:20250517T220000
DTEND:20250518T060000
LOCATION:Aarau [Switzerland]
GEO:47.400000000;8.000000000
DTSTAMP:20250517T220000Z
SUMMARY:PROGVISION LABELNIGHT 2025 w/ Cr3wfx, Lethyx Nekuia, Predator uvm.
DESCRIPTION:Line-Up: 🌟-MAINFLOOR-🌟 Progressive/ Psyprog/ Futureprog 🪐
  ⚡️CR3WFX⚡️(Psyfeature FR) 🪐 ⚡️LETHYX NEKUIA⚡️(Pyramiid Prod. FR) 🪐 ⚡️…
  Location: Club Schlaflos, Aarau, tellistrasse 118, 5000 Aarau
URL:https://www.goabase.net/de/party/progvision-labelnight-2025-w-cr3wfx-lethyx-nekuia-predator-uvm/115014
CATEGORIES:Psytrance Event
CLASS:PUBLIC
END:VEVENT

BEGIN:VEVENT
UID:58f3a1fbe8036db667f89a57be05b658
DTSTART:20250517T220000
DTEND:20250518T060000
LOCATION:Aarau [Switzerland]
GEO:47.400000000;8.000000000
DTSTAMP:20250517T220000Z
SUMMARY:PROGVISION LABELNIGHT 2025
DESCRIPTION:Line-Up: Get Ready For The Next PV Labelnight!😈💥💃 Save the date! More
  infos soon! Location: Club Schlaflos, Aarau, tellistrasse 118, 5000
  Aarau
URL:https://www.goabase.net/de/party/progvision-labelnight-2025/114399
CATEGORIES:Psytrance Event
CLASS:PUBLIC
END:VEVENT

BEGIN:VEVENT
UID:c6c4b27049e31b763dc6f1ddda4fba85
DTSTART:20250510T210000
DTEND:20250511T080000
LOCATION:Luzern [Switzerland]
GEO:47.100000000;8.300000000
DTSTAMP:20250510T210000Z
SUMMARY:Tiefenrausch 2025
DESCRIPTION:Line-Up: Nach unserer letzten Reise zu den Piraten, wird es wieder
  Zeit die Anker zu lichten um in neue Gewässer einzutauchen!🌊 M…
  Location: Sedel Luzern, Sedelhof 2, 6020 Luzern
URL:https://www.goabase.net/de/party/tiefenrausch-2025/114398
CATEGORIES:Psytrance Event
CLASS:PUBLIC
END:VEVENT

BEGIN:VEVENT
UID:b7ba4145011781b9b1366af03054f700
DTSTART:20250510T210000
DTEND:20250511T060000
LOCATION:Luzern [Switzerland]
GEO:47.100000000;8.300000000
DTSTAMP:20250510T210000Z
SUMMARY:TIEFENRAUSCH 2025 ~ Der Tauchgang w/ Memento Mori, Rebugs, Story Of Light
DESCRIPTION:Line-Up: ⚓️⚓️⚓️ LINE UP ⚓️⚓️⚓️ 🔱 MEMENTO MORI (Psyfeature) 🔱 REBUGS
  (Upward) 🔱 STORY OF LIGHT (X7M Rec) 🔱 GEOMETRICO (Braingam… Location:
  Sedel Luzern, Sedelhof 2, 6020 Luzern
URL:https://www.goabase.net/de/party/tiefenrausch-2025-der-tauchgang-w-memento-mori-rebugs-story-of-light/115078
CATEGORIES:Psytrance Event
CLASS:PUBLIC
END:VEVENT

BEGIN:VEVENT
UID:94a95bd4b9aa99f446a581a04f9663f8
DTSTART:20250301T210000
DTEND:20250302T100000
LOCATION:Luzern [Switzerland]
GEO:47.100000000;8.300000000
DTSTAMP:20250301T210000Z
SUMMARY:BEYOND REALITY 2025 w/ Babalos, Cloud7, Jilax, Memento Mori, Rebugs uvm.
DESCRIPTION:Line-Up: 🎭 🎵 🎭 MAINFLOOR 🎭 🎵 🎭 🌀-PROGRESSIVE HARD-🌀 🎪 BABALOS
  (Blackout Rec.) ⓕ: ♫: 🎪 JILAX (Bluetunes) ⓕ: ♫: 🎪 CLOUD7 (Bluet…
  Location: Konzerthaus Schüür, Tribschenstrasse 1, 6005 Luzern
URL:https://www.goabase.net/de/party/beyond-reality-2025-w-babalos-cloud7-jilax-memento-mori-rebugs-uvm/114028
CATEGORIES:Psytrance Event
CLASS:PUBLIC
END:VEVENT

BEGIN:VEVENT
UID:240d18bed66bce44fc9103ad4ee39ace
DTSTART:20241116T220000
DTEND:20241117T060000
LOCATION:Aarau [Switzerland]
GEO:47.400000000;8.000000000
DTSTAMP:20241116T220000Z
SUMMARY:★ ProgVision Labelnight ★ w/ REXALTED, BLACK MUFFIN uvm.
DESCRIPTION:Line-Up: -MAINFLOOR- Progressive / Psyprog 🪐 ⚡️REXALTED⚡️ (X7M Rec.
  ISR) 1st time switzerland 🪐 ⚡️BLACK MUFFIN⚡️ (Ucantstopthera… Location:
  Club Schlaflos, Aarau, tellistrasse 118, 5000 Aarau
URL:https://www.goabase.net/de/party/progvision-labelnight-w-rexalted-black-muffin-uvm/113688
CATEGORIES:Psytrance Event
CLASS:PUBLIC
END:VEVENT

BEGIN:VEVENT
UID:257d0d4260cc43b1ed231fa89a5612eb
DTSTART:20241019T220000
DTEND:20241020T033000
LOCATION:Aarwangen [Switzerland]
GEO:47.238450000;7.768540000
DTSTAMP:20241019T220000Z
SUMMARY:Merlin`s Birthday
DESCRIPTION:Line-Up: LINE UP: SIMPLY SIMON
  (Progvision)www.instagram.com/_simply__simon_NORTHWIND (SUN
  Empire)www.instagram.com/i.am.northwin… Location: Levels Aarwangen,
  Langenthalstrasse 21, 4912 Aarwangen
URL:https://www.goabase.net/de/party/merlins-birthday/113841
CATEGORIES:Psytrance Event
CLASS:PUBLIC
END:VEVENT

BEGIN:VEVENT
UID:f43a378f70ad5a308da7639cc5c07b5f
DTSTART:20240518T210000
DTEND:20240519T080000
LOCATION:Luzern [Switzerland]
GEO:47.066200000;8.298250000
DTSTAMP:20240518T210000Z
SUMMARY:★ TIEFENRAUSCH ★ w/ Symphonix, Jilax, W.A.D, Rebugs uvm.
DESCRIPTION:Line-Up: —LINE UP— ⚓️☠️🏝️DIE PIRATENBUCHT🏝️☠️⚓️ (Mainfloor) ☠️💥
  SYMPHONIX (Bluetunes) FB: SC: ☠️💥 JILAX (Bluetunes) FB: SC: ☠…
  Location: Sedel Luzern, Sedelhof 2, 6020 Luzern
URL:https://www.goabase.net/de/party/tiefenrausch-w-symphonix-jilax-wad-rebugs-uvm/111915
CATEGORIES:Psytrance Event
CLASS:PUBLIC
END:VEVENT

BEGIN:VEVENT
UID:afbe386965fd8922512e29428c32b96a
DTSTART:20240420T220000
DTEND:20240421T060000
LOCATION:Aarau [Switzerland]
GEO:47.400000000;8.000000000
DTSTAMP:20240420T220000Z
SUMMARY:PROGVISION & FRIENDS LABELNIGHT w/ Memento Mori, Cosmonet, D-Nation uvm.
DESCRIPTION:Line-Up: 🌟-MAINFLOOR-🌟 Progressive / Psyprog 💿 ⚡️REXALTED⚡️ CANCELLED!
  soundcloud Instead of Rexalted MEMENTO MORI (Psyfeature) L… Location:
  Club Schlaflos, Aarau, tellistrasse 118, 5000 Aarau
URL:https://www.goabase.net/de/party/progvision-friends-labelnight-w-memento-mori-cosmonet-d-nation-uvm/111916
CATEGORIES:Psytrance Event
CLASS:PUBLIC
END:VEVENT

BEGIN:VEVENT
UID:a26209e78a8cc7d0ea6840ac6954ae3e
DTSTART:20240330T210000
DTEND:20240331T083000
LOCATION:Biberist [Switzerland]
GEO:47.180090000;7.562460000
DTSTAMP:20240330T210000Z
SUMMARY:★DIRTY DANCING XI★ Alice Im Wummerland w/ Mandragora, Technical Hitch, Trampsta
DESCRIPTION:Line-Up: 🎶🪬 LINE UP 🪬🎶 🔮~ MANDRAGORA ~🔮 (Alien Rec) 90Min! 🔮~ TRAMPSTA
  ~🔮 (Brazil) (1st time Swiss!) 🔮~ TECHNICAL HITCH ~🔮 (Ali… Location: P9
  Eventlocation, Fabrikstrasse 34, 4562 Biberist
URL:https://www.goabase.net/de/party/dirty-dancing-xi-alice-im-wummerland-w-mandragora-technical-hitch-trampsta/111462
CATEGORIES:Psytrance Event
CLASS:PUBLIC
END:VEVENT

BEGIN:VEVENT
UID:8375ae5930aa9c924da91e98726edd34
DTSTART:20240210T210000
DTEND:20240211T100000
LOCATION:Luzern [Switzerland]
GEO:47.044340000;8.310960000
DTSTAMP:20240210T210000Z
SUMMARY:BEYOND REALITY - Carnival Of Illusions w/ Babalos, Metronome- Jilax, Graviity
DESCRIPTION:Line-Up: 🎭 🎵 🎭 MAINFLOOR 🎭 🎵 🎭 🌀-PROGRESSIVE - PSYTRANCE-🌀 🎪 BABALOS
  (Blackout Rec.) ♫: 🎪 METRONOME (Bluetunes) ♫: 🎪 GRAViiTY (… Location:
  Konzerthaus Schüür, Tribschenstrasse 1, 6005 Luzern
URL:https://www.goabase.net/de/party/beyond-reality-carnival-of-illusions-w-babalos-metronome-jilax-graviity/111463
CATEGORIES:Psytrance Event
CLASS:PUBLIC
END:VEVENT

BEGIN:VEVENT
UID:100e64bd973adfdf85f4dcc37539fee8
DTSTART:20231028T210000
DTEND:20231029T070000
LOCATION:Kehrsatz [Switzerland]
GEO:46.900000000;7.500000000
DTSTAMP:20231028T210000Z
SUMMARY:ProgVisions Halloween Special w/ TRIP-TAMINE uvm.
DESCRIPTION:Line-Up: 🎃🎶 LINE UP 🎶🎃 -LIVE ACTS- 🔪 🎃 TRIP-TAMINE 🎃 🔪 🎃 D-NATION 🎃 🔪
  🎃 LURO 🎃 🔪 🎃 MARK MAIN 🎃 -DJS- 🔪 🎃 SOULBEAT vs. MERLIN 🎃 🔪… Location:
  Kultarena Kehrsatz, Belpstrasse 24, 3122 Kehrsatz
URL:https://www.goabase.net/de/party/progvisions-halloween-special-w-trip-tamine-uvm/111263
CATEGORIES:Psytrance Event
CLASS:PUBLIC
END:VEVENT

BEGIN:VEVENT
UID:45c21db4f4974ba9cb63663719209fa3
DTSTART:20230923T210000
DTEND:20230924T060000
LOCATION:Aarau [Switzerland]
GEO:47.400000000;8.000000000
DTSTAMP:20230923T210000Z
SUMMARY:★ PROGVISION LABELNIGHT ★ w/ Babalos, Alchimyst, Flash Jack, Simply Simon uvm.
DESCRIPTION:Line-Up: 🌟-LINE UP MAINFLOOR-🌟 💿 ⚡️BABALOS⚡️ 💿 ⚡️ALCHIMYST⚡️ 💿 ⚡️FLASH
  JACK⚡️ 💿 ⚡️D-NATION⚡️ 💿 ⚡️PREDATOR⚡️ 💿 ⚡️SIMPLY SIMON… Location: Club
  Schlaflos, Aarau, tellistrasse 118, Aarau
URL:https://www.goabase.net/de/party/progvision-labelnight-w-babalos-alchimyst-flash-jack-simply-simon-uvm/110983
CATEGORIES:Psytrance Event
CLASS:PUBLIC
END:VEVENT

BEGIN:VEVENT
UID:32eb41638e35d8360245ee57fa7b4c0b
DTSTART:20230708T140000
DTEND:20230709T100000
LOCATION:Kehrsatz [Switzerland]
GEO:46.907740000;7.474320000
DTSTAMP:20230708T140000Z
SUMMARY:Way To Heaven - Out & Indoor w/ Querox, Ticon uvm.
DESCRIPTION:Line-Up: 🌟🌟🌟 LINE UP LIVE ACTS 🌟🌟🌟 ✨ QUEROX ✨ (Prog On Syndicate) ✨
  TICON ✨ (Iboga) ✨ D-NATION ✨ (ProgVision) ✨ MARK MAIN ✨ (Prog…
  Location: Kultarena Kehrsatz, Belpstrasse 24, 3122 Kehrsatz, 3122
  Kehrsatz
URL:https://www.goabase.net/de/party/way-to-heaven-out-indoor-w-querox-ticon-uvm/110204
CATEGORIES:Psytrance Event
CLASS:PUBLIC
END:VEVENT

BEGIN:VEVENT
UID:acc65a419f3fbb183bc1fc4cfe667604
DTSTART:20230527T210000
DTEND:20230528T090000
LOCATION:Luzern [Switzerland]
GEO:47.049540000;8.304370000
DTSTAMP:20230527T210000Z
SUMMARY:★ TIEFENRAUSCH 2023 ★ Mystical Atlantis w/ Vegas, Beni Moon, Jilax uvm.
DESCRIPTION:Line-Up: 🔱🌀🔱 LINE UP 🔱🌀🔱 ✨ STADT ATLANTIS ✨ (Mainfloor) ⚡ 🔱 VEGAS 🔱
  (Synk87 Music) 90Min! SC: FB: ⚡ 🔱 BENI MOON 🔱 (Spintwist) S… Location:
  Sedel Luzern, SEDELHOF 2, 6020 Luzern
URL:https://www.goabase.net/de/party/tiefenrausch-2023-mystical-atlantis-w-vegas-beni-moon-jilax-uvm/110195
CATEGORIES:Psytrance Event
CLASS:PUBLIC
END:VEVENT

BEGIN:VEVENT
UID:3fbc4e930ebe5aa333afe164c809e537
DTSTART:20230408T210000
DTEND:20230409T080000
LOCATION:Biberist [Switzerland]
GEO:47.184280000;7.573500000
DTSTAMP:20230408T210000Z
SUMMARY:ProgVisions ★ DIRTY DANCING X ★w/ All In One, Oxidaksi, Babalos, Lsdirty, Jilax
DESCRIPTION:Line-Up: 🔻🔺🔻 💠 ➰ LINE UP MAINFLOOR ➰💠🔻🔺 🔻 ► 🎵 🌞👁‍🗨 ALL IN ONE 👁‍🗨🌞
  (Solar Tec.) 90Min (Yanir the old guy is coming) ► 🎵 🌞👁‍🗨 OXI…
  Location: P9 Eventlocation, fabrikstrasse 34, 4562 Biberist
URL:https://www.goabase.net/de/party/progvisions-dirty-dancing-x-w-all-in-one-oxidaksi-babalos-lsdirty-jilax/109504
CATEGORIES:Psytrance Event
CLASS:PUBLIC
END:VEVENT

BEGIN:VEVENT
UID:5ea02c92954bdc78416f1fe8126d70a8
DTSTART:20230220T220000
DTEND:20230221T120000
LOCATION:Luzern [Switzerland]
GEO:47.049540000;8.304370000
DTSTAMP:20230220T220000Z
SUMMARY:BEYOND REALITY - Circus Of Illusions w/ Ranji, W.a.d, Krama, Lauterkrach uvm.
DESCRIPTION:Line-Up: 🎭 🎵 🎭 MAINFLOOR 🎭 🎵 🎭 🌀-PROGRESSIVE - PSYTRANCE-🌀 -LINE UP- 🎪
  RANJI (Voox Music) Live ISR ⓕ: ♫: 🎪 W.A.D (Bluetunes) Li… Location:
  Konzertzentrum Schüür, Tribschenstrasse 1, 6005 Luzern, 6005 Luzern
URL:https://www.goabase.net/de/party/beyond-reality-circus-of-illusions-w-ranji-wad-krama-lauterkrach-uvm/109652
CATEGORIES:Psytrance Event
CLASS:PUBLIC
END:VEVENT

BEGIN:VEVENT
UID:c5e26cce3a4a27bf9e29ac4b856bdb3a
DTSTART:20221231T210000
DTEND:20230101T100000
LOCATION:Gampel [Switzerland]
GEO:46.300000000;7.700000000
DTSTAMP:20221231T210000Z
SUMMARY:☆ ILLUSORIA 2022 ☆ ProgVisions New Year w/ Sesto Sento, DayDin, Babalos uvm.
DESCRIPTION:Line-Up: ⭐ LIVE ACTS ⭐ ►♫ 🌟🔮🌟 SESTO SENTO 🌟🔮🌟 (Alteza) ►♫ 🌟🔮🌟 DAY DIN
  🌟🔮🌟 (Spintwist) ►♫ 🌟🔮🌟 BABALOS 🌟🔮🌟 (Blackout Rec.) ►… Location: 7th
  Heaven & Rothis, Kantonsstrasse 5, Gampel Steg Wallis, 3940 Gampel
URL:https://www.goabase.net/de/party/illusoria-2022-progvisions-new-year-w-sesto-sento-daydin-babalos-uvm/109354
CATEGORIES:Psytrance Event
CLASS:PUBLIC
END:VEVENT

END:VCALENDAR