BEGIN:VCALENDAR
VERSION:2.0
PRODID:goabase.net iCalendar 2026
X-WR-CALNAME:goabase.net - parties and people 
X-WR-TIMEZONE;VALUE=TEXT:Europe/Berlin
CALSCALE:GREGORIAN
BEGIN:VTIMEZONE
TZID:Europe/Berlin
X-LIC-LOCATION:Europe/Berlin
BEGIN:DAYLIGHT
TZOFFSETFROM:+0100
TZOFFSETTO:+0200
TZNAME:CEST
DTSTART:19700329T020000
RRULE:FREQ=YEARLY;INTERVAL=1;BYDAY=-1SU;BYMONTH=3
END:DAYLIGHT
BEGIN:STANDARD
TZOFFSETFROM:+0200
TZOFFSETTO:+0100
TZNAME:CET
DTSTART:19701025T030000
RRULE:FREQ=YEARLY;INTERVAL=1;BYDAY=-1SU;BYMONTH=10
END:STANDARD
END:VTIMEZONE

BEGIN:VEVENT
UID:e0bd27adc64d27a36ba74871bbf9d3cc
DTSTART:20260321T220000
DTEND:20260322T050000
LOCATION:Radolfzell [Germany]
GEO:47.700000000;9.000000000
DTSTAMP:20260321T220000Z
SUMMARY:VORTEX by HRK
DESCRIPTION:Line-Up: Audiofisters × Progressive / Psytrance × Astralica × Full On
  × Ancient Arts × Full On / Nightpsy × Psydonym × Forest × Location:
  Bokle Radolfzell, Robert-Gerwig-Straße 12, 78315 Radolfzell
URL:https://www.goabase.net/de/party/vortex-by-hrk/116903
CATEGORIES:Psytrance Event
CLASS:PUBLIC
END:VEVENT

BEGIN:VEVENT
UID:1f346ae818846941dc034125032f8a5f
DTSTART:20251206T220000
DTEND:20251207T040000
LOCATION:Konstanz [Germany]
GEO:47.678930000;9.162950000
DTSTAMP:20251206T220000Z
SUMMARY:AUDOPTIL - Lost in the wild
DESCRIPTION:Line-Up: MARKUS BEAT [Psytrance] WAMBO [Progressive Trance] LARYTALE
  b2b DAKAMI [Psytrance] FINJA [Full On] Location: Kulturladen Konstanz,
  Joseph-Belli-Weg 5, 78467 Konstanz
URL:https://www.goabase.net/de/party/audoptil-lost-in-the-wild/116252
CATEGORIES:Psytrance Event
CLASS:PUBLIC
END:VEVENT

BEGIN:VEVENT
UID:598f3d4f9132055673f4255e79e58def
DTSTART:20251017T230000
DTEND:20251018T050000
LOCATION:Konstanz [Germany]
GEO:47.674370000;9.158910000
DTSTAMP:20251017T230000Z
SUMMARY:Tiefenrausch - Forgotten world of Psytrance by HRK
DESCRIPTION:Line-Up: ➖L➖I➖N➖E➖U➖P➖ ▪️ M4TRIX 🎶 Progressive Trance ▪️ UULTRAVIOLETT
  b2b WASWARDA 🎶 Dark Progressive Trance ▪️ RICKYDELIC 🎶 Psy… Location:
  Kantine Konstanz, Oberlohnstraße 3, 78467 Konstanz
URL:https://www.goabase.net/de/party/tiefenrausch-forgotten-world-of-psytrance-by-hrk/115973
CATEGORIES:Psytrance Event
CLASS:PUBLIC
END:VEVENT

BEGIN:VEVENT
UID:8fc3851d80d2cacee59c5b47ff1e554b
DTSTART:20250118T230000
DTEND:20250119T050000
LOCATION:Konstanz [Germany]
GEO:47.700000000;9.200000000
DTSTAMP:20250118T230000Z
SUMMARY:NACHTWANDLER - Tales of Psytrance by HRK
DESCRIPTION:Line-Up: NAZE [Progressive Trance] RUMPELKISTE [Progressive Trance]
  WAMBO [Proggy, Psy] FINJA [Full-On] Location: Kantine Konstanz,
  Oberlohnstraße 3, 78467 Konstanz
URL:https://www.goabase.net/de/party/nachtwandler-tales-of-psytrance-by-hrk/114301
CATEGORIES:Psytrance Event
CLASS:PUBLIC
END:VEVENT

BEGIN:VEVENT
UID:bb4122923155c61b374e74169c831171
DTSTART:20241102T220000
DTEND:20241103T040000
LOCATION:Konstanz [Germany]
GEO:47.700000000;9.200000000
DTSTAMP:20241102T220000Z
SUMMARY:AUDOPTIL - psytrance on fire 🔥
DESCRIPTION:Line-Up: 🔸 SERRAX Progressive Trance —&gt- All Together Records 🔸
  AUDIOFISTERS Psytrance —&gt- TesseracTstudio 🔸 FINJA Psytrance,…
  Location: Kulturladen e.V. (KuLa Komstanz), Joseph-Belli-Weg 9, 78467
  Konstanz
URL:https://www.goabase.net/de/party/audoptil-psytrance-on-fire/113839
CATEGORIES:Psytrance Event
CLASS:PUBLIC
END:VEVENT

BEGIN:VEVENT
UID:5a334543d8bef8c9c28c75a68a118283
DTSTART:20240914T200000
DTEND:20240915T090000
LOCATION:Orsingen-Nenzingen [Germany]
GEO:47.800000000;8.900000000
DTSTAMP:20240914T200000Z
SUMMARY:Zauberwald // HRK
DESCRIPTION:Line-Up: ZAUBERWALD | 14.09.24 | MAUSHALDE ⭐️ LINEUP ⭐️ NØK! --&gt-
  Mindflower Collective ◾️ Progressive Trance◾️ T1MØ —&gt- Mind…
URL:https://www.goabase.net/de/party/zauberwald-hrk/113543
CATEGORIES:Psytrance Event
CLASS:PUBLIC
END:VEVENT

BEGIN:VEVENT
UID:a1da3eb62664a7468587e2365d855213
DTSTART:20231125T220000
DTEND:20231126T040000
LOCATION:Konstanz [Germany]
GEO:47.688570000;9.152890000
DTSTAMP:20231125T220000Z
SUMMARY:AUDOPTIL - a psytrance experience //HRK
DESCRIPTION:Line-Up: — Meister der Musik — 🌚 TRXUS 🌚 Zenonesque [Mycell] 🌝
  AUDIOFISTERS 🌝 Progressive [TesseracTstudio] 🌚 RICKYDELIC 🌚 Ps…
  Location: Kulturladen Konstanz, Joseph-Belli-Weg 5-9, 78467 Konstanz
URL:https://www.goabase.net/de/party/audoptil-a-psytrance-experience-hrk/111241
CATEGORIES:Psytrance Event
CLASS:PUBLIC
END:VEVENT

BEGIN:VEVENT
UID:6e593d9730bdc9dd91561b32bd1d9cfd
DTSTART:20231021T220000
DTEND:20231022T040000
LOCATION:Radolfzell am Bodensee [Germany]
GEO:47.753850000;8.937810000
DTSTAMP:20231021T220000Z
SUMMARY:TranceZenDance //HRK
DESCRIPTION:Line-Up: 🔮 NKARSIA 🔮 [Zenonesque] Dense Nebula Records ☄️ MARKUS BEAT
  ☄️ [Proggressive | Psy] Tripin Out, Lakerave 🌒 DARK VISIO… Location:
  Bokle Radolfzell, Robert-Gerwig-Straße 12, 78315 Radolfzell am Bodensee
URL:https://www.goabase.net/de/party/trancezendance-hrk/111148
CATEGORIES:Psytrance Event
CLASS:PUBLIC
END:VEVENT

BEGIN:VEVENT
UID:c6c5ba84c2d41c44b53c47a48f2e1084
DTSTART:20230325T220000
DTEND:20230326T040000
LOCATION:Radolfzell am Bodensee [Germany]
GEO:47.746080000;8.953630000
DTSTAMP:20230325T220000Z
SUMMARY:KLANGTIEFE // HighRaveKollektiv
DESCRIPTION:Line-Up: ⏳ TIMETABLE ⌛️ ☮️ OUTSIDE THE BOX ☮️ ➖ 22 - 00 Uhr ➖
  Outsidethebox_music ➖ Techno, Proggy ☯️ JOJO WUNDERFITZ b2b MARKUS…
  Location: sBokle, Robert Gerwig Straße 12, 78315 Radolfzell am Bodensee
URL:https://www.goabase.net/de/party/klangtiefe-highravekollektiv/110084
CATEGORIES:Psytrance Event
CLASS:PUBLIC
END:VEVENT

BEGIN:VEVENT
UID:496dfc6807b17d12cec250b153690b4e
DTSTART:20230121T220000
DTEND:20230122T040000
LOCATION:Radolfzell am Bodensee [Germany]
GEO:47.700000000;9.000000000
DTSTAMP:20230121T220000Z
SUMMARY:TaktTräumer // HighRaveKollektiv
DESCRIPTION:Line-Up: TIM FLUCK 🎶 Proggy [Galama Records, Raumklang] PSYDONYM 🎶
  Psy, Forest HYPERTON 🎶 Dark, Hi-Tech [HighRaveKollektiv, Pra… Location:
  s'Bokle Radolfzell, Robert-Gerwig-Straße 12, 78315 Radolfzell am
  Bodensee, 78315 Radolfzell am Bodensee
URL:https://www.goabase.net/de/party/takttraeumer-highravekollektiv/109572
CATEGORIES:Psytrance Event
CLASS:PUBLIC
END:VEVENT

BEGIN:VEVENT
UID:23160ac11ac3f405a2fbe3b3c26fb609
DTSTART:20200321T220000
DTEND:20200322T050000
LOCATION:Villingen-Schwenningen [Germany]
GEO:48.059799600;8.528644400
DTSTAMP:20200321T220000Z
SUMMARY:PsyRitual Experience pres. Astral Movement (Live)
DESCRIPTION:Line-Up: ☯ Progressive - Hitech ☯ » Astral Movement
  (Live)www.soundcloud.com/astral_movement» Hyperton (Live) HRK, Pranava
  Record…
URL:https://www.goabase.net/de/party/psyritual-experience-pres-astral-movement-live/104888
CATEGORIES:Psytrance Event
CLASS:PUBLIC
END:VEVENT

BEGIN:VEVENT
UID:6ddb10a935d523c39e7f0748a04c7ed0
DTSTART:20200306T220000
DTEND:20200307T040000
LOCATION:Radolfzell [Germany]
GEO:47.745855500;8.953885400
DTSTAMP:20200306T220000Z
SUMMARY:Floorbeben //HRK - Goa ॐ
DESCRIPTION:Line-Up: ☯ RICKYDELIC ☯ 》Progressive 《 Rümli.prod, Experience the
  Forrestwww.soundcloud.com/1441990 ☯ CAPTAIN BALU ☯ 》Psytrance 《…
URL:https://www.goabase.net/de/party/floorbeben-hrk-goa/106232
CATEGORIES:Psytrance Event
CLASS:PUBLIC
END:VEVENT

BEGIN:VEVENT
UID:85aa8174e6f6f3c9a766dde5b9333e63
DTSTART:20200118T220000
DTEND:20200119T050000
LOCATION:Donaueschingen [Germany]
GEO:47.960492000;8.509564400
DTSTAMP:20200118T220000Z
SUMMARY:PsyRitual Experience pres. Klopfgeister (live)
DESCRIPTION:Line-Up: MAINFLOOR ☯ Psytrance ☯ » Klopfgeister (Live) Spin Twist
  Recordswww.soundcloud.com/klopfgeister » Tim Fluckwww.soundclou…
URL:https://www.goabase.net/de/party/psyritual-experience-pres-klopfgeister-live/104791
CATEGORIES:Psytrance Event
CLASS:PUBLIC
END:VEVENT

BEGIN:VEVENT
UID:6a2c89a6316f0f00f7e43f5332cf2f39
DTSTART:20191221T220000
DTEND:20191222T050000
LOCATION:Karlsruhe [Germany]
GEO:49.011478800;8.362583400
DTSTAMP:20191221T220000Z
SUMMARY:PsyRitual Experience pres. Jack in the Box (Live)
DESCRIPTION:Line-Up: ☯ Psytrance ☯ » Jack in the Box (Live) Planet Prog, Alien
  Records, Backsheepwww.soundcloud.com/jackinthebox85» SonGoa ak…
URL:https://www.goabase.net/de/party/psyritual-experience-pres-jack-in-the-box-live/104744
CATEGORIES:Psytrance Event
CLASS:PUBLIC
END:VEVENT

BEGIN:VEVENT
UID:04acca2458de3c5f51c52de282178039
DTSTART:20191129T220000
DTEND:20191130T050000
LOCATION:Albstadt [Germany]
GEO:48.216705300;9.016667400
DTSTAMP:20191129T220000Z
SUMMARY:PsyRitual Experience pres. Ranji (live)
DESCRIPTION:Line-Up: LINE-UP MAINFLOOR ☯ Psytrance ☯ » Ranji (Live) Blue Tunes
  Recordswww.facebook.com/RANJI.OFFICIAL/ » Furaha iDirty Record…
URL:https://www.goabase.net/de/party/psyritual-experience-pres-ranji-live/104643
CATEGORIES:Psytrance Event
CLASS:PUBLIC
END:VEVENT

BEGIN:VEVENT
UID:5d0ef14d5ba6af5edc29a409f82e3eb6
DTSTART:20190518T230000
DTEND:20190519T050000
LOCATION:Offenburg [Germany]
GEO:48.470427400;7.948261257
DTSTAMP:20190518T230000Z
SUMMARY:QuantenFlug //HRK meets JuZe Kessel - Techno, DnB, Goa ॐ
DESCRIPTION:Line-Up: ⚝ LINEUP ⚝ proudly presented by High Rave Kollektiv and Juze
  Kessel ☮️ Drum & Bass und Techno-Floor ☮️ ⏱ 23:00 ADAM CZ b…
URL:https://www.goabase.net/de/party/quantenflug-hrk-meets-juze-kessel-techno-dnb-goa/103780
CATEGORIES:Psytrance Event
CLASS:PUBLIC
END:VEVENT

BEGIN:VEVENT
UID:b09ef753ae2339afba309c77fe00f920
DTSTART:20190430T220000
DTEND:20190501T040000
LOCATION:Radolfzell am Bodensee [Germany]
GEO:47.745855500;8.953885400
DTSTAMP:20190430T220000Z
SUMMARY:Checkmated //HRK - Drum & Bass - Goa ॐ
DESCRIPTION:Line-Up: ♞♘ LINEUP ♘♞ ⏱ 22:00 ♛ PAXY b2b STF » Drum & Bass ⏱ 23:30 ♚
  HYDRAKARMA [Electricprice Records, SomA Ritual Records] »…
URL:https://www.goabase.net/de/party/checkmated-hrk-drum-bass-goa/103399
CATEGORIES:Psytrance Event
CLASS:PUBLIC
END:VEVENT

BEGIN:VEVENT
UID:2df2400810f2b18dc94433ef220345d1
DTSTART:20190315T220000
DTEND:20190316T030000
LOCATION:Konstanz [Germany]
GEO:47.660580000;9.173020000
DTSTAMP:20190315T220000Z
SUMMARY:ॐ Mythologica - Das versunkene Königreich
DESCRIPTION:Line-Up: ❧ Meerjungfrauen ☙ 🐠 ABYSS PROJECT b2b HYPERTON [Pranava
  Records, Squatama Records &lt--|-&gt- HRK, Pranava Records] ♆ Z…
URL:https://www.goabase.net/de/party/mythologica-das-versunkene-koenigreich/103126
CATEGORIES:Psytrance Event
CLASS:PUBLIC
END:VEVENT

BEGIN:VEVENT
UID:057e24ce61ad6cf8c9cdb461b448cd0b
DTSTART:20190302T230000
DTEND:20190303T040000
LOCATION:Konstanz [Germany]
GEO:47.659217800;9.175071700
DTSTAMP:20190302T230000Z
SUMMARY:Eclipse - Auf zu neuen Ufern
DESCRIPTION:Line-Up: ★ LINEUP ★ Techno - Floor 👹 KLABAUTERMANN
  [Stoffwechsel]www.soundcloud.com/moritz-sch-nbucher-1 😈 VEROCIDE b2b
  RUMPELKIS…
URL:https://www.goabase.net/de/party/eclipse-auf-zu-neuen-ufern/102790
CATEGORIES:Psytrance Event
CLASS:PUBLIC
END:VEVENT

BEGIN:VEVENT
UID:05ec40a1ad027d94aa69cfe7ec5416be
DTSTART:20190209T220000
DTEND:20190210T040000
LOCATION:Radolfzell am Bodensee [Germany]
GEO:47.745855500;8.953885400
DTSTAMP:20190209T220000Z
SUMMARY:ॐ Dayaks Geheimnis //HRK
DESCRIPTION:Line-Up: 👻 Waldgeister 👻 ➸ CHRIS W. [Psythurism] ❃ Psytrance ❃ ⏳ 22:00
  - 0:00www.soundcloud.com/chris-w-4/good-time ➸ ARASHIN [//…
URL:https://www.goabase.net/de/party/dayaks-geheimnis-hrk/102526
CATEGORIES:Psytrance Event
CLASS:PUBLIC
END:VEVENT

END:VCALENDAR