BEGIN:VCALENDAR
VERSION:2.0
PRODID:goabase.net iCalendar 2026
X-WR-CALNAME:goabase.net - parties and people 
X-WR-TIMEZONE;VALUE=TEXT:Europe/Berlin
CALSCALE:GREGORIAN
BEGIN:VTIMEZONE
TZID:Europe/Berlin
X-LIC-LOCATION:Europe/Berlin
BEGIN:DAYLIGHT
TZOFFSETFROM:+0100
TZOFFSETTO:+0200
TZNAME:CEST
DTSTART:19700329T020000
RRULE:FREQ=YEARLY;INTERVAL=1;BYDAY=-1SU;BYMONTH=3
END:DAYLIGHT
BEGIN:STANDARD
TZOFFSETFROM:+0200
TZOFFSETTO:+0100
TZNAME:CET
DTSTART:19701025T030000
RRULE:FREQ=YEARLY;INTERVAL=1;BYDAY=-1SU;BYMONTH=10
END:STANDARD
END:VTIMEZONE

BEGIN:VEVENT
UID:49ebfbc70fa2c63b4863ae3433d7a362
DTSTART:20260425T220000
DTEND:20260426T050000
LOCATION:Rudolstadt [Germany]
GEO:50.700000000;11.300000000
DTSTAMP:20260425T220000Z
SUMMARY:SAALEWUSELN - GOA GATHERING
DESCRIPTION:Location: saalgärten Rudolstadt, Saalgärten 1b, 07407 Rudolstadt
URL:https://www.goabase.net/de/party/saalewuseln-goa-gathering/117306
CATEGORIES:Psytrance Event
CLASS:PUBLIC
END:VEVENT

BEGIN:VEVENT
UID:8b2d22587a9a4bfcd5608cb50d381bcf
DTSTART:20190705T230000
DTEND:20190706T080000
LOCATION:Rudolstadt [Germany]
GEO:50.720607800;11.340197600
DTSTAMP:20190705T230000Z
SUMMARY:NiwiKK präsentiert &gt-&gt- SAUERKRAUTSTAMPFEN &lt-&lt-
DESCRIPTION:Line-Up: Deep Glow (Kanne) - Tech House, Techno XYIZ- Techno KrazyK -
  Goa N4CH1SCH4L1ER - Techo / Acid / Aua..
URL:https://www.goabase.net/de/party/niwikk-praesentiert-gt-gt-sauerkrautstampfen-lt-lt/104163
CATEGORIES:Psytrance Event
CLASS:PUBLIC
END:VEVENT

BEGIN:VEVENT
UID:90f14d81bf0f96c1df604de3a5743c0e
DTSTART:20190426T213000
DTEND:20190427T120000
LOCATION:Rudolstadt [Germany]
GEO:50.720607800;11.340197600
DTSTAMP:20190426T213000Z
SUMMARY:Niwikk präsentiert- Grobes im Gebüsch!
DESCRIPTION:
URL:https://www.goabase.net/de/party/niwikk-praesentiert-grobes-im-gebuesch/103423
CATEGORIES:Psytrance Event
CLASS:PUBLIC
END:VEVENT

END:VCALENDAR