BEGIN:VCALENDAR
VERSION:2.0
PRODID:goabase.net iCalendar 2026
X-WR-CALNAME:goabase.net - parties and people 
X-WR-TIMEZONE;VALUE=TEXT:Europe/Berlin
CALSCALE:GREGORIAN
BEGIN:VTIMEZONE
TZID:Europe/Berlin
X-LIC-LOCATION:Europe/Berlin
BEGIN:DAYLIGHT
TZOFFSETFROM:+0100
TZOFFSETTO:+0200
TZNAME:CEST
DTSTART:19700329T020000
RRULE:FREQ=YEARLY;INTERVAL=1;BYDAY=-1SU;BYMONTH=3
END:DAYLIGHT
BEGIN:STANDARD
TZOFFSETFROM:+0200
TZOFFSETTO:+0100
TZNAME:CET
DTSTART:19701025T030000
RRULE:FREQ=YEARLY;INTERVAL=1;BYDAY=-1SU;BYMONTH=10
END:STANDARD
END:VTIMEZONE

BEGIN:VEVENT
UID:0b83946ca13f0ecdc439c11a437339aa
DTSTART:20140124T200000
DTEND:20140125T110000
LOCATION:Duisburg [Germany]
GEO:51.508536200;6.750611500
DTSTAMP:20140124T200000Z
SUMMARY:Ruhrpott Prog (Krayer´s Birthday)
DESCRIPTION:Line-Up: *** ACHTUNG DIE PARTY BEGINNT SCHON UM 20h*** Taluma
URL:https://www.goabase.net/de/party/ruhrpott-prog-krayers-birthday/76673
CATEGORIES:Psytrance Event
CLASS:PUBLIC
END:VEVENT

END:VCALENDAR