BEGIN:VCALENDAR
VERSION:2.0
PRODID:goabase.net iCalendar 2026
X-WR-CALNAME:goabase.net - parties and people 
X-WR-TIMEZONE;VALUE=TEXT:Europe/Berlin
CALSCALE:GREGORIAN
BEGIN:VTIMEZONE
TZID:Europe/Berlin
X-LIC-LOCATION:Europe/Berlin
BEGIN:DAYLIGHT
TZOFFSETFROM:+0100
TZOFFSETTO:+0200
TZNAME:CEST
DTSTART:19700329T020000
RRULE:FREQ=YEARLY;INTERVAL=1;BYDAY=-1SU;BYMONTH=3
END:DAYLIGHT
BEGIN:STANDARD
TZOFFSETFROM:+0200
TZOFFSETTO:+0100
TZNAME:CET
DTSTART:19701025T030000
RRULE:FREQ=YEARLY;INTERVAL=1;BYDAY=-1SU;BYMONTH=10
END:STANDARD
END:VTIMEZONE

BEGIN:VEVENT
UID:232ca748a6853bd4a5cc3d2b33bb2f1f
DTSTART:20111008T230000
DTEND:20111009T120000
LOCATION:Póvoa de Lanhoso [Portugal]
GEO:0.000000000;0.000000000
DTSTAMP:20111008T230000Z
SUMMARY:ॐ ॐॐ Boom Shankar ॐॐॐ
DESCRIPTION:Line-Up: BRAINWASH pt. (Fractal Rec. / Beyond Logic Rec.) ALGORYTHYM
  .pt (Quest4Goa / Samaveda)
URL:https://www.goabase.net/de/party/boom-shankar/62025
CATEGORIES:Psytrance Event
CLASS:PUBLIC
END:VEVENT

BEGIN:VEVENT
UID:7df40d8041d45e20d93cfa80ead68a30
DTSTART:20110618T220000
DTEND:20110619T120000
LOCATION:Travassos - Póvoa de Lanhos… [Portugal]
GEO:0.000000000;0.000000000
DTSTAMP:20110618T220000Z
SUMMARY:Arte Do Carvalho - Oak Roots
DESCRIPTION:Line-Up: Poizon (Timecode Rec.)Tech Twist (Crystal Matrix
  Records)Digital Dimension (Geomagnetic Tv Records / Zero Gravity
  Record…
URL:https://www.goabase.net/de/party/arte-do-carvalho-oak-roots/59583
CATEGORIES:Psytrance Event
CLASS:PUBLIC
END:VEVENT

END:VCALENDAR