BEGIN:VCALENDAR
VERSION:2.0
PRODID:goabase.net iCalendar 2026
X-WR-CALNAME:goabase.net - parties and people 
X-WR-TIMEZONE;VALUE=TEXT:Europe/Berlin
CALSCALE:GREGORIAN
BEGIN:VTIMEZONE
TZID:Europe/Berlin
X-LIC-LOCATION:Europe/Berlin
BEGIN:DAYLIGHT
TZOFFSETFROM:+0100
TZOFFSETTO:+0200
TZNAME:CEST
DTSTART:19700329T020000
RRULE:FREQ=YEARLY;INTERVAL=1;BYDAY=-1SU;BYMONTH=3
END:DAYLIGHT
BEGIN:STANDARD
TZOFFSETFROM:+0200
TZOFFSETTO:+0100
TZNAME:CET
DTSTART:19701025T030000
RRULE:FREQ=YEARLY;INTERVAL=1;BYDAY=-1SU;BYMONTH=10
END:STANDARD
END:VTIMEZONE

BEGIN:VEVENT
UID:ed0d5d64efd0c45aceefe462f704a0f8
DTSTART:20140301T230000
DTEND:20140302T120000
LOCATION:Gz - Vigo [Spain]
GEO:0.000000000;0.000000000
DTSTAMP:20140301T230000Z
SUMMARY:live NEOCORETEX
DESCRIPTION:Line-Up: NEOCORETEX 3H
URL:https://www.goabase.net/de/party/live-neocoretex/77878
CATEGORIES:Psytrance Event
CLASS:PUBLIC
END:VEVENT

BEGIN:VEVENT
UID:a7eae30935316f405ca08c8bcd21a029
DTSTART:20131221T180000
DTEND:20131222T120000
LOCATION:Valadares (Vigo) GZ [Spain]
GEO:0.000000000;0.000000000
DTSTAMP:20131221T180000Z
SUMMARY:RENACEMENTO III goatequ-e electrotrance
DESCRIPTION:
URL:https://www.goabase.net/de/party/renacemento-iii-goatequ-e-electrotrance/76800
CATEGORIES:Psytrance Event
CLASS:PUBLIC
END:VEVENT

END:VCALENDAR