BEGIN:VCALENDAR
VERSION:2.0
PRODID:goabase.net iCalendar 2026
X-WR-CALNAME:goabase.net - parties and people 
X-WR-TIMEZONE;VALUE=TEXT:Europe/Berlin
CALSCALE:GREGORIAN
BEGIN:VTIMEZONE
TZID:Europe/Berlin
X-LIC-LOCATION:Europe/Berlin
BEGIN:DAYLIGHT
TZOFFSETFROM:+0100
TZOFFSETTO:+0200
TZNAME:CEST
DTSTART:19700329T020000
RRULE:FREQ=YEARLY;INTERVAL=1;BYDAY=-1SU;BYMONTH=3
END:DAYLIGHT
BEGIN:STANDARD
TZOFFSETFROM:+0200
TZOFFSETTO:+0100
TZNAME:CET
DTSTART:19701025T030000
RRULE:FREQ=YEARLY;INTERVAL=1;BYDAY=-1SU;BYMONTH=10
END:STANDARD
END:VTIMEZONE

BEGIN:VEVENT
UID:03842438b6899c0a01a9246ad230982d
DTSTART:20190501T220000
DTEND:20190502T070000
LOCATION:Sihanoukville [Cambodia]
GEO:10.622794200;103.522834800
DTSTAMP:20190501T220000Z
SUMMARY:Black Hole Psychedelic Gathering
DESCRIPTION:Line-Up: Gypsydelic (TR) Psychoacoustique (FR) Imry (UK) GoaGai (ISR)
URL:https://www.goabase.net/de/party/black-hole-psychedelic-gathering/103683
CATEGORIES:Psytrance Event
CLASS:PUBLIC
END:VEVENT

END:VCALENDAR