BEGIN:VCALENDAR
VERSION:2.0
PRODID:goabase.net iCalendar 2026
X-WR-CALNAME:goabase.net - parties and people 
X-WR-TIMEZONE;VALUE=TEXT:Europe/Berlin
CALSCALE:GREGORIAN
BEGIN:VTIMEZONE
TZID:Europe/Berlin
X-LIC-LOCATION:Europe/Berlin
BEGIN:DAYLIGHT
TZOFFSETFROM:+0100
TZOFFSETTO:+0200
TZNAME:CEST
DTSTART:19700329T020000
RRULE:FREQ=YEARLY;INTERVAL=1;BYDAY=-1SU;BYMONTH=3
END:DAYLIGHT
BEGIN:STANDARD
TZOFFSETFROM:+0200
TZOFFSETTO:+0100
TZNAME:CET
DTSTART:19701025T030000
RRULE:FREQ=YEARLY;INTERVAL=1;BYDAY=-1SU;BYMONTH=10
END:STANDARD
END:VTIMEZONE

BEGIN:VEVENT
UID:66cea6928483fe69ec571a2f5947c9b5
DTSTART:20070113T233000
DTEND:20070114T120000
LOCATION:Malaga [Spain]
GEO:0.000000000;0.000000000
DTSTAMP:20070113T233000Z
SUMMARY:CASA ENCANTADA GOES ONNN (colaboration with DINAMIK)
DESCRIPTION:
URL:https://www.goabase.net/de/party/casa-encantada-goes-onnn-colaboration-with-dinamik/28904
CATEGORIES:Psytrance Event
CLASS:PUBLIC
END:VEVENT

BEGIN:VEVENT
UID:85b267f3c3cbc4b984ead77e150208b7
DTSTART:20061119T050000
DTEND:20061119T110000
LOCATION:Málaga [Spain]
GEO:0.000000000;0.000000000
DTSTAMP:20061119T050000Z
SUMMARY:CASA ENCANTADA - NONSTOP (AFTER HOURS ASTRALTECH PARTY)
DESCRIPTION:
URL:https://www.goabase.net/de/party/casa-encantada-nonstop-after-hours-astraltech-party/26079
CATEGORIES:Psytrance Event
CLASS:PUBLIC
END:VEVENT

END:VCALENDAR