BEGIN:VCALENDAR
VERSION:2.0
PRODID:goabase.net iCalendar 2026
X-WR-CALNAME:goabase.net - parties and people 
X-WR-TIMEZONE;VALUE=TEXT:Europe/Berlin
CALSCALE:GREGORIAN
BEGIN:VTIMEZONE
TZID:Europe/Berlin
X-LIC-LOCATION:Europe/Berlin
BEGIN:DAYLIGHT
TZOFFSETFROM:+0100
TZOFFSETTO:+0200
TZNAME:CEST
DTSTART:19700329T020000
RRULE:FREQ=YEARLY;INTERVAL=1;BYDAY=-1SU;BYMONTH=3
END:DAYLIGHT
BEGIN:STANDARD
TZOFFSETFROM:+0200
TZOFFSETTO:+0100
TZNAME:CET
DTSTART:19701025T030000
RRULE:FREQ=YEARLY;INTERVAL=1;BYDAY=-1SU;BYMONTH=10
END:STANDARD
END:VTIMEZONE

BEGIN:VEVENT
UID:0b40b3ceef347762e71b2e31745fcf3b
DTSTART:20130420T220000
DTEND:20130421T100000
LOCATION:Chemnitz [Germany]
GEO:50.818538200;12.839751300
DTSTAMP:20130420T220000Z
SUMMARY:LILIOM CAVE TRANCE
DESCRIPTION:Line-Up: 23 Uhr Eröffnung des Felsenkellerfloors mit ARA BAYA CIAS -
  unplugged - Oberton - Sphä
URL:https://www.goabase.net/de/party/liliom-cave-trance/72756
CATEGORIES:Psytrance Event
CLASS:PUBLIC
END:VEVENT

BEGIN:VEVENT
UID:64cc151fa529dfa26ede2ca4ac3cbef8
DTSTART:20090419T160000
DTEND:20090420T080000
LOCATION:westliches Mittelsachsen [Germany]
GEO:0.000000000;0.000000000
DTSTAMP:20090419T160000Z
SUMMARY:LILIOM  CAVE   TRANCE   BONUS   NIGHT
DESCRIPTION:Line-Up: Dann räumeln wir alle gemeinsam ein bischen auf, putzen
  schonmal die in- & outdoor - Bödenund bereiten langsam die Stär…
URL:https://www.goabase.net/de/party/liliom-cave-trance-bonus-night/45562
CATEGORIES:Psytrance Event
CLASS:PUBLIC
END:VEVENT

BEGIN:VEVENT
UID:1ca8e34da40641aa5dce98010283daf0
DTSTART:20090417T200000
DTEND:20090418T120000
LOCATION:westliches Mittelsachsen [Germany]
GEO:0.000000000;0.000000000
DTSTAMP:20090417T200000Z
SUMMARY:LILIOM  CAVE   TRANCE
DESCRIPTION:
URL:https://www.goabase.net/de/party/liliom-cave-trance/45246
CATEGORIES:Psytrance Event
CLASS:PUBLIC
END:VEVENT

END:VCALENDAR