BEGIN:VCALENDAR
VERSION:2.0
PRODID:goabase.net iCalendar 2026
X-WR-CALNAME:goabase.net - parties and people 
X-WR-TIMEZONE;VALUE=TEXT:Europe/Berlin
CALSCALE:GREGORIAN
BEGIN:VTIMEZONE
TZID:Europe/Berlin
X-LIC-LOCATION:Europe/Berlin
BEGIN:DAYLIGHT
TZOFFSETFROM:+0100
TZOFFSETTO:+0200
TZNAME:CEST
DTSTART:19700329T020000
RRULE:FREQ=YEARLY;INTERVAL=1;BYDAY=-1SU;BYMONTH=3
END:DAYLIGHT
BEGIN:STANDARD
TZOFFSETFROM:+0200
TZOFFSETTO:+0100
TZNAME:CET
DTSTART:19701025T030000
RRULE:FREQ=YEARLY;INTERVAL=1;BYDAY=-1SU;BYMONTH=10
END:STANDARD
END:VTIMEZONE

BEGIN:VEVENT
UID:97839b8276d0b1bc525ab67a587ee517
DTSTART:20200403T233000
DTEND:20200404T070000
LOCATION:Sevilla [Spain]
GEO:37.400000000;-6.000000000
DTSTAMP:20200403T233000Z
SUMMARY:DYSTOPIA 2.0
DESCRIPTION:Line-Up: * BETWEEN THE LINES * - Sweden - (Horsepower Productions /
  Skizodelic Mind) - * P-DROP * (Green Planet Productions /…
URL:https://www.goabase.net/de/party/dystopia-20/106583
CATEGORIES:Psytrance Event
CLASS:PUBLIC
END:VEVENT

BEGIN:VEVENT
UID:0b37d25d7420fff433cc43b03f5b405b
DTSTART:20200125T233000
DTEND:20200126T070000
LOCATION:Sevilla [Spain]
GEO:37.382830000;-5.973170000
DTSTAMP:20200125T233000Z
SUMMARY:Dystopia
DESCRIPTION:Line-Up: *FLUOELF* (Uroboros Records) *P-DROP* (Green Planet
  Productions / United Tribes) *SIDDIHKAH* (Prisma Crew) *T3CHGNOSIS*…
URL:https://www.goabase.net/de/party/dystopia/105945
CATEGORIES:Psytrance Event
CLASS:PUBLIC
END:VEVENT

END:VCALENDAR