BEGIN:VCALENDAR
VERSION:2.0
PRODID:goabase.net iCalendar 2026
X-WR-CALNAME:goabase.net - parties and people 
X-WR-TIMEZONE;VALUE=TEXT:Europe/Berlin
CALSCALE:GREGORIAN
BEGIN:VTIMEZONE
TZID:Europe/Berlin
X-LIC-LOCATION:Europe/Berlin
BEGIN:DAYLIGHT
TZOFFSETFROM:+0100
TZOFFSETTO:+0200
TZNAME:CEST
DTSTART:19700329T020000
RRULE:FREQ=YEARLY;INTERVAL=1;BYDAY=-1SU;BYMONTH=3
END:DAYLIGHT
BEGIN:STANDARD
TZOFFSETFROM:+0200
TZOFFSETTO:+0100
TZNAME:CET
DTSTART:19701025T030000
RRULE:FREQ=YEARLY;INTERVAL=1;BYDAY=-1SU;BYMONTH=10
END:STANDARD
END:VTIMEZONE

BEGIN:VEVENT
UID:f8ded2c02f6b9532aca6be3106933d4c
DTSTART:20100528T233000
DTEND:20100529T070000
LOCATION:Granada [Spain]
GEO:0.000000000;0.000000000
DTSTAMP:20100528T233000Z
SUMMARY:Fullmoongui - Quilombo III
DESCRIPTION:
URL:https://www.goabase.net/de/party/fullmoongui-quilombo-iii/53070
CATEGORIES:Psytrance Event
CLASS:PUBLIC
END:VEVENT

BEGIN:VEVENT
UID:09ff25e3f9a70ecd08895ca76a98c308
DTSTART:20100326T233000
DTEND:20100327T070000
LOCATION:Granada [Spain]
GEO:0.000000000;0.000000000
DTSTAMP:20100326T233000Z
SUMMARY:Fullmoongui - Quilombo II
DESCRIPTION:
URL:https://www.goabase.net/de/party/fullmoongui-quilombo-ii/51758
CATEGORIES:Psytrance Event
CLASS:PUBLIC
END:VEVENT

BEGIN:VEVENT
UID:0aac3228d4c4f3919eac8cd6b02de356
DTSTART:20100227T220000
DTEND:20100301T150000
LOCATION:Granada [Spain]
GEO:36.980000000;-3.730000000
DTSTAMP:20100227T220000Z
SUMMARY:Fullmoongui - II Aniversario
DESCRIPTION:Line-Up: AcidBox (Fullmoongui/Granada) Autopsy (Y.A.W.W.E./Ultratumba/
  Infernal Family Rec./Suiza) Dekhat-Bhuli (Labyrinth) (Y.A.…
URL:https://www.goabase.net/de/party/fullmoongui-ii-aniversario/51421
CATEGORIES:Psytrance Event
CLASS:PUBLIC
END:VEVENT

BEGIN:VEVENT
UID:9d2bacf643d949f348106cbe57f8f6a1
DTSTART:20100129T233000
DTEND:20100130T070000
LOCATION:Granada [Spain]
GEO:37.173000000;-3.589000000
DTSTAMP:20100129T233000Z
SUMMARY:Fullmoongui - Granada gets Psy
DESCRIPTION:Line-Up: AcibBox (Fullmoongui/Granada)
URL:https://www.goabase.net/de/party/fullmoongui-granada-gets-psy/50310
CATEGORIES:Psytrance Event
CLASS:PUBLIC
END:VEVENT

BEGIN:VEVENT
UID:78e3165c0dd36afd747b07bcf0725c67
DTSTART:20091205T170000
DTEND:20091207T160000
LOCATION:Granada [Spain]
GEO:36.999000000;-3.746000000
DTSTAMP:20091205T170000Z
SUMMARY:Fullmoongui & Pitiusus - Luna Polar
DESCRIPTION:Line-Up: Dekhat- Bhuli (Ultratumba recs/Heavy-Musci-prod
  recs/Y.A.W.W.E Recs) Portugal
URL:https://www.goabase.net/de/festival/fullmoongui-pitiusus-luna-polar/49693
CATEGORIES:Psytrance Event
CLASS:PUBLIC
END:VEVENT

BEGIN:VEVENT
UID:e71a242497a368bcfedac476e95fe3a1
DTSTART:20090904T220000
DTEND:20090906T120000
LOCATION:Granada [Spain]
GEO:36.999000000;-3.746000000
DTSTAMP:20090904T220000Z
SUMMARY:Fullmoongui - Goodbye Past  
DESCRIPTION:Line-Up: Sé tu mismo...
URL:https://www.goabase.net/de/festival/fullmoongui-goodbye-past/48237
CATEGORIES:Psytrance Event
CLASS:PUBLIC
END:VEVENT

BEGIN:VEVENT
UID:f05682bb71c2592a23a9db2b5f3e1d4e
DTSTART:20090516T120000
DTEND:20090517T160000
LOCATION:Granada [Spain]
GEO:36.999000000;-3.746000000
DTSTAMP:20090516T120000Z
SUMMARY:Fullmoongui - Happy Rebirth
DESCRIPTION:Line-Up: AcidBox (Fullmoongui/Granada) Dekhat-Bhuli (Labyrinth)
  (Ultravision Rec./Algeciras)
URL:https://www.goabase.net/de/party/fullmoongui-happy-rebirth/45845
CATEGORIES:Psytrance Event
CLASS:PUBLIC
END:VEVENT

BEGIN:VEVENT
UID:70c09ab8e12709205683da5b9664e67c
DTSTART:20090313T200000
DTEND:20090315T120000
LOCATION:Alhama de Granada [Spain]
GEO:37.018000000;-4.019000000
DTSTAMP:20090313T200000Z
SUMMARY:Fullmoongui - Back to the circuit
DESCRIPTION:Line-Up: AcidBox (Dj set live mix/Fullmoongui/Granada) Dekhat-Bhuli
  (Labyrinth) (Dj set live mix/Ultravision Rec./Algeciras)
URL:https://www.goabase.net/de/festival/fullmoongui-back-to-the-circuit/43429
CATEGORIES:Psytrance Event
CLASS:PUBLIC
END:VEVENT

BEGIN:VEVENT
UID:aa0d9520f118ca5a26d1f9d25701a6b9
DTSTART:20081220T080000
DTEND:20081220T230000
LOCATION:Granada [Spain]
GEO:36.999000000;-3.746000000
DTSTAMP:20081220T080000Z
SUMMARY:Fullmoongui - Progressive days
DESCRIPTION:Line-Up: AcidBox.Gra
URL:https://www.goabase.net/de/party/fullmoongui-progressive-days/42456
CATEGORIES:Psytrance Event
CLASS:PUBLIC
END:VEVENT

BEGIN:VEVENT
UID:5c84370c516d49db79e18b2e365462a3
DTSTART:20081115T200000
DTEND:20081116T160000
LOCATION:Granada [Spain]
GEO:36.999000000;-3.746000000
DTSTAMP:20081115T200000Z
SUMMARY:FULLMOONGUI !!!LEER INFO!!!
DESCRIPTION:Line-Up: ACIDBOX.gr
URL:https://www.goabase.net/de/party/fullmoongui-leer-info/41776
CATEGORIES:Psytrance Event
CLASS:PUBLIC
END:VEVENT

BEGIN:VEVENT
UID:672cdbdf69d4ac1267ce5c5fd0119b84
DTSTART:20081010T220000
DTEND:20081013T170000
LOCATION:Alhama de Granada [Spain]
GEO:37.018000000;-4.019000000
DTSTAMP:20081010T220000Z
SUMMARY:FULLMOON CIRCUIT FESTIVAL
DESCRIPTION:
URL:https://www.goabase.net/de/festival/fullmoon-circuit-festival/40604
CATEGORIES:Psytrance Event
CLASS:PUBLIC
END:VEVENT

BEGIN:VEVENT
UID:bef189cac1efe5c8d72ebec99147d3a1
DTSTART:20080524T220000
DTEND:20080525T180000
LOCATION:Granada [Spain]
GEO:0.000000000;0.000000000
DTSTAMP:20080524T220000Z
SUMMARY:FULL SUNNY PARTY
DESCRIPTION:Line-Up: ACIBOX (GRANADA)
URL:https://www.goabase.net/de/party/full-sunny-party/38875
CATEGORIES:Psytrance Event
CLASS:PUBLIC
END:VEVENT

BEGIN:VEVENT
UID:95eeaf21586d87e437a7d711f0efc45f
DTSTART:20080517T220000
DTEND:20080518T170000
LOCATION:Granada [Spain]
GEO:0.000000000;0.000000000
DTSTAMP:20080517T220000Z
SUMMARY:FULLMOONGUI
DESCRIPTION:Line-Up: ACIDBOX (GRANADA)
URL:https://www.goabase.net/de/party/fullmoongui/38721
CATEGORIES:Psytrance Event
CLASS:PUBLIC
END:VEVENT

BEGIN:VEVENT
UID:b924c29ed8ad8b11db65f24c00667b3b
DTSTART:20080510T220000
DTEND:20080511T180000
LOCATION:Granada [Spain]
GEO:0.000000000;0.000000000
DTSTAMP:20080510T220000Z
SUMMARY:SOUTH PSYCHEDELIC EXPERIENCE !!!LLUVIA, LEER INFO!!!
DESCRIPTION:Line-Up: ACIDBOX (GRANADA)
URL:https://www.goabase.net/de/party/south-psychedelic-experience-lluvia-leer-info/38479
CATEGORIES:Psytrance Event
CLASS:PUBLIC
END:VEVENT

BEGIN:VEVENT
UID:1c4cb9b63d05ed0db52228586814c212
DTSTART:20080419T170000
DTEND:20080420T170000
LOCATION:Granada [Spain]
GEO:0.000000000;0.000000000
DTSTAMP:20080419T170000Z
SUMMARY:FULLMOONGUI
DESCRIPTION:Line-Up: ACIDBOX (GRANADA)
URL:https://www.goabase.net/de/party/fullmoongui/38014
CATEGORIES:Psytrance Event
CLASS:PUBLIC
END:VEVENT

BEGIN:VEVENT
UID:f66290ef1b453d0be6f0578dc38703f9
DTSTART:20080223T120000
DTEND:20080224T180000
LOCATION:Granada [Spain]
GEO:0.000000000;0.000000000
DTSTAMP:20080223T120000Z
SUMMARY:FULL-MOONGUI PARTY
DESCRIPTION:Line-Up: ACIDBOX (GRANADA)
URL:https://www.goabase.net/de/party/full-moongui-party/36730
CATEGORIES:Psytrance Event
CLASS:PUBLIC
END:VEVENT

END:VCALENDAR