BEGIN:VCALENDAR
VERSION:2.0
PRODID:goabase.net iCalendar 2026
X-WR-CALNAME:goabase.net - parties and people 
X-WR-TIMEZONE;VALUE=TEXT:Europe/Berlin
CALSCALE:GREGORIAN
BEGIN:VTIMEZONE
TZID:Europe/Berlin
X-LIC-LOCATION:Europe/Berlin
BEGIN:DAYLIGHT
TZOFFSETFROM:+0100
TZOFFSETTO:+0200
TZNAME:CEST
DTSTART:19700329T020000
RRULE:FREQ=YEARLY;INTERVAL=1;BYDAY=-1SU;BYMONTH=3
END:DAYLIGHT
BEGIN:STANDARD
TZOFFSETFROM:+0200
TZOFFSETTO:+0100
TZNAME:CET
DTSTART:19701025T030000
RRULE:FREQ=YEARLY;INTERVAL=1;BYDAY=-1SU;BYMONTH=10
END:STANDARD
END:VTIMEZONE

BEGIN:VEVENT
UID:211b1ae3f5d7c6b10c87530167b8cec8
DTSTART:20111029T233000
DTEND:20111030T183000
LOCATION:Vila Nova de Cerveira [Portugal]
GEO:0.000000000;0.000000000
DTSTAMP:20111029T233000Z
SUMMARY:Nightmare Before Halloween
DESCRIPTION:Line-Up: ZINX Lançamento do EP &quot;Rampage&quot; Terror Lab
  Industries/ Brainscan AKÉS Lançamento do CD &quot;REMIXES&quot; Hel…
URL:https://www.goabase.net/de/party/nightmare-before-halloween/62578
CATEGORIES:Psytrance Event
CLASS:PUBLIC
END:VEVENT

END:VCALENDAR