BEGIN:VCALENDAR
VERSION:2.0
PRODID:goabase.net iCalendar 2026
X-WR-CALNAME:goabase.net - parties and people 
X-WR-TIMEZONE;VALUE=TEXT:Europe/Berlin
CALSCALE:GREGORIAN
BEGIN:VTIMEZONE
TZID:Europe/Berlin
X-LIC-LOCATION:Europe/Berlin
BEGIN:DAYLIGHT
TZOFFSETFROM:+0100
TZOFFSETTO:+0200
TZNAME:CEST
DTSTART:19700329T020000
RRULE:FREQ=YEARLY;INTERVAL=1;BYDAY=-1SU;BYMONTH=3
END:DAYLIGHT
BEGIN:STANDARD
TZOFFSETFROM:+0200
TZOFFSETTO:+0100
TZNAME:CET
DTSTART:19701025T030000
RRULE:FREQ=YEARLY;INTERVAL=1;BYDAY=-1SU;BYMONTH=10
END:STANDARD
END:VTIMEZONE

BEGIN:VEVENT
UID:7d92bdd21a508bf0cfa397b2adb3d444
DTSTART:20090919T233000
DTEND:20090920T160000
LOCATION:Calpe/Benissa [Spain]
GEO:0.000000000;0.000000000
DTSTAMP:20090919T233000Z
SUMMARY:TRIBE OF FROG _ EQUINOCCIO GATHERING
DESCRIPTION:
URL:https://www.goabase.net/de/party/tribe-of-frog-equinoccio-gathering/48217
CATEGORIES:Psytrance Event
CLASS:PUBLIC
END:VEVENT

BEGIN:VEVENT
UID:ffd6421819a1ae6b6aa73b2463c28cd5
DTSTART:20090509T220000
DTEND:20090510T120000
LOCATION:Gata de Gorgos (Alicante) [Spain]
GEO:0.000000000;0.000000000
DTSTAMP:20090509T220000Z
SUMMARY:Space Connection   ToF/GSG
DESCRIPTION:
URL:https://www.goabase.net/de/party/space-connection-tofgsg/45392
CATEGORIES:Psytrance Event
CLASS:PUBLIC
END:VEVENT

BEGIN:VEVENT
UID:7ce2661cda1d381b26f3ac600bfcd45c
DTSTART:20080919T220000
DTEND:20080921T120000
LOCATION:South... [Spain]
GEO:0.000000000;0.000000000
DTSTAMP:20080919T220000Z
SUMMARY:AZTLAN EQUINOCCIO FESTIVAL
DESCRIPTION:Line-Up: to be confirmed...
URL:https://www.goabase.net/de/festival/aztlan-equinoccio-festival/38330
CATEGORIES:Psytrance Event
CLASS:PUBLIC
END:VEVENT

BEGIN:VEVENT
UID:6a009b6b4814441ceda19831b285251f
DTSTART:20080202T233000
DTEND:20080203T140000
LOCATION:Pedreger [Spain]
GEO:0.000000000;0.000000000
DTSTAMP:20080202T233000Z
SUMMARY:Carnival Party en la Casa Encantada
DESCRIPTION:
URL:https://www.goabase.net/de/party/carnival-party-en-la-casa-encantada/36709
CATEGORIES:Psytrance Event
CLASS:PUBLIC
END:VEVENT

BEGIN:VEVENT
UID:1ff66cf502c5b16175c35be2e78d2a51
DTSTART:20070921T180000
DTEND:20070923T200000
LOCATION:L´Alcudia (Valencia) [Spain]
GEO:0.000000000;0.000000000
DTSTAMP:20070921T180000Z
SUMMARY:AZTLAN EQUINOCCIO  FESTIVAL
DESCRIPTION:Line-Up: ALCHEMIX (SINERGIA) Gr ANTAGON (INTERZONE PA) Ger BASIC NOVA
  (XILOCIBE) Mex BRAINWASH (CENTRAL DOGMA/SHIVA SPACE JAPAN/…
URL:https://www.goabase.net/de/festival/aztlan-equinoccio-festival/31060
CATEGORIES:Psytrance Event
CLASS:PUBLIC
END:VEVENT

END:VCALENDAR