BEGIN:VCALENDAR
VERSION:2.0
PRODID:goabase.net iCalendar 2026
X-WR-CALNAME:goabase.net - parties and people 
X-WR-TIMEZONE;VALUE=TEXT:Europe/Berlin
CALSCALE:GREGORIAN
BEGIN:VTIMEZONE
TZID:Europe/Berlin
X-LIC-LOCATION:Europe/Berlin
BEGIN:DAYLIGHT
TZOFFSETFROM:+0100
TZOFFSETTO:+0200
TZNAME:CEST
DTSTART:19700329T020000
RRULE:FREQ=YEARLY;INTERVAL=1;BYDAY=-1SU;BYMONTH=3
END:DAYLIGHT
BEGIN:STANDARD
TZOFFSETFROM:+0200
TZOFFSETTO:+0100
TZNAME:CET
DTSTART:19701025T030000
RRULE:FREQ=YEARLY;INTERVAL=1;BYDAY=-1SU;BYMONTH=10
END:STANDARD
END:VTIMEZONE

BEGIN:VEVENT
UID:02e8b5efb2c6a745ee32b55c5a4abf13
DTSTART:20260716T220000
DTEND:20260720T120000
LOCATION:Bourgogne [France]
GEO:49.349620000;4.071110000
DTSTAMP:20260716T220000Z
SUMMARY:Nataraja Psychedelic Gathering 2026 | 10 YEARS
DESCRIPTION:Line-Up: TBA Location: Domats, , 89150 Bourgogne
URL:https://www.goabase.net/de/festival/nataraja-psychedelic-gathering-2026-10-years/116240
CATEGORIES:Psytrance Event
CLASS:PUBLIC
END:VEVENT

BEGIN:VEVENT
UID:879ef5a55843a81c91f076f6451343f3
DTSTART:20260417T230000
DTEND:20260418T050000
LOCATION:Montreuil [France]
GEO:50.466670000;1.766670000
DTSTAMP:20260417T230000Z
SUMMARY:Symbiosis — Journey Part II
DESCRIPTION:Line-Up: —🌱 LINEUP 🌱— Siloka - Looney Moon Records Doki Doc - Nataraja
  Location: La Marbrerie, 21 Rue Alexis Lepere, 93100 Montreuil
URL:https://www.goabase.net/de/party/symbiosis-journey-part-ii/117140
CATEGORIES:Psytrance Event
CLASS:PUBLIC
END:VEVENT

BEGIN:VEVENT
UID:c8d45ae62dc5fb82065abfdc2a4665d2
DTSTART:20260131T230000
DTEND:20260201T060000
LOCATION:Paris [France]
GEO:33.700000000;-95.600000000
DTSTAMP:20260131T230000Z
SUMMARY:Symbiosis | Journey part I
DESCRIPTION:Line-Up: ☄️ LINE UP ☄️ — 🌌 Athzira (Shamanic Tales Records) 🌌 Hypnoise
  (Maharetta Records)
URL:https://www.goabase.net/de/party/symbiosis-journey-part-i/116587
CATEGORIES:Psytrance Event
CLASS:PUBLIC
END:VEVENT

BEGIN:VEVENT
UID:e39e522f7cb8fa8398895bdc0a68c2b0
DTSTART:20251025T140000
DTEND:20251026T020000
LOCATION:Pantin [France]
GEO:48.894370000;2.409350000
DTSTAMP:20251025T140000Z
SUMMARY:Pralaya | Last Nataraja Beach Party
DESCRIPTION:Line-Up: ☄️ LINE UP ☄️ _____ 🌌 Sid Jenkins (Blacklite Records / Az…
  Location: Sandfabrik, 45 rue Delizy, 93500 Pantin
URL:https://www.goabase.net/de/party/pralaya-last-nataraja-beach-party/116035
CATEGORIES:Psytrance Event
CLASS:PUBLIC
END:VEVENT

BEGIN:VEVENT
UID:e15ce538472eb054639c4b61ee6ce927
DTSTART:20250710T140000
DTEND:20250713T210000
LOCATION:Bourgogne [France]
GEO:49.349620000;4.071110000
DTSTAMP:20250710T140000Z
SUMMARY:Nataraja Psychedelic Gathering 2025
DESCRIPTION:Line-Up: 🎧 𝐒𝐂𝐄̀𝐍𝐄 𝐏𝐒𝐘𝐓𝐑𝐀𝐍𝐂𝐄 🎧 ✨ Début : jeudi 18h | Fin : dimanche 18h
  Dans une clairière enchantée, un sanctuaire éphémère se dr…
URL:https://www.goabase.net/de/festival/nataraja-psychedelic-gathering-2025/114381
CATEGORIES:Psytrance Event
CLASS:PUBLIC
END:VEVENT

BEGIN:VEVENT
UID:17c4fd4aa4f1d2ea9536da8147c88b33
DTSTART:20250404T220000
DTEND:20250405T120000
LOCATION:Pantin [France]
GEO:48.894370000;2.409350000
DTSTAMP:20250404T220000Z
SUMMARY:Euclidean Utopia
DESCRIPTION:Line-Up: 🎧 Line-up digne d’un rêve 🎧 🔷 GoHu (Hi Tech) - Warromaja
  Records / AstroFoniK Records 🔷 Activating Evolution (Full… Location:
  Sandfabrik, 45 rue Delizy, 93500 Pantin
URL:https://www.goabase.net/de/party/euclidean-utopia/114959
CATEGORIES:Psytrance Event
CLASS:PUBLIC
END:VEVENT

BEGIN:VEVENT
UID:bce923ddb970d030f3c876bddcd05f7c
DTSTART:20250208T140000
DTEND:20250209T010000
LOCATION:Pantin [France]
GEO:48.894370000;2.409350000
DTSTAMP:20250208T140000Z
SUMMARY:Dusk on Arrakis
DESCRIPTION:Line-Up: 🎧 Line-up interstellaire 🎧 Découvrez une sélection d'artistes
  100% MADE IN FRANCE, véritables alchimistes du son, prêts… Location:
  Sandfabrik, 45 rue Delizy, 93500 Pantin
URL:https://www.goabase.net/de/party/dusk-on-arrakis/114382
CATEGORIES:Psytrance Event
CLASS:PUBLIC
END:VEVENT

BEGIN:VEVENT
UID:798105de87aa2d0a1b5e27e7b753d8e8
DTSTART:20241018T140000
DTEND:20241019T010000
LOCATION:Pantin [France]
GEO:48.894370000;2.409350000
DTSTAMP:20241018T140000Z
SUMMARY:Psytrouille | Nataraja Beach Party
DESCRIPTION:Line-Up: 🔊LINE UP🔊 — 🖤 Jalaya (Downtempo) - Nataraja 🖤 🖤 Dj Ü
  (Psybreaks) - Nataraja 🖤 🖤 Alka X(Groovy prog) - A… Location:
  SandFabrik, 45 rue Delizy, 93500 Pantin
URL:https://www.goabase.net/de/party/psytrouille-nataraja-beach-party/113756
CATEGORIES:Psytrance Event
CLASS:PUBLIC
END:VEVENT

BEGIN:VEVENT
UID:87c04be57d1041448a727a00b3f08ae1
DTSTART:20240711T140000
DTEND:20240714T200000
LOCATION:Paris [France]
GEO:48.900000000;2.400000000
DTSTAMP:20240711T140000Z
SUMMARY:Nataraja Psychedelic Gathering 2024
DESCRIPTION:Line-Up: Le Nataraja Psychedelic Gathering est de retour du 11 au 14
  juillet 2024 pour sa neuvième édition ! À 1h30 au sud de Par… Location:
  Yonne (89), , Paris
URL:https://www.goabase.net/de/festival/nataraja-psychedelic-gathering-2024/112864
CATEGORIES:Psytrance Event
CLASS:PUBLIC
END:VEVENT

BEGIN:VEVENT
UID:997518de110202bcb6a180b561d5fc30
DTSTART:20240127T160000
DTEND:20240128T160000
LOCATION:Paris [France]
GEO:48.900000000;2.400000000
DTSTAMP:20240127T160000Z
SUMMARY:Entente Nocturne Festival Off - Bateau Fort (24h non-stop)
DESCRIPTION:Line-Up: 💥Par les collectifs : Claquettes Chaussettes, Le Cartel de
  Jean, Microclimat, Nataraja, One One Six, Oreades, Raeve Luci…
  Location: Le Mazette & Le Café Barge, , 75012 Paris
URL:https://www.goabase.net/de/party/entente-nocturne-festival-off-bateau-fort-24h-non-stop/111962
CATEGORIES:Psytrance Event
CLASS:PUBLIC
END:VEVENT

BEGIN:VEVENT
UID:b95d2eb1a8d2d1720d256c63086a6712
DTSTART:20230706T140000
DTEND:20230709T200000
LOCATION:Yonne [France]
GEO:46.603354000;1.888333500
DTSTAMP:20230706T140000Z
SUMMARY:Nataraja Psychedelic Gathering 2023
DESCRIPTION:Line-Up: Nous sommes heureux de vous annoncer que le Nataraja
  Psychedelic Gathering sera de retour du 6 au 9 juillet 2023 ! À seu…
URL:https://www.goabase.net/de/festival/nataraja-psychedelic-gathering-2023/109255
CATEGORIES:Psytrance Event
CLASS:PUBLIC
END:VEVENT

BEGIN:VEVENT
UID:675ada965278541bfeeac026752a9592
DTSTART:20230203T220000
DTEND:20230204T120000
LOCATION:Paris [France]
GEO:48.857170000;2.341400000
DTSTAMP:20230203T220000Z
SUMMARY:Lost Kingdom - Psy & Dub Rave
DESCRIPTION:Line-Up: ♬♫♪◖ PSYTRANCE ◗♪♫♬ Sound System D&B Royaume oublié des
  tapeurs de pieds ♬ Laughing Buddha (NANO - Angleterre) ♬ Fungus…
URL:https://www.goabase.net/de/party/lost-kingdom-psy-dub-rave/109858
CATEGORIES:Psytrance Event
CLASS:PUBLIC
END:VEVENT

BEGIN:VEVENT
UID:3c8090c6402794857a4e2bd35d7e4c31
DTSTART:20221105T160000
DTEND:20221107T010000
LOCATION:Paris [France]
GEO:48.856610100;2.351499200
DTSTAMP:20221105T160000Z
SUMMARY:Entente Nocturne : Week-end au Port
DESCRIPTION:Line-Up: 1 Port aménagé / 3 Péniches / 6 Scènes / 2 croisières / 24
  Collectifs / 2 jours de fête📍 🎉 Citoyens de la Fête de la pre…
  Location: Le Mazette : 69 port de la Râpée 75012 Paris, Le Mazette : 69
  port de la Râpée 75012 Paris, Paris
URL:https://www.goabase.net/de/party/entente-nocturne-week-end-au-port/109178
CATEGORIES:Psytrance Event
CLASS:PUBLIC
END:VEVENT

BEGIN:VEVENT
UID:7b6058415724a2e46937da0122c3a855
DTSTART:20220707T120000
DTEND:20220710T200000
LOCATION:Paris [France]
GEO:48.856610100;2.351499200
DTSTAMP:20220707T120000Z
SUMMARY:Nataraja Psychedelic Gathering 2022 | Special Edition
DESCRIPTION:Line-Up: 🔥 SCÈNE PSYTRANCE 🔥 By Nataraja Ouverture vendredi 14h,
  Fermeture dimanche 20h Porté par un sound system finement réglé,…
URL:https://www.goabase.net/de/festival/nataraja-psychedelic-gathering-2022-special-edition/107872
CATEGORIES:Psytrance Event
CLASS:PUBLIC
END:VEVENT

BEGIN:VEVENT
UID:f2132c53dbf77d8bc6b3b3e9c9a5ace9
DTSTART:20220305T230000
DTEND:20220306T060000
LOCATION:Toulouse [France]
GEO:43.600000000;1.400000000
DTSTAMP:20220305T230000Z
SUMMARY:OSTARA | Psychedelic Indoor Party w/ LunaRave - Synthetik Chaos - AthzirA & more
DESCRIPTION:Line-Up: LINE UP ____ ۞ LUNARAVE ۞ SYNTHETIK CHAOS ۞ IKON ۞ ATHZIRA ۞
  OUT OF JETLAG ۞ DOKI DOC…
URL:https://www.goabase.net/de/party/ostara-psychedelic-indoor-party-w-lunarave-synthetik-chaos-athzira-more/107944
CATEGORIES:Psytrance Event
CLASS:PUBLIC
END:VEVENT

BEGIN:VEVENT
UID:c2c21548872fbde29836cf2e3a599b09
DTSTART:20211112T233000
DTEND:20211113T070000
LOCATION:Paris [France]
GEO:33.700000000;-95.600000000
DTSTAMP:20211112T233000Z
SUMMARY:Ethereal Sphere
DESCRIPTION:Line-Up: Nataraja invite Delta Process, les mappeurs du Modem
  Festival, pour poser un mapping 360° bien psyché dans l’antre du Ne…
URL:https://www.goabase.net/de/party/ethereal-sphere/107600
CATEGORIES:Psytrance Event
CLASS:PUBLIC
END:VEVENT

BEGIN:VEVENT
UID:374ecbcceef05734dce0b67d6881d2e6
DTSTART:20210828T220000
DTEND:20210829T060000
LOCATION:Paris [France]
GEO:33.700000000;-95.600000000
DTSTAMP:20210828T220000Z
SUMMARY:Visions Factory
DESCRIPTION:Line-Up: 🔸 Oxyflux (Protoned Music - Danemark) 🔸 Nukleall (Blacklite
  Records - Italie) 🔸 Offlabel (Blacklite Records - Italie)…
URL:https://www.goabase.net/de/party/visions-factory/107407
CATEGORIES:Psytrance Event
CLASS:PUBLIC
END:VEVENT

BEGIN:VEVENT
UID:be5c05fb7515730c24c1ec00531020bc
DTSTART:20210701T180000
DTEND:20210704T120000
LOCATION:Paris [France]
GEO:46.603354000;1.888333500
DTSTAMP:20210701T180000Z
SUMMARY:Nataraja Psychedelic Gathering 2021
DESCRIPTION:Line-Up: 🔥 SCÈNE PSYTRANCE 🔥 By Nataraja Ouverture vendredi 19h,
  Fermeture dimanche 18h Porté par un sound system finement réglé,…
URL:https://www.goabase.net/de/festival/nataraja-psychedelic-gathering-2021/107174
CATEGORIES:Psytrance Event
CLASS:PUBLIC
END:VEVENT

BEGIN:VEVENT
UID:b9ebb6b2ac04f4fc63dd66e36dad8e40
DTSTART:20200710T130000
DTEND:20200712T170000
LOCATION:Paris [France]
GEO:33.700000000;-95.600000000
DTSTAMP:20200710T130000Z
SUMMARY:Nataraja Psychedelic Gathering 2020
DESCRIPTION:
URL:https://www.goabase.net/de/festival/nataraja-psychedelic-gathering-2020/105521
CATEGORIES:Psytrance Event
CLASS:PUBLIC
END:VEVENT

BEGIN:VEVENT
UID:4621685ce862c1c664ef1c12cbb3a25f
DTSTART:20200208T220000
DTEND:20200209T060000
LOCATION:Paris [France]
GEO:48.853400000;2.348600000
DTSTAMP:20200208T220000Z
SUMMARY:Galactic Odyssey
DESCRIPTION:Line-Up: Œuvrant pour le bon, le beau et la basse, les équipes de
  Nataraja, Prayazen et Psychill Café ont réuni les plus grands s…
URL:https://www.goabase.net/de/party/galactic-odyssey/105942
CATEGORIES:Psytrance Event
CLASS:PUBLIC
END:VEVENT

END:VCALENDAR