BEGIN:VCALENDAR
VERSION:2.0
PRODID:goabase.net iCalendar 2026
X-WR-CALNAME:goabase.net - parties and people 
X-WR-TIMEZONE;VALUE=TEXT:Europe/Berlin
CALSCALE:GREGORIAN
BEGIN:VTIMEZONE
TZID:Europe/Berlin
X-LIC-LOCATION:Europe/Berlin
BEGIN:DAYLIGHT
TZOFFSETFROM:+0100
TZOFFSETTO:+0200
TZNAME:CEST
DTSTART:19700329T020000
RRULE:FREQ=YEARLY;INTERVAL=1;BYDAY=-1SU;BYMONTH=3
END:DAYLIGHT
BEGIN:STANDARD
TZOFFSETFROM:+0200
TZOFFSETTO:+0100
TZNAME:CET
DTSTART:19701025T030000
RRULE:FREQ=YEARLY;INTERVAL=1;BYDAY=-1SU;BYMONTH=10
END:STANDARD
END:VTIMEZONE

BEGIN:VEVENT
UID:d4588aad4c7c36dc043b15488a4b1813
DTSTART:20250801T180000
DTEND:20250804T120000
LOCATION:Colmeal [Portugal]
GEO:40.139763500;-7.994469400
DTSTAMP:20250801T180000Z
SUMMARY:ACTIVATE
DESCRIPTION:
URL:https://www.goabase.net/de/festival/activate/115488
CATEGORIES:Psytrance Event
CLASS:PUBLIC
END:VEVENT

BEGIN:VEVENT
UID:1ada2293aa00d4e5b778d130a87deda6
DTSTART:20180713T180000
DTEND:20180715T180000
LOCATION:Arganil [Portugal]
GEO:40.141230000;-7.994950000
DTSTAMP:20180713T180000Z
SUMMARY:Activate all Systems
DESCRIPTION:Line-Up: Pizza Night- 13 July Documentary &quot;eternal forest&quot;
  ACTIVATE all Systems - 14 July ॐ DECK WIZARDS ॐ - RED EYE JE…
URL:https://www.goabase.net/de/party/activate-all-systems/100442
CATEGORIES:Psytrance Event
CLASS:PUBLIC
END:VEVENT

END:VCALENDAR