BEGIN:VCALENDAR
VERSION:2.0
PRODID:goabase.net iCalendar 2026
X-WR-CALNAME:goabase.net - parties and people 
X-WR-TIMEZONE;VALUE=TEXT:Europe/Berlin
CALSCALE:GREGORIAN
BEGIN:VTIMEZONE
TZID:Europe/Berlin
X-LIC-LOCATION:Europe/Berlin
BEGIN:DAYLIGHT
TZOFFSETFROM:+0100
TZOFFSETTO:+0200
TZNAME:CEST
DTSTART:19700329T020000
RRULE:FREQ=YEARLY;INTERVAL=1;BYDAY=-1SU;BYMONTH=3
END:DAYLIGHT
BEGIN:STANDARD
TZOFFSETFROM:+0200
TZOFFSETTO:+0100
TZNAME:CET
DTSTART:19701025T030000
RRULE:FREQ=YEARLY;INTERVAL=1;BYDAY=-1SU;BYMONTH=10
END:STANDARD
END:VTIMEZONE

BEGIN:VEVENT
UID:8dfc71c26b3491d1d36e58d09d131233
DTSTART:20140208T210000
DTEND:20140209T180000
LOCATION:hamburg [Germany]
GEO:0.000000000;0.000000000
DTSTAMP:20140208T210000Z
SUMMARY:GoaCore - BunnyNight 
DESCRIPTION:Line-Up: - - - - - -
URL:https://www.goabase.net/de/party/goacore-bunnynight/54464
CATEGORIES:Psytrance Event
CLASS:PUBLIC
END:VEVENT

BEGIN:VEVENT
UID:b2716cde72e72623a6b88195a1cc089e
DTSTART:20120211T213000
DTEND:20120212T180000
LOCATION:hamburg [Germany]
GEO:0.000000000;0.000000000
DTSTAMP:20120211T213000Z
SUMMARY:The Time of Goacore - B-Day - ૐ Part 3 ૐ
DESCRIPTION:Line-Up: ACE VENTURA (Iboga Records) U RECKEN (Dooflex Records Israel)
  NOK (Blue Tunes Rec.)
URL:https://www.goabase.net/de/party/the-time-of-goacore-b-day-part-3/54463
CATEGORIES:Psytrance Event
CLASS:PUBLIC
END:VEVENT

BEGIN:VEVENT
UID:0fc706a87e9890d698f6966940bdc3a3
DTSTART:20110709T213000
DTEND:20110710T120000
LOCATION:hamburg [Germany]
GEO:0.000000000;0.000000000
DTSTAMP:20110709T213000Z
SUMMARY:GoaCore - ♥ Floorwärts ♥ - Part 2
DESCRIPTION:Line-Up:
  &#9734-&#9734-&#9734-&#9734-&#9734-&#9734-&#9734-&#9734-&#9734-&#9734-&#9734-&#9734-&#9734-&#9734-&#9734-&#9734-&#9734-&…
URL:https://www.goabase.net/de/party/goacore-floorwaerts-part-2/52478
CATEGORIES:Psytrance Event
CLASS:PUBLIC
END:VEVENT

BEGIN:VEVENT
UID:8be422afb95ac6fc0482e1776151bf00
DTSTART:20110529T120000
DTEND:20110530T020000
LOCATION:hamburg [Germany]
GEO:0.000000000;0.000000000
DTSTAMP:20110529T120000Z
SUMMARY:GoaCore - BeachCoreZeit - -)
DESCRIPTION:Line-Up: Elecdruids (Iono Music) * * Logic Spin (PSR MUSIK) * * HMB
  (HÖHEN MITTEN BASS) (PSR Music // Savva Records) * *
URL:https://www.goabase.net/de/party/goacore-beachcorezeit/48712
CATEGORIES:Psytrance Event
CLASS:PUBLIC
END:VEVENT

BEGIN:VEVENT
UID:9f111176ce51fb48fafe83ccdca13db7
DTSTART:20110212T213000
DTEND:20110213T120000
LOCATION:hamburg [Germany]
GEO:0.000000000;0.000000000
DTSTAMP:20110212T213000Z
SUMMARY:The Time of Goacore -- B-day -- Part II
DESCRIPTION:Line-Up: * New Album presentation * U Recken (Dooflex Records Israel)
  * * Feuerhake (Free Form) * * FlugBegleiter (Flug…
URL:https://www.goabase.net/de/party/the-time-of-goacore-b-day-part-ii/49168
CATEGORIES:Psytrance Event
CLASS:PUBLIC
END:VEVENT

BEGIN:VEVENT
UID:5e5b543a03bfeae33655a32cdbc85db3
DTSTART:20100710T190000
DTEND:20100711T070000
LOCATION:hamburg [Germany]
GEO:0.000000000;0.000000000
DTSTAMP:20100710T190000Z
SUMMARY:GoaCore - Floorwärts - OA - HAMBURG  -)
DESCRIPTION:Line-Up: Day.Din (SpinTwist Rec) - - Flugbegleiter - - Logic Spin
  (PSR-MUSIK) - -
URL:https://www.goabase.net/de/party/goacore-floorwaerts-oa-hamburg/48701
CATEGORIES:Psytrance Event
CLASS:PUBLIC
END:VEVENT

BEGIN:VEVENT
UID:7a11cc860780a4adbe43d0725e1d5c51
DTSTART:20100213T230000
DTEND:20100214T120000
LOCATION:hamburg [Germany]
GEO:0.000000000;0.000000000
DTSTAMP:20100213T230000Z
SUMMARY:The Time of Goacore -- B-day
DESCRIPTION:Line-Up: Elecdruids ( IONO Music) - -Z- (alpha & antagon)-.-(shivlink
  re.c/india) - The Human Factor--(GoaCore) - Sirion - (Mi…
URL:https://www.goabase.net/de/party/the-time-of-goacore-b-day/46638
CATEGORIES:Psytrance Event
CLASS:PUBLIC
END:VEVENT

END:VCALENDAR