BEGIN:VCALENDAR
VERSION:2.0
PRODID:goabase.net iCalendar 2026
X-WR-CALNAME:goabase.net - parties and people 
X-WR-TIMEZONE;VALUE=TEXT:Europe/Berlin
CALSCALE:GREGORIAN
BEGIN:VTIMEZONE
TZID:Europe/Berlin
X-LIC-LOCATION:Europe/Berlin
BEGIN:DAYLIGHT
TZOFFSETFROM:+0100
TZOFFSETTO:+0200
TZNAME:CEST
DTSTART:19700329T020000
RRULE:FREQ=YEARLY;INTERVAL=1;BYDAY=-1SU;BYMONTH=3
END:DAYLIGHT
BEGIN:STANDARD
TZOFFSETFROM:+0200
TZOFFSETTO:+0100
TZNAME:CET
DTSTART:19701025T030000
RRULE:FREQ=YEARLY;INTERVAL=1;BYDAY=-1SU;BYMONTH=10
END:STANDARD
END:VTIMEZONE

BEGIN:VEVENT
UID:ef1016f26035b5d442138627299b5a0d
DTSTART:20230603T220000
DTEND:20230604T120000
LOCATION:Hainaut [Belgium]
GEO:0.000000000;0.000000000
DTSTAMP:20230603T220000Z
SUMMARY:Hoffmann’s imaginarium - Private Party Goa
DESCRIPTION:
URL:https://www.goabase.net/de/party/hoffmanns-imaginarium-private-party-goa/110043
CATEGORIES:Psytrance Event
CLASS:PUBLIC
END:VEVENT

BEGIN:VEVENT
UID:30da7a6d0f636c31d639df648518b979
DTSTART:20170715T210000
DTEND:20170716T110000
LOCATION:Between Bruxelles & Anvers [Belgium]
GEO:0.000000000;0.000000000
DTSTAMP:20170715T210000Z
SUMMARY:Hoffmann's Imaginarium
DESCRIPTION:Line-Up: 21h à 22h.    - Mini Spacer 22h à 23h.    - Psykot 23h à
  00h30 - Kalhiade 00h30 à 2h.   - Aumnious 2h à 3h30.    - Rayav…
URL:https://www.goabase.net/de/party/hoffmanns-imaginarium/95783
CATEGORIES:Psytrance Event
CLASS:PUBLIC
END:VEVENT

END:VCALENDAR