BEGIN:VCALENDAR
VERSION:2.0
PRODID:goabase.net iCalendar 2026
X-WR-CALNAME:goabase.net - parties and people 
X-WR-TIMEZONE;VALUE=TEXT:Europe/Berlin
CALSCALE:GREGORIAN
BEGIN:VTIMEZONE
TZID:Europe/Berlin
X-LIC-LOCATION:Europe/Berlin
BEGIN:DAYLIGHT
TZOFFSETFROM:+0100
TZOFFSETTO:+0200
TZNAME:CEST
DTSTART:19700329T020000
RRULE:FREQ=YEARLY;INTERVAL=1;BYDAY=-1SU;BYMONTH=3
END:DAYLIGHT
BEGIN:STANDARD
TZOFFSETFROM:+0200
TZOFFSETTO:+0100
TZNAME:CET
DTSTART:19701025T030000
RRULE:FREQ=YEARLY;INTERVAL=1;BYDAY=-1SU;BYMONTH=10
END:STANDARD
END:VTIMEZONE

BEGIN:VEVENT
UID:5900a0eb67380a026deecf0ab1c31f25
DTSTART:20190614T230000
DTEND:20190615T110000
LOCATION:Münster [Germany]
GEO:51.962509200;7.625187900
DTSTAMP:20190614T230000Z
SUMMARY:Diє AlternativitätstheOrie
DESCRIPTION:Line-Up: ॐ ∞ K.I.M [ Zero One Music ] Livє ✈ England ∞ ॐ ☛ Genre :
  PsyTrance ☛ ☛ ॐ ∞ ΛΛRDVΛRKK ∞ [ Bom Shanka Music ] Livє ✈ En…
URL:https://www.goabase.net/de/party/di-alternativitaetstheorie/103795
CATEGORIES:Psytrance Event
CLASS:PUBLIC
END:VEVENT

BEGIN:VEVENT
UID:66241abc09e60e82be022e34f55a3319
DTSTART:20180420T233000
DTEND:20180421T100000
LOCATION:Münster [Germany]
GEO:51.962509200;7.625187900
DTSTAMP:20180420T233000Z
SUMMARY:Café Karma "Underground 0.3" with Aardvarkk
DESCRIPTION:Line-Up: °°°°°°°°°°°°°°°°°°°°°Live°°°°°°°°°°°°°°°°°°°°°°° ॐ ∞
  Λʌяdvʌяkk ∞ [ Bom Shanka Music ] ∞ ॐ ☛ ☛ °°°°°°°°°°°°°°°°°°°°°°°°…
URL:https://www.goabase.net/de/party/cafe-karma-underground-03-with-aardvarkk/99655
CATEGORIES:Psytrance Event
CLASS:PUBLIC
END:VEVENT

BEGIN:VEVENT
UID:fa5150306a2756a369f4463ea016b1ac
DTSTART:20180420T230000
DTEND:20180421T100000
LOCATION:Münster [Germany]
GEO:51.944530000;7.638690000
DTSTAMP:20180420T230000Z
SUMMARY:Café Karma´s "цпdєяgяөцпd 0.3"
DESCRIPTION:Line-Up: °°°°°°°°°°°°°°°°°°°°°°°°°°°°°°°°°°°°°°°°°°°°°°°°°° ॐ ∞
  Λʌяdvʌяkk ∞ [ Bom Shanka Music ] ∞ ॐ ☛ ☛ °°°°°°°°°°°°°°°°°°°°°°…
URL:https://www.goabase.net/de/party/cafe-karmas-cpdiagiacpd-03/99589
CATEGORIES:Psytrance Event
CLASS:PUBLIC
END:VEVENT

BEGIN:VEVENT
UID:a5ae0cbeedf4d6cafa64b9ba507bfb64
DTSTART:20180323T220000
DTEND:20180324T100000
LOCATION:Münster [Germany]
GEO:51.944530000;7.638690000
DTSTAMP:20180323T220000Z
SUMMARY:Café Karma´s "Zurück zu den Wurzeln" + "Pascal, Katzi´s 69er"
DESCRIPTION:Line-Up: Salut ihr Mitmenschen :) Nach einer Universumsbedingten
  Sendepause melden wir uns erwacht zurück und haben ordentlich Pl…
URL:https://www.goabase.net/de/party/cafe-karmas-zurueck-zu-den-wurzeln-pascal-katzis-69er/99198
CATEGORIES:Psytrance Event
CLASS:PUBLIC
END:VEVENT

BEGIN:VEVENT
UID:4ddd7a1ce4c85e17ba33ade0d06cb0bb
DTSTART:20171027T230000
DTEND:20171028T110000
LOCATION:Münster [Germany]
GEO:51.944043750;7.638429152
DTSTAMP:20171027T230000Z
SUMMARY:Café Karma ॐ Underground Edit. 0.2
DESCRIPTION:Line-Up:
  °°°°°°°°°°°°°°°°°°°°°°°°°°°°°°°°°°°°°°°°°°°°°°°°°°°°°°°°°°°°°°°° ... !?
  Irgend eine kleine und dunkele Absteige rocken .…
URL:https://www.goabase.net/de/party/cafe-karma-underground-edit-02/97214
CATEGORIES:Psytrance Event
CLASS:PUBLIC
END:VEVENT

BEGIN:VEVENT
UID:30ed0ee67b6ae9b5ba10b9106d32b912
DTSTART:20170929T230000
DTEND:20170930T120000
LOCATION:Münster [Germany]
GEO:51.966666667;7.633333333
DTSTAMP:20170929T230000Z
SUMMARY:Café Karma meets Own Spirit " Өяgʌnic Mel๏diєร " with Greg HILIGHT
DESCRIPTION:Line-Up: ▂ ▂ ▂ ▃ ▄ ▅ ▆ █ Өяgʌnic Mel๏diєร █ ▆ ▅ ▄ ▃ ▂ ▂ ▂ ▂ ▃ ▄ ▅ ▆ █
  Livє ΛcTร - Pรץ -Trʌncє Fl๏©r █ ▆ ▅ ▄ ▃ ▂ °°°°°°°°°°°°°°°°°…
URL:https://www.goabase.net/de/party/cafe-karma-meets-own-spirit-iagnic-meldi-with-greg-hilight/96290
CATEGORIES:Psytrance Event
CLASS:PUBLIC
END:VEVENT

BEGIN:VEVENT
UID:2dbd8fd70a52c065b1e036e194bdede3
DTSTART:20170901T220000
DTEND:20170902T100000
LOCATION:Münster [Germany]
GEO:51.944043750;7.638429152
DTSTAMP:20170901T220000Z
SUMMARY:Café Karma - Underground Edit. " Chapter 0.1 "
DESCRIPTION:Line-Up: ... - ANDYJANER - XIAN -…
URL:https://www.goabase.net/de/party/cafe-karma-underground-edit-chapter-01/96547
CATEGORIES:Psytrance Event
CLASS:PUBLIC
END:VEVENT

BEGIN:VEVENT
UID:7746d23f1f0b61e1b0e4f2745cba9275
DTSTART:20170805T140000
DTEND:20170806T120000
LOCATION:Mersch [Germany]
GEO:49.750674600;6.106659100
DTSTAMP:20170805T140000Z
SUMMARY:" Die versunkene Königsreich "
DESCRIPTION:Line-Up: ♜ LINE UP ♖ [House & Techno] Nils Hoffmann (live) [Get
  Physical Music | Kittball Records] Hidden Empire (live) [Stil vo…
URL:https://www.goabase.net/de/party/die-versunkene-koenigsreich/96207
CATEGORIES:Psytrance Event
CLASS:PUBLIC
END:VEVENT

BEGIN:VEVENT
UID:16d2e7da87b671cca05485fbc671764d
DTSTART:20170722T220000
DTEND:20170723T100000
LOCATION:Cologne [Germany]
GEO:50.949880000;6.911880000
DTSTAMP:20170722T220000Z
SUMMARY:ૐ Café Karma presents " die Alternativitätstheorie 2.0 " ૐ
DESCRIPTION:Line-Up: Xian, Alchimiste, HighRoller, Anwalt, Tekaeh, Raoul, Hugoa,
  Symeon, Waldgeist, Mashera, ... Dicke Partys ... ...
URL:https://www.goabase.net/de/party/cafe-karma-presents-die-alternativitaetstheorie-20/96048
CATEGORIES:Psytrance Event
CLASS:PUBLIC
END:VEVENT

BEGIN:VEVENT
UID:34969eaca142e5fc64c8362b26c18554
DTSTART:20170527T220000
DTEND:20170528T120000
LOCATION:Siedlinghausen [Germany]
GEO:0.000000000;0.000000000
DTSTAMP:20170527T220000Z
SUMMARY:Café Karma meets Circle of Sound 2.0 with Djantrix / Hatikwa / Aquila / Arkomo
DESCRIPTION:Line-Up: ╔═╗ ॐ Live ??? Floor ॐ ╚═╝ ► HATIKWA [ Xonica Rec. ] ✈
  Germany ◄ ∞ ∞ ∞ ∞ ► DJANTRIX [ Digital OM Pro…
URL:https://www.goabase.net/de/party/cafe-karma-meets-circle-of-sound-20-with-djantrix-hatikwa-aquila-arkomo/95197
CATEGORIES:Psytrance Event
CLASS:PUBLIC
END:VEVENT

BEGIN:VEVENT
UID:7424085dbde243d5b94f90ae58897cb9
DTSTART:20170401T220000
DTEND:20170402T120000
LOCATION:Siedlinghausen [Germany]
GEO:51.236879135;8.466454603
DTSTAMP:20170401T220000Z
SUMMARY:Café Karma presents "Second Horizon" pré Festival with OXIDAKSI
DESCRIPTION:Line-Up: ╔═╗ ॐ Live Mainfloor ॐ ╚═╝ ► OXIDAKSI [ Freak Rec. ] Israel ◄
  ☛ ☛ ► LEADS [ Anubis Rec. ] Italy ◄ ☛…
URL:https://www.goabase.net/de/party/cafe-karma-presents-second-horizon-pre-festival-with-oxidaksi/94185
CATEGORIES:Psytrance Event
CLASS:PUBLIC
END:VEVENT

BEGIN:VEVENT
UID:2e91facf1d249b788fbfbcab908c53aa
DTSTART:20161225T183000
DTEND:20161226T140000
LOCATION:Münster [Germany]
GEO:51.962509200;7.625187900
DTSTAMP:20161225T183000Z
SUMMARY:Café Karma presents "petit psy-psy Noël" with ATOMIZERS,LSDIRTY, RELATIV,KULARIS
DESCRIPTION:Line-Up: ╔═╗ ॐ Live Mainfloor ॐ ╚═╝ ► ATOMIZERS [ Iono Rec. ] ✈
  Portugal ◄ ☛ ☛ ► RELATIV [ Digital OM Product…
URL:https://www.goabase.net/de/party/cafe-karma-presents-petit-psy-psy-noel-with-atomizerslsdirty-relativkularis/92358
CATEGORIES:Psytrance Event
CLASS:PUBLIC
END:VEVENT

BEGIN:VEVENT
UID:df649fb38f01bdc23fca4e4c91c17e3a
DTSTART:20161001T230000
DTEND:20161003T140000
LOCATION:Münster [Germany]
GEO:51.962509200;7.625187900
DTSTAMP:20161001T230000Z
SUMMARY:Café Karma presents " Katz & Wolf " in Trance
DESCRIPTION:Line-Up: ╔═ॐ╗ ॐ Live Mainfloor, Chapter one ॐ ╚═ॐ╝ ► SIDE EFFECTS [
  Iono Rec. ] ✈ Israel ◄ ☛ ☛…
URL:https://www.goabase.net/de/party/cafe-karma-presents-katz-wolf-in-trance/91111
CATEGORIES:Psytrance Event
CLASS:PUBLIC
END:VEVENT

BEGIN:VEVENT
UID:71c5f276e402fa5107323b00ed94ae3d
DTSTART:20160805T220000
DTEND:20160806T120000
LOCATION:Münster [Germany]
GEO:51.962509200;7.625187900
DTSTAMP:20160805T220000Z
SUMMARY:Café Karma presents "Melodrama" with VIBE TRIBE, DAVINCI CODE, In/Outdoor
DESCRIPTION:Line-Up: ♫ Live Mainfloor ♫ ▬ ► VIBE TRIBE [ Mainstage Rec. ] . Israel
  ◄ ► BPM [ Ovnimoon Rec. ] . Serbien ◄ ► DAVINCI…
URL:https://www.goabase.net/de/party/cafe-karma-presents-melodrama-with-vibe-tribe-davinci-code-inoutdoor/90407
CATEGORIES:Psytrance Event
CLASS:PUBLIC
END:VEVENT

BEGIN:VEVENT
UID:b84cd369589e59604cc23978f4cf4f9a
DTSTART:20160604T220000
DTEND:20160605T120000
LOCATION:Siedlinghausen [Germany]
GEO:0.000000000;0.000000000
DTSTAMP:20160604T220000Z
SUMMARY:Circle of Sound meets Café Karma
DESCRIPTION:Line-Up: ♫ Live Mainfloor ♫ ▬ ► E-CLIP [ Iono Rec. ] Serbien ◄ ►
  DIGICULT [ Dacru Rec. ] Belgien ◄ ► CRUSO [ Menatl Dr…
URL:https://www.goabase.net/de/party/circle-of-sound-meets-cafe-karma/89940
CATEGORIES:Psytrance Event
CLASS:PUBLIC
END:VEVENT

END:VCALENDAR