BEGIN:VCALENDAR
VERSION:2.0
PRODID:goabase.net iCalendar 2026
X-WR-CALNAME:goabase.net - parties and people 
X-WR-TIMEZONE;VALUE=TEXT:Europe/Berlin
CALSCALE:GREGORIAN
BEGIN:VTIMEZONE
TZID:Europe/Berlin
X-LIC-LOCATION:Europe/Berlin
BEGIN:DAYLIGHT
TZOFFSETFROM:+0100
TZOFFSETTO:+0200
TZNAME:CEST
DTSTART:19700329T020000
RRULE:FREQ=YEARLY;INTERVAL=1;BYDAY=-1SU;BYMONTH=3
END:DAYLIGHT
BEGIN:STANDARD
TZOFFSETFROM:+0200
TZOFFSETTO:+0100
TZNAME:CET
DTSTART:19701025T030000
RRULE:FREQ=YEARLY;INTERVAL=1;BYDAY=-1SU;BYMONTH=10
END:STANDARD
END:VTIMEZONE

BEGIN:VEVENT
UID:b57ace1beaeafb7e9521f964192d5802
DTSTART:20181124T210000
DTEND:20181125T070000
LOCATION:Kultarena Eventhalle [Switzerland]
GEO:0.000000000;0.000000000
DTSTAMP:20181124T210000Z
SUMMARY:Tech to Prog
DESCRIPTION:Line-Up: Details ☯️ Tech & Progi Music ॐ ☞ Subculture ✓ ( Hart aber
  Herzlich Switzerland ) ☞ Kieswerch ✓ ( Vibrative Sounds Swit…
URL:https://www.goabase.net/de/party/tech-to-prog/101947
CATEGORIES:Psytrance Event
CLASS:PUBLIC
END:VEVENT

BEGIN:VEVENT
UID:159a31462191d1b693ebf10cb36f0c91
DTSTART:20181012T210000
DTEND:20181013T070000
LOCATION:Kehrsatz [Switzerland]
GEO:46.911942700;7.473184400
DTSTAMP:20181012T210000Z
SUMMARY:Psy Friday
DESCRIPTION:Line-Up: █▓▒░♫▶ Dj´s ◀♫░▒▓█ ☞ MadMace ✓ (Switzerland) madmace.com ☞
  Rhino ✓ (Greece) ☞ Seviron ✓ (Switzerland) ☞ T. da Silva…
URL:https://www.goabase.net/de/party/psy-friday/101503
CATEGORIES:Psytrance Event
CLASS:PUBLIC
END:VEVENT

BEGIN:VEVENT
UID:394cdcf440fd21ca3875e773c272e9e2
DTSTART:20180818T140000
DTEND:20180819T090000
LOCATION:Bern [Switzerland]
GEO:46.948055300;7.451300100
DTSTAMP:20180818T140000Z
SUMMARY:Legend One
DESCRIPTION:Line-Up: LIVE --- ☆ Mindbenderz (IONO) ☆ ----…
URL:https://www.goabase.net/de/party/legend-one/100906
CATEGORIES:Psytrance Event
CLASS:PUBLIC
END:VEVENT

END:VCALENDAR