BEGIN:VCALENDAR
VERSION:2.0
PRODID:goabase.net iCalendar 2026
X-WR-CALNAME:goabase.net - parties and people 
X-WR-TIMEZONE;VALUE=TEXT:Europe/Berlin
CALSCALE:GREGORIAN
BEGIN:VTIMEZONE
TZID:Europe/Berlin
X-LIC-LOCATION:Europe/Berlin
BEGIN:DAYLIGHT
TZOFFSETFROM:+0100
TZOFFSETTO:+0200
TZNAME:CEST
DTSTART:19700329T020000
RRULE:FREQ=YEARLY;INTERVAL=1;BYDAY=-1SU;BYMONTH=3
END:DAYLIGHT
BEGIN:STANDARD
TZOFFSETFROM:+0200
TZOFFSETTO:+0100
TZNAME:CET
DTSTART:19701025T030000
RRULE:FREQ=YEARLY;INTERVAL=1;BYDAY=-1SU;BYMONTH=10
END:STANDARD
END:VTIMEZONE

BEGIN:VEVENT
UID:6627d8f325f503a69df645519473f801
DTSTART:20160205T220000
DTEND:20160206T033000
LOCATION:Auer / Ora [Italy]
GEO:46.346594600;11.298633500
DTSTAMP:20160205T220000Z
SUMMARY:► PSYCHEDELIC CARNIVAL CIRCUS  2.0 ◄
DESCRIPTION:Line-Up: ૐ.•*˜ .•*˜ ● Music Styles ●˜*•. ˜*•. ૐ ◣ PROG - PSYTRANCE -
  DARKPSY - HITECH ◢ ●•●•●•●•●•●•●•●°°°°Oo ૐ oO°°°°°●•…
URL:https://www.goabase.net/de/party/psychedelic-carnival-circus-20/88127
CATEGORIES:Psytrance Event
CLASS:PUBLIC
END:VEVENT

BEGIN:VEVENT
UID:966b304d282a4a41d24ddda4aadd1563
DTSTART:20151218T220000
DTEND:20151219T033000
LOCATION:Bozen [Italy]
GEO:46.498062100;11.354018200
DTSTAMP:20151218T220000Z
SUMMARY:ૐ •٠•●  W I N T E R - T A L E - A Psychedelic Winter Journey  ●•٠• ૐ
DESCRIPTION:Line-Up: •٠•● Behind the Decks ●•٠• +++ ૐ •٠•● WINTERFLOOR -
  Progressive / Psytrance / Dark ●•٠•…
URL:https://www.goabase.net/de/party/w-i-n-t-e-r-t-a-l-e-a-psychedelic-winter-journey/87463
CATEGORIES:Psytrance Event
CLASS:PUBLIC
END:VEVENT

BEGIN:VEVENT
UID:f7a3ef4bb3edd0f8a6557c381a8dfecd
DTSTART:20151030T220000
DTEND:20151031T033000
LOCATION:Auer / Ora - BZ [Italy]
GEO:46.346594600;11.298633500
DTSTAMP:20151030T220000Z
SUMMARY:▅ ▆ ▇ HALLOWEEN IMPACT ▇ ▆ ▅
DESCRIPTION:Line-Up: GOA - Mainfloor DnB - Tekkno - Sidefloor ▬★ MAINFLOOR ★▬ GOA
  ▬ •● A L P ( E N ) T R A U M ●•…
URL:https://www.goabase.net/de/party/halloween-impact/86843
CATEGORIES:Psytrance Event
CLASS:PUBLIC
END:VEVENT

BEGIN:VEVENT
UID:effd7bb2ae0da14dde46083ca85b45f9
DTSTART:20150605T210000
DTEND:20150606T030000
LOCATION:Bolzano [Italy]
GEO:46.496379900;11.339427000
DTSTAMP:20150605T210000Z
SUMMARY:▂ ▃ ▄ ▅ ▆ ▇ Spacetime Adventure ▇ ▆ ▅ ▄ ▃ ▂ with ELFO, DUAL VISION and many more
DESCRIPTION:Line-Up: ▁ ▂ ▃ ▄ ▅ ▆ ▇ ORGANIZER ▇ ▆ ▅ ▄ ▃ ▂ ▁ Psyfactory in
  collaboration with Zebravogel proudly presents ▬…
URL:https://www.goabase.net/de/party/spacetime-adventure-with-elfo-dual-vision-and-many-more/84881
CATEGORIES:Psytrance Event
CLASS:PUBLIC
END:VEVENT

BEGIN:VEVENT
UID:dd6d2ac224834a58617b7cdd2c480cdc
DTSTART:20150220T210000
DTEND:20150221T040000
LOCATION:Bolzano / Bozen [Italy]
GEO:46.498063200;11.354018400
DTSTAMP:20150220T210000Z
SUMMARY:Psyfactory´s NEW DIMENSION - HALLE 28 - BZ
DESCRIPTION:Line-Up: ▁ ▂ ▃ ▄ ▅ ▆ ▇ ORGANIZER ▇ ▆ ▅ ▄ ▃ ▂ ▁ Psyfactory in
  collaboration with Zebravogel and RITUAL proudly presents ▬…
URL:https://www.goabase.net/de/party/psyfactorys-new-dimension-halle-28-bz/83532
CATEGORIES:Psytrance Event
CLASS:PUBLIC
END:VEVENT

BEGIN:VEVENT
UID:e344caa41f4c9d10005ae79dd3fc7f4c
DTSTART:20150213T223000
DTEND:20150214T040000
LOCATION:Bozen / Bolzano [Italy]
GEO:46.498112500;11.354780100
DTSTAMP:20150213T223000Z
SUMMARY:Psyfactory meets Sarnarshourt Rec. - HALLE 28 -BZ
DESCRIPTION:Line-Up: Psyfactory meets Sarnarshourt Records on the Sidefloor: A
  psychedelic adventure from Progressive to FullOn - Psytrance t…
URL:https://www.goabase.net/de/party/psyfactory-meets-sarnarshourt-rec-halle-28-bz/83531
CATEGORIES:Psytrance Event
CLASS:PUBLIC
END:VEVENT

BEGIN:VEVENT
UID:b13247cc7496d5ba760f64f17ee26e5d
DTSTART:20141025T203000
DTEND:20141026T040000
LOCATION:Bozen / Bolzano [Italy]
GEO:46.498062000;11.354018000
DTSTAMP:20141025T203000Z
SUMMARY:G A L A C T I C  -   T I M E V I S I O N
DESCRIPTION:Line-Up: ► PSYFACTORY proudly presents: ___ `````°ॐ°´´´´´…
URL:https://www.goabase.net/de/party/g-a-l-a-c-t-i-c-t-i-m-e-v-i-s-i-o-n/81594
CATEGORIES:Psytrance Event
CLASS:PUBLIC
END:VEVENT

BEGIN:VEVENT
UID:2bfeda0a29be742e3b0b0eddbc6049ac
DTSTART:20140424T200000
DTEND:20140425T030000
LOCATION:Bozen [Italy]
GEO:46.498063200;11.354018400
DTSTAMP:20140424T200000Z
SUMMARY:BREAK FREE -- (PSY/FRENCH/TEK on 2 Floors) -- Halle 28 - BZ
DESCRIPTION:Line-Up: ▂ ▃ ▅ ▆ ▇ GOA - STAGE ▇ ▆ ▅ ▃ ▂ ► MATERIA [24/7 Records -
  AUT] • • ► BIOSPIN & KALYXUS [SarnarShourt / Spectral Univ…
URL:https://www.goabase.net/de/party/break-free-psyfrenchtek-on-2-floors-halle-28-bz/79045
CATEGORIES:Psytrance Event
CLASS:PUBLIC
END:VEVENT

BEGIN:VEVENT
UID:f9a2fd1b172de3e5d41c9698d4a9efe1
DTSTART:20140228T203000
DTEND:20140301T030000
LOCATION:Bozen [Italy]
GEO:46.498063200;11.354018400
DTSTAMP:20140228T203000Z
SUMMARY:PSYCHEDELIC CARNIVAL CIRCUS 1.0
DESCRIPTION:Line-Up: ► I L A I - B2B Rec. Lable / 24/7 Rec.
  Lablewww.myspace.com/thedjilai► The Antiker - SarnarSchourt Rec. Lable
  ► Biospin…
URL:https://www.goabase.net/de/party/psychedelic-carnival-circus-10/77927
CATEGORIES:Psytrance Event
CLASS:PUBLIC
END:VEVENT

BEGIN:VEVENT
UID:183ef062eadbf0dda165e4bcd1518674
DTSTART:20131026T190000
DTEND:20131027T040000
LOCATION:Bozen [Italy]
GEO:46.498063200;11.354018400
DTSTAMP:20131026T190000Z
SUMMARY:PSYFACTORY - DIGITAL EXPERIENCE Vol. I
DESCRIPTION:Line-Up: TIMELESS****Live Progressive SOLARIS VIBE*****Live
  Progressive DUAL VISION***Live Pr…
URL:https://www.goabase.net/de/party/psyfactory-digital-experience-vol-i/75479
CATEGORIES:Psytrance Event
CLASS:PUBLIC
END:VEVENT

BEGIN:VEVENT
UID:c0d13e7c227435f8eba26e4d896ab282
DTSTART:20130511T190000
DTEND:20130512T030000
LOCATION:Bozen [Italy]
GEO:46.240809600;11.210409100
DTSTAMP:20130511T190000Z
SUMMARY:.::Alpine BoooooOOOooom::..       ☯ ☯ ☯ ☯ ☯ Part Two ☯ ☯ ☯ ☯ ☯
DESCRIPTION:Line-Up: PROGRESSIVE MAIN STAGE Live: *****EGORYTHMIA**** (2Hrs) (Iono
  Music) MK ****SIRION***** (YSE Recordings/…
URL:https://www.goabase.net/de/party/alpine-booooooooooom-part-two/73101
CATEGORIES:Psytrance Event
CLASS:PUBLIC
END:VEVENT

BEGIN:VEVENT
UID:98ed3621a55580c4fafca3b6ab7152fc
DTSTART:20121027T190000
DTEND:20121028T030000
LOCATION:Bolzano [Italy]
GEO:0.000000000;0.000000000
DTSTAMP:20121027T190000Z
SUMMARY:PSYFACTORY (PROTONICA live / iono rec.)
DESCRIPTION:Line-Up: PROGRESSIVE MAIN STAGE ::::: SPECIAL GUEST FROM GERMANY ::::
  PROTONICA (Iboga Rec.) - Berl…
URL:https://www.goabase.net/de/party/psyfactory-protonica-live-iono-rec/69042
CATEGORIES:Psytrance Event
CLASS:PUBLIC
END:VEVENT

END:VCALENDAR