BEGIN:VCALENDAR
VERSION:2.0
PRODID:goabase.net iCalendar 2026
X-WR-CALNAME:goabase.net - parties and people 
X-WR-TIMEZONE;VALUE=TEXT:Europe/Berlin
CALSCALE:GREGORIAN
BEGIN:VTIMEZONE
TZID:Europe/Berlin
X-LIC-LOCATION:Europe/Berlin
BEGIN:DAYLIGHT
TZOFFSETFROM:+0100
TZOFFSETTO:+0200
TZNAME:CEST
DTSTART:19700329T020000
RRULE:FREQ=YEARLY;INTERVAL=1;BYDAY=-1SU;BYMONTH=3
END:DAYLIGHT
BEGIN:STANDARD
TZOFFSETFROM:+0200
TZOFFSETTO:+0100
TZNAME:CET
DTSTART:19701025T030000
RRULE:FREQ=YEARLY;INTERVAL=1;BYDAY=-1SU;BYMONTH=10
END:STANDARD
END:VTIMEZONE

BEGIN:VEVENT
UID:8d1652ad767bf8128689b30bd2304d43
DTSTART:20190621T110000
DTEND:20190622T070000
LOCATION:Amsterdam [Netherlands]
GEO:52.402973200;4.914487800
DTSTAMP:20190621T110000Z
SUMMARY:Solstice Ruigoord
DESCRIPTION:Line-Up: ☼ Celebrate the Longest Day and Honor the Sunshine ☼ Early
  Birds tickets now online! Open air festival: 21 June from 11:…
URL:https://www.goabase.net/de/party/solstice-ruigoord/103764
CATEGORIES:Psytrance Event
CLASS:PUBLIC
END:VEVENT

BEGIN:VEVENT
UID:bbbcf054ace2123b24982f7c542c1426
DTSTART:20190420T230000
DTEND:20190421T070000
LOCATION:amsterdam [Netherlands]
GEO:52.402973200;4.914487800
DTSTAMP:20190420T230000Z
SUMMARY:Bom Voyage 420 special
DESCRIPTION:Line-Up: Get the 420 vibe at Radiate! We meet again at Radion in
  Amsterdam, this time hosting a Psytrance floor and a Dub & Live…
URL:https://www.goabase.net/de/party/bom-voyage-420-special/103300
CATEGORIES:Psytrance Event
CLASS:PUBLIC
END:VEVENT

END:VCALENDAR