BEGIN:VCALENDAR
VERSION:2.0
PRODID:goabase.net iCalendar 2026
X-WR-CALNAME:goabase.net - parties and people 
X-WR-TIMEZONE;VALUE=TEXT:Europe/Berlin
CALSCALE:GREGORIAN
BEGIN:VTIMEZONE
TZID:Europe/Berlin
X-LIC-LOCATION:Europe/Berlin
BEGIN:DAYLIGHT
TZOFFSETFROM:+0100
TZOFFSETTO:+0200
TZNAME:CEST
DTSTART:19700329T020000
RRULE:FREQ=YEARLY;INTERVAL=1;BYDAY=-1SU;BYMONTH=3
END:DAYLIGHT
BEGIN:STANDARD
TZOFFSETFROM:+0200
TZOFFSETTO:+0100
TZNAME:CET
DTSTART:19701025T030000
RRULE:FREQ=YEARLY;INTERVAL=1;BYDAY=-1SU;BYMONTH=10
END:STANDARD
END:VTIMEZONE

BEGIN:VEVENT
UID:a939dd5a747012b0fe8bc13fd02d8275
DTSTART:20170520T170000
DTEND:20170521T060000
LOCATION:Ibiza [Spain]
GEO:38.967693100;1.333559600
DTSTAMP:20170520T170000Z
SUMMARY:IhtiAnderson & Mind.Seeds : Visionarium Concept - Ibiza
DESCRIPTION:Line-Up: - . M U S I C . A C T S . - ▣ GOVINDA ▣ Believe Lab. ▣ DUST ▣
  Looney Moon Rec. ▣ PHOBOS ▣ Looney Moon Rec ▣ AZIBI ▣ I…
URL:https://www.goabase.net/de/party/ihtianderson-mindseeds-visionarium-concept-ibiza/94691
CATEGORIES:Psytrance Event
CLASS:PUBLIC
END:VEVENT

BEGIN:VEVENT
UID:608b784333b83095d336ea4c03f7ad09
DTSTART:20170325T190000
DTEND:20170326T060000
LOCATION:Ibiza [Spain]
GEO:39.012183900;1.485165100
DTSTAMP:20170325T190000Z
SUMMARY:Joinder - LaMuella Ibiza [ FraktalMoon Bday ]
DESCRIPTION:Line-Up: ▣ L I V E . A C T S ▣ ☆ Medusa Odyssey ☆ Live Concert - ☆
  Lunatica ☆ Live Set - ☆ Basslion / Treant ☆ Live Set - ▣ D…
URL:https://www.goabase.net/de/party/joinder-lamuella-ibiza-fraktalmoon-bday/93943
CATEGORIES:Psytrance Event
CLASS:PUBLIC
END:VEVENT

BEGIN:VEVENT
UID:7ab525d5fec21efd0287a46454b143ce
DTSTART:20161119T200000
DTEND:20161120T060000
LOCATION:Ibiza [Spain]
GEO:38.983525600;1.411939500
DTSTAMP:20161119T200000Z
SUMMARY:JOINDER
DESCRIPTION:Line-Up: - . L I V E . C O N C E R T . - ▲▼▲ AZIBI ▲▼▲ (21:30h) ▲▼▲
  HOT ICE ▲▼▲ (20:30h) ▲▼▲ LENNY IBIZARRE ▲▼▲ (22:30h) - . D…
URL:https://www.goabase.net/de/party/joinder/91841
CATEGORIES:Psytrance Event
CLASS:PUBLIC
END:VEVENT

BEGIN:VEVENT
UID:9ed5fff10f2c22c0d1ad5454fd8040a7
DTSTART:20160604T223000
DTEND:20160605T063000
LOCATION:Madrid [Spain]
GEO:40.416706100;-3.703582000
DTSTAMP:20160604T223000Z
SUMMARY:Mind Ritual
DESCRIPTION:Line-Up: - - - Psytrance & Proggy Stage - - - HYPATIA (live) Own
  Spirit Rec. & Mind Seeds - Ibiza - RHYTMIA Mind Seeds - Ibiza -…
URL:https://www.goabase.net/de/party/mind-ritual/89917
CATEGORIES:Psytrance Event
CLASS:PUBLIC
END:VEVENT

BEGIN:VEVENT
UID:d0adfd9451843b14d688429ac4de4917
DTSTART:20160507T200000
DTEND:20160508T060000
LOCATION:Ibiza [Spain]
GEO:38.983525600;1.411939500
DTSTAMP:20160507T200000Z
SUMMARY:▼ LOONEY TEMPLE ▼
DESCRIPTION:Line-Up: DUST Live! - LUNATICA Live! - OVERLOAD - HYPNOTIZER -
  OVERCLOUDS - FRAKTALMOON - HYPATIA & MR.SMILE - /
URL:https://www.goabase.net/de/party/looney-temple/89289
CATEGORIES:Psytrance Event
CLASS:PUBLIC
END:VEVENT

BEGIN:VEVENT
UID:e09da7342d8ffe1fb2355d46737e30dc
DTSTART:20160220T220000
DTEND:20160221T050000
LOCATION:Ibiza [Spain]
GEO:38.983525600;1.411939500
DTSTAMP:20160220T220000Z
SUMMARY:NATURAL EVOLUTION
DESCRIPTION:Line-Up: - ISRADELYK - - MR. SMILE - - HYPATIA Live - - FRAKTALMOON -
  - DR. AMOUR -
URL:https://www.goabase.net/de/party/natural-evolution/88322
CATEGORIES:Psytrance Event
CLASS:PUBLIC
END:VEVENT

BEGIN:VEVENT
UID:aad9b9e6aaacbdf93c4f6a594ae1a899
DTSTART:20151114T233000
DTEND:20151115T060000
LOCATION:Ibiza [Spain]
GEO:38.983525600;1.411939500
DTSTAMP:20151114T233000Z
SUMMARY:AMARASYA
DESCRIPTION:Line-Up: ★ SOLAR WAVES [ FR ] ★ - Namasté Rec. / Sting Records - ★
  REND3R [ VAL ] ★ - Yse Rec / Luminus Music) - ★ FRAKTALMOON […
URL:https://www.goabase.net/de/party/amarasya/87086
CATEGORIES:Psytrance Event
CLASS:PUBLIC
END:VEVENT

BEGIN:VEVENT
UID:94ed7c6b6f8652e071741029fe4e729e
DTSTART:20150912T230000
DTEND:20150913T200000
LOCATION:Ibiza [Spain]
GEO:38.983524300;1.411939000
DTSTAMP:20150912T230000Z
SUMMARY:AMARASYA - Special DOUBLE BASH Eddition!
DESCRIPTION:Line-Up: ___ROUND 1 !!____ROUND 2 !!___ ___+ JUGGLING live +____+
  HYPNOTIZE…
URL:https://www.goabase.net/de/party/amarasya-special-double-bash-eddition/86185
CATEGORIES:Psytrance Event
CLASS:PUBLIC
END:VEVENT

BEGIN:VEVENT
UID:eab880a36ddd687b4af842d0dcc45a7b
DTSTART:20150828T230000
DTEND:20150829T060000
LOCATION:Ibiza [Spain]
GEO:38.983524300;1.411939000
DTSTAMP:20150828T230000Z
SUMMARY:· ProgresSion : Next Level ·
DESCRIPTION:Line-Up: - MR SMILE - HYPATIA - ELECRONIC - - ISRADELYK - PMA -
URL:https://www.goabase.net/de/party/progression-next-level/86123
CATEGORIES:Psytrance Event
CLASS:PUBLIC
END:VEVENT

BEGIN:VEVENT
UID:5c6a7fffde79c45d85803909c5dfbeb4
DTSTART:20150808T233000
DTEND:20150809T060000
LOCATION:Ibiza [Spain]
GEO:38.983524300;1.411939000
DTSTAMP:20150808T233000Z
SUMMARY:• STARGATE VIBRATION • ProgresSion Special Edition
DESCRIPTION:Line-Up: - FRAKTALMOON B2B MR.SMILE - - HYPATIA B2B R - UFO - -
  HYPNOTIZER B2B OKABAYGUA - - ISRADELYK B2B PMA -
URL:https://www.goabase.net/de/party/stargate-vibration-progression-special-edition/85941
CATEGORIES:Psytrance Event
CLASS:PUBLIC
END:VEVENT

END:VCALENDAR