BEGIN:VCALENDAR
VERSION:2.0
PRODID:goabase.net iCalendar 2026
X-WR-CALNAME:goabase.net - parties and people 
X-WR-TIMEZONE;VALUE=TEXT:Europe/Berlin
CALSCALE:GREGORIAN
BEGIN:VTIMEZONE
TZID:Europe/Berlin
X-LIC-LOCATION:Europe/Berlin
BEGIN:DAYLIGHT
TZOFFSETFROM:+0100
TZOFFSETTO:+0200
TZNAME:CEST
DTSTART:19700329T020000
RRULE:FREQ=YEARLY;INTERVAL=1;BYDAY=-1SU;BYMONTH=3
END:DAYLIGHT
BEGIN:STANDARD
TZOFFSETFROM:+0200
TZOFFSETTO:+0100
TZNAME:CET
DTSTART:19701025T030000
RRULE:FREQ=YEARLY;INTERVAL=1;BYDAY=-1SU;BYMONTH=10
END:STANDARD
END:VTIMEZONE

BEGIN:VEVENT
UID:b525eecee2f2786fcee449ccd026167c
DTSTART:20090802T220000
DTEND:20090803T120000
LOCATION:Ibiza [Spain]
GEO:0.000000000;0.000000000
DTSTAMP:20090802T220000Z
SUMMARY:SPECTRAL REC. presents: TWISTED INSIGHT RELEASE PARTY
DESCRIPTION:Line-Up: AZAX SYNDROM (DRIVE REC)MENOG (SPECTRAL REC / 3D VISION
  REC)BRAIN HUNTERS (SPECTRAL REC / YABAI REC)
URL:https://www.goabase.net/de/party/spectral-rec-presents-twisted-insight-release-party/45043
CATEGORIES:Psytrance Event
CLASS:PUBLIC
END:VEVENT

BEGIN:VEVENT
UID:3730ad999fcc9bcde0a0c0bbf2cff112
DTSTART:20090801T100000
DTEND:20090801T220000
LOCATION:Ibiza [Spain]
GEO:0.000000000;0.000000000
DTSTAMP:20090801T100000Z
SUMMARY:Twisted Insight Zone (pre party of Twisted Insight)
DESCRIPTION:
URL:https://www.goabase.net/de/party/twisted-insight-zone-pre-party-of-twisted-insight/47686
CATEGORIES:Psytrance Event
CLASS:PUBLIC
END:VEVENT

BEGIN:VEVENT
UID:7843ea6f1f01df97eba190553f952711
DTSTART:20080906T220000
DTEND:20080907T120000
LOCATION:Ibiza [Spain]
GEO:0.000000000;0.000000000
DTSTAMP:20080906T220000Z
SUMMARY:.... TRANCEFORMES IBIZA .... 2008 !!!
DESCRIPTION:Line-Up: TO BE CONFIRMED !!! SOON ...
URL:https://www.goabase.net/de/party/tranceformes-ibiza-2008/35070
CATEGORIES:Psytrance Event
CLASS:PUBLIC
END:VEVENT

BEGIN:VEVENT
UID:9aabb341243ba2b769d4df51207cddf3
DTSTART:20070908T220000
DTEND:20070909T120000
LOCATION:Neverland [Spain]
GEO:0.000000000;0.000000000
DTSTAMP:20070908T220000Z
SUMMARY:@@@_TWISTED AGAIN_@@@
DESCRIPTION:
URL:https://www.goabase.net/de/party/twisted-again/33488
CATEGORIES:Psytrance Event
CLASS:PUBLIC
END:VEVENT

BEGIN:VEVENT
UID:8e0b74d9e6ec01b1af3acef3275974d8
DTSTART:20061111T023000
DTEND:20061111T070000
LOCATION:Madrid [Spain]
GEO:0.000000000;0.000000000
DTSTAMP:20061111T023000Z
SUMMARY:SELENIUM - BRASIL EN TRANCE
DESCRIPTION:
URL:https://www.goabase.net/de/party/selenium-brasil-en-trance/27686
CATEGORIES:Psytrance Event
CLASS:PUBLIC
END:VEVENT

END:VCALENDAR