BEGIN:VCALENDAR
VERSION:2.0
PRODID:goabase.net iCalendar 2026
X-WR-CALNAME:goabase.net - parties and people 
X-WR-TIMEZONE;VALUE=TEXT:Europe/Berlin
CALSCALE:GREGORIAN
BEGIN:VTIMEZONE
TZID:Europe/Berlin
X-LIC-LOCATION:Europe/Berlin
BEGIN:DAYLIGHT
TZOFFSETFROM:+0100
TZOFFSETTO:+0200
TZNAME:CEST
DTSTART:19700329T020000
RRULE:FREQ=YEARLY;INTERVAL=1;BYDAY=-1SU;BYMONTH=3
END:DAYLIGHT
BEGIN:STANDARD
TZOFFSETFROM:+0200
TZOFFSETTO:+0100
TZNAME:CET
DTSTART:19701025T030000
RRULE:FREQ=YEARLY;INTERVAL=1;BYDAY=-1SU;BYMONTH=10
END:STANDARD
END:VTIMEZONE

BEGIN:VEVENT
UID:bf12648605777be0ce325713158cdbc1
DTSTART:20150425T200000
DTEND:20150426T110000
LOCATION:Barcelona [Spain]
GEO:41.387020000;2.170044000
DTSTAMP:20150425T200000Z
SUMMARY:The Freak Show Present : Thirsty for Dark Emotions @ Barcelona
DESCRIPTION:Line-Up: For one night only and for FIRST time in Spain 2 special
  artists will arrive on 25 of April 2015 to take you to the next…
URL:https://www.goabase.net/de/party/the-freak-show-present-thirsty-for-dark-emotions-barcelona/83315
CATEGORIES:Psytrance Event
CLASS:PUBLIC
END:VEVENT

END:VCALENDAR