BEGIN:VCALENDAR
VERSION:2.0
PRODID:goabase.net iCalendar 2026
X-WR-CALNAME:goabase.net - parties and people 
X-WR-TIMEZONE;VALUE=TEXT:Europe/Berlin
CALSCALE:GREGORIAN
BEGIN:VTIMEZONE
TZID:Europe/Berlin
X-LIC-LOCATION:Europe/Berlin
BEGIN:DAYLIGHT
TZOFFSETFROM:+0100
TZOFFSETTO:+0200
TZNAME:CEST
DTSTART:19700329T020000
RRULE:FREQ=YEARLY;INTERVAL=1;BYDAY=-1SU;BYMONTH=3
END:DAYLIGHT
BEGIN:STANDARD
TZOFFSETFROM:+0200
TZOFFSETTO:+0100
TZNAME:CET
DTSTART:19701025T030000
RRULE:FREQ=YEARLY;INTERVAL=1;BYDAY=-1SU;BYMONTH=10
END:STANDARD
END:VTIMEZONE

BEGIN:VEVENT
UID:d34c0af5f2618671383a31f54af50f84
DTSTART:20130921T220000
DTEND:20130922T220000
LOCATION:Almeirim - Santarem- Portug… [Portugal]
GEO:39.187562900;-8.592492500
DTSTAMP:20130921T220000Z
SUMMARY:KALIKA - The magical Story Part 2
DESCRIPTION:Line-Up: LIVE ACT: ** PSYKOVSKY ** 6 Hours Live (Osom Music, Tantrumm
  Records) -&quot;Russia&quot; *** YARA *** (LycantropRec, B…
URL:https://www.goabase.net/de/party/kalika-the-magical-story-part-2/70320
CATEGORIES:Psytrance Event
CLASS:PUBLIC
END:VEVENT

BEGIN:VEVENT
UID:2d246074f2085b5d4c7674312fb769c0
DTSTART:20121124T213000
DTEND:20121125T103000
LOCATION:Furadouro - Ovar [Portugal]
GEO:0.000000000;0.000000000
DTSTAMP:20121124T213000Z
SUMMARY:Enchanted Ritual
DESCRIPTION:Line-Up: ** PSYKOVSKY ** - 6 hours live Act - (Osom Music, Tantrumm
  Records) - &quot;Russia&quot; ** Twisted Kala ** (Disco Vall…
URL:https://www.goabase.net/de/party/enchanted-ritual/68354
CATEGORIES:Psytrance Event
CLASS:PUBLIC
END:VEVENT

END:VCALENDAR