BEGIN:VCALENDAR
VERSION:2.0
PRODID:goabase.net iCalendar 2026
X-WR-CALNAME:goabase.net - parties and people 
X-WR-TIMEZONE;VALUE=TEXT:Europe/Berlin
CALSCALE:GREGORIAN
BEGIN:VTIMEZONE
TZID:Europe/Berlin
X-LIC-LOCATION:Europe/Berlin
BEGIN:DAYLIGHT
TZOFFSETFROM:+0100
TZOFFSETTO:+0200
TZNAME:CEST
DTSTART:19700329T020000
RRULE:FREQ=YEARLY;INTERVAL=1;BYDAY=-1SU;BYMONTH=3
END:DAYLIGHT
BEGIN:STANDARD
TZOFFSETFROM:+0200
TZOFFSETTO:+0100
TZNAME:CET
DTSTART:19701025T030000
RRULE:FREQ=YEARLY;INTERVAL=1;BYDAY=-1SU;BYMONTH=10
END:STANDARD
END:VTIMEZONE

BEGIN:VEVENT
UID:c40c3842f906d75524a23c2ba93947c5
DTSTART:20190406T220000
DTEND:20190407T140000
LOCATION:Buchs (SG) [Switzerland]
GEO:47.169949500;9.476453500
DTSTAMP:20190406T220000Z
SUMMARY:Chez Cosmos Festival
DESCRIPTION:Line-Up: Samstag 6 April /21:00 uhr. Cosmos 🕉Goa/psy/progi/ Floor Face
  Design/ Tesseractstudio Caemix/ Savva Rec.io Schallspender…
URL:https://www.goabase.net/de/party/chez-cosmos-festival/103125
CATEGORIES:Psytrance Event
CLASS:PUBLIC
END:VEVENT

END:VCALENDAR