BEGIN:VCALENDAR
VERSION:2.0
PRODID:goabase.net iCalendar 2026
X-WR-CALNAME:goabase.net - parties and people 
X-WR-TIMEZONE;VALUE=TEXT:Europe/Berlin
CALSCALE:GREGORIAN
BEGIN:VTIMEZONE
TZID:Europe/Berlin
X-LIC-LOCATION:Europe/Berlin
BEGIN:DAYLIGHT
TZOFFSETFROM:+0100
TZOFFSETTO:+0200
TZNAME:CEST
DTSTART:19700329T020000
RRULE:FREQ=YEARLY;INTERVAL=1;BYDAY=-1SU;BYMONTH=3
END:DAYLIGHT
BEGIN:STANDARD
TZOFFSETFROM:+0200
TZOFFSETTO:+0100
TZNAME:CET
DTSTART:19701025T030000
RRULE:FREQ=YEARLY;INTERVAL=1;BYDAY=-1SU;BYMONTH=10
END:STANDARD
END:VTIMEZONE

BEGIN:VEVENT
UID:b1fa2a946ea88a664bbfa8cec8b84ac0
DTSTART:20161029T210000
DTEND:20161030T110000
LOCATION:Wahlstedt [Germany]
GEO:53.948273700;10.198677400
DTSTAMP:20161029T210000Z
SUMMARY:Nordwind
DESCRIPTION:Line-Up: finest of progressive and psychedelic trance Live: Impulse
  (Germany) DJs: DJ ShaMane ( Germany-Headroom Prod.) Miste…
URL:https://www.goabase.net/de/party/nordwind/90562
CATEGORIES:Psytrance Event
CLASS:PUBLIC
END:VEVENT

BEGIN:VEVENT
UID:2f3836a551ab6fc04762587baa8f1914
DTSTART:20130419T220000
DTEND:20130420T100000
LOCATION:Gadebusch [Germany]
GEO:53.706215829;11.121127733
DTSTAMP:20130419T220000Z
SUMMARY:Mundos Reales
DESCRIPTION:Line-Up: HOOGSHAGENII (Plusquam REC./Switzerland) - CONNEXX (PROG ON
  SYNDICATE / RÜGEN) DANSKO (MULTIPLEX RECORDS) BASSINSE…
URL:https://www.goabase.net/de/party/mundos-reales/71134
CATEGORIES:Psytrance Event
CLASS:PUBLIC
END:VEVENT

BEGIN:VEVENT
UID:65bf7b8d2c5a13de9209469400dfdb6d
DTSTART:20041218T220000
DTEND:20041219T050000
LOCATION:Hollywood, FL [United States]
GEO:0.000000000;0.000000000
DTSTAMP:20041218T220000Z
SUMMARY:Alien Rebellion
DESCRIPTION:
URL:https://www.goabase.net/de/party/alien-rebellion/16348
CATEGORIES:Psytrance Event
CLASS:PUBLIC
END:VEVENT

BEGIN:VEVENT
UID:306fba090789772b6ac72ccee40e5229
DTSTART:20010922T230000
DTEND:20010923T120000
LOCATION:Paris [France]
GEO:0.000000000;0.000000000
DTSTAMP:20010922T230000Z
SUMMARY:Elephants OM III
DESCRIPTION:Line-Up: HUX FLUX
URL:https://www.goabase.net/de/party/elephants-om-iii/6463
CATEGORIES:Psytrance Event
CLASS:PUBLIC
END:VEVENT

END:VCALENDAR