BEGIN:VCALENDAR
VERSION:2.0
PRODID:goabase.net iCalendar 2026
X-WR-CALNAME:goabase.net - parties and people 
X-WR-TIMEZONE;VALUE=TEXT:Europe/Berlin
CALSCALE:GREGORIAN
BEGIN:VTIMEZONE
TZID:Europe/Berlin
X-LIC-LOCATION:Europe/Berlin
BEGIN:DAYLIGHT
TZOFFSETFROM:+0100
TZOFFSETTO:+0200
TZNAME:CEST
DTSTART:19700329T020000
RRULE:FREQ=YEARLY;INTERVAL=1;BYDAY=-1SU;BYMONTH=3
END:DAYLIGHT
BEGIN:STANDARD
TZOFFSETFROM:+0200
TZOFFSETTO:+0100
TZNAME:CET
DTSTART:19701025T030000
RRULE:FREQ=YEARLY;INTERVAL=1;BYDAY=-1SU;BYMONTH=10
END:STANDARD
END:VTIMEZONE

BEGIN:VEVENT
UID:0730cd4bbce0e3911de6faa8500e9eb8
DTSTART:20070428T070000
DTEND:20070428T170000
LOCATION:Vindobona [Austria]
GEO:0.000000000;0.000000000
DTSTAMP:20070428T070000Z
SUMMARY:*KRYPTOS TRIBE*REPRESENT*THE TWILIGHT*AFTERPARTY*
DESCRIPTION:
URL:https://www.goabase.net/de/party/kryptos-triberepresentthe-twilightafterparty/31269
CATEGORIES:Psytrance Event
CLASS:PUBLIC
END:VEVENT

BEGIN:VEVENT
UID:64920c61b40d04f9330386f1330a452e
DTSTART:20070401T070000
DTEND:20070401T200000
LOCATION:Wien [Austria]
GEO:0.000000000;0.000000000
DTSTAMP:20070401T070000Z
SUMMARY:*kRYpToS tRibE* "The Go(A)fterhour"
DESCRIPTION:
URL:https://www.goabase.net/de/party/kryptos-tribe-the-goafterhour/30695
CATEGORIES:Psytrance Event
CLASS:PUBLIC
END:VEVENT

BEGIN:VEVENT
UID:90b45baaeb18cf76abbf7a04ddf6e69e
DTSTART:20070325T070000
DTEND:20070325T200000
LOCATION:Wien [Austria]
GEO:0.000000000;0.000000000
DTSTAMP:20070325T070000Z
SUMMARY:*kRYpToS tRibE* "The Go(A)fterhour"
DESCRIPTION:
URL:https://www.goabase.net/de/party/kryptos-tribe-the-goafterhour/30694
CATEGORIES:Psytrance Event
CLASS:PUBLIC
END:VEVENT

BEGIN:VEVENT
UID:a9e5ddb48bdd5baa1c17573c23cef19a
DTSTART:20070318T063000
DTEND:20070318T200000
LOCATION:Wien [Austria]
GEO:0.000000000;0.000000000
DTSTAMP:20070318T063000Z
SUMMARY:*aBsOLuT's* BIRTHDAY* Party* @ THE GO(A)FTERHOUR
DESCRIPTION:
URL:https://www.goabase.net/de/party/absoluts-birthday-party-the-goafterhour/30439
CATEGORIES:Psytrance Event
CLASS:PUBLIC
END:VEVENT

BEGIN:VEVENT
UID:b7d47aa0b5bac1bea18c0aca1d11d44e
DTSTART:20070311T090000
DTEND:20070311T200000
LOCATION:Wien [Austria]
GEO:0.000000000;0.000000000
DTSTAMP:20070311T090000Z
SUMMARY:*kRYpToS tRibE*  "The Go(A)fterhour"  (*special*progressiv*)
DESCRIPTION:
URL:https://www.goabase.net/de/party/kryptos-tribe-the-goafterhour-specialprogressiv/29753
CATEGORIES:Psytrance Event
CLASS:PUBLIC
END:VEVENT

BEGIN:VEVENT
UID:757cffe3bf045129ea9573283c486460
DTSTART:20070304T063000
DTEND:20070304T200000
LOCATION:Wien [Austria]
GEO:0.000000000;0.000000000
DTSTAMP:20070304T063000Z
SUMMARY:The Blubbb- Go(A)fterhour is Represented by *kRYpToS tRibE*
DESCRIPTION:
URL:https://www.goabase.net/de/party/the-blubbb-goafterhour-is-represented-by-kryptos-tribe/30366
CATEGORIES:Psytrance Event
CLASS:PUBLIC
END:VEVENT

BEGIN:VEVENT
UID:ea76fade5155b60f30a8e21f85b7bcb1
DTSTART:20070225T063000
DTEND:20070225T200000
LOCATION:Wien [Austria]
GEO:0.000000000;0.000000000
DTSTAMP:20070225T063000Z
SUMMARY:*kRYpToS tRibE* "TheGo(A)fterhour"(special*dark&psy*session)
DESCRIPTION:
URL:https://www.goabase.net/de/party/kryptos-tribe-thegoafterhourspecialdarkpsysession/29751
CATEGORIES:Psytrance Event
CLASS:PUBLIC
END:VEVENT

BEGIN:VEVENT
UID:24bac441417497dc8dfdc52d6a130d44
DTSTART:20070218T063000
DTEND:20070218T200000
LOCATION:Wien [Austria]
GEO:0.000000000;0.000000000
DTSTAMP:20070218T063000Z
SUMMARY:*kRYpToS tRibE* " The Go(A)fterhour"
DESCRIPTION:
URL:https://www.goabase.net/de/party/kryptos-tribe-the-goafterhour/29752
CATEGORIES:Psytrance Event
CLASS:PUBLIC
END:VEVENT

BEGIN:VEVENT
UID:706f2c5cc4bb96a664c5e9d1ba18a760
DTSTART:20070211T063000
DTEND:20070211T200000
LOCATION:Wien [Austria]
GEO:0.000000000;0.000000000
DTSTAMP:20070211T063000Z
SUMMARY:Drops Reflection-Afterhour is Represented  by*kRYpTos tRibE*
DESCRIPTION:
URL:https://www.goabase.net/de/party/drops-reflection-afterhour-is-represented-bykryptos-tribe/29750
CATEGORIES:Psytrance Event
CLASS:PUBLIC
END:VEVENT

BEGIN:VEVENT
UID:69fc23c073e794016eee16de3ffbc7e4
DTSTART:20070204T063000
DTEND:20070204T200000
LOCATION:Wien [Austria]
GEO:0.000000000;0.000000000
DTSTAMP:20070204T063000Z
SUMMARY:*kRYpToS tRibE* presents :"The Go(A)fterhour"
DESCRIPTION:
URL:https://www.goabase.net/de/party/kryptos-tribe-presents-the-goafterhour/29741
CATEGORIES:Psytrance Event
CLASS:PUBLIC
END:VEVENT

BEGIN:VEVENT
UID:c81ac8a072274f1599f8076dd092c671
DTSTART:20051126T170000
DTEND:20051127T080000
LOCATION:Bratislava [Austria]
GEO:0.000000000;0.000000000
DTSTAMP:20051126T170000Z
SUMMARY:***BORN TO BE PSY***
DESCRIPTION:
URL:https://www.goabase.net/de/party/born-to-be-psy/21276
CATEGORIES:Psytrance Event
CLASS:PUBLIC
END:VEVENT

END:VCALENDAR