BEGIN:VCALENDAR
VERSION:2.0
PRODID:goabase.net iCalendar 2026
X-WR-CALNAME:goabase.net - parties and people 
X-WR-TIMEZONE;VALUE=TEXT:Europe/Berlin
CALSCALE:GREGORIAN
BEGIN:VTIMEZONE
TZID:Europe/Berlin
X-LIC-LOCATION:Europe/Berlin
BEGIN:DAYLIGHT
TZOFFSETFROM:+0100
TZOFFSETTO:+0200
TZNAME:CEST
DTSTART:19700329T020000
RRULE:FREQ=YEARLY;INTERVAL=1;BYDAY=-1SU;BYMONTH=3
END:DAYLIGHT
BEGIN:STANDARD
TZOFFSETFROM:+0200
TZOFFSETTO:+0100
TZNAME:CET
DTSTART:19701025T030000
RRULE:FREQ=YEARLY;INTERVAL=1;BYDAY=-1SU;BYMONTH=10
END:STANDARD
END:VTIMEZONE

BEGIN:VEVENT
UID:232065df2d82fb7d14299b309235fcd7
DTSTART:20090529T233000
DTEND:20090531T180000
LOCATION:Viana do Castelo [Portugal]
GEO:0.000000000;0.000000000
DTSTAMP:20090529T233000Z
SUMMARY:FESTA CANCELADA - Convento de Sanfins - Valença
DESCRIPTION:Line-Up: Khaos Sektor (Anomalistic rec / H.S.S / D.A.R.K / Urban
  Antidote / Quest4Goa) Divine Stones (Urban Antidote) Poison (Tim…
URL:https://www.goabase.net/de/festival/festa-cancelada-convento-de-sanfins-valenca/44501
CATEGORIES:Psytrance Event
CLASS:PUBLIC
END:VEVENT

BEGIN:VEVENT
UID:af687af8893cab0a6c8e2365cf1247fc
DTSTART:20081115T220000
DTEND:20081116T200000
LOCATION:Sky bar. Vila Nova de Cerve… [Portugal]
GEO:0.000000000;0.000000000
DTSTAMP:20081115T220000Z
SUMMARY:Ashram.prod & Refused Agency           LOCAL ALTERADO
DESCRIPTION:Line-Up: K_lapso (Black Magic Records / Fungi Records /Refused Agency)
  Sinful Reactions (Noize Conspiracy Records / Vision Record…
URL:https://www.goabase.net/de/party/ashramprod-refused-agency-local-alterado/42135
CATEGORIES:Psytrance Event
CLASS:PUBLIC
END:VEVENT

BEGIN:VEVENT
UID:aff9b9e62a6de28993ab54510f26631a
DTSTART:20080919T233000
DTEND:20080921T233000
LOCATION:Valença - Boivão -Minho [Portugal]
GEO:0.000000000;0.000000000
DTSTAMP:20080919T233000Z
SUMMARY:THIS IS NOT A KID´S PARTY - Boivão - Valença
DESCRIPTION:Line-Up: Khaos Sektor (Black Magik Rec / Evil Knivel Rec) LAB (En Sof
  / No Comment Records) Hyldhegan ( Black Magik records / Ref…
URL:https://www.goabase.net/de/festival/this-is-not-a-kids-party-boivao-valenca/40529
CATEGORIES:Psytrance Event
CLASS:PUBLIC
END:VEVENT

BEGIN:VEVENT
UID:fe2465ce93ebd9a4140f7969c017639a
DTSTART:20060318T233000
DTEND:20060319T120000
LOCATION:joane_ famalicao [Portugal]
GEO:0.000000000;0.000000000
DTSTAMP:20060318T233000Z
SUMMARY:WINTER MAGICAL FOREST
DESCRIPTION:
URL:https://www.goabase.net/de/party/winter-magical-forest/23545
CATEGORIES:Psytrance Event
CLASS:PUBLIC
END:VEVENT

BEGIN:VEVENT
UID:3de24e97e150a4f4534b44f5726549d8
DTSTART:20051209T220000
DTEND:20051210T030000
LOCATION:caminha-viana do castelo [Portugal]
GEO:0.000000000;0.000000000
DTSTAMP:20051209T220000Z
SUMMARY:baía bar_caminha
DESCRIPTION:
URL:https://www.goabase.net/de/party/baia-barcaminha/21675
CATEGORIES:Psytrance Event
CLASS:PUBLIC
END:VEVENT

END:VCALENDAR